Back to Multiple platform build/check report for BioC 3.20: simplified long |
|
This page was generated on 2024-06-15 12:34 -0400 (Sat, 15 Jun 2024).
Hostname | OS | Arch (*) | R version | Installed pkgs |
---|---|---|---|---|
nebbiolo2 | Linux (Ubuntu 22.04.3 LTS) | x86_64 | 4.4.0 RC (2024-04-16 r86468) -- "Puppy Cup" | 4685 |
lconway | macOS 12.7.1 Monterey | x86_64 | 4.4.1 RC (2024-06-06 r86719) -- "Race for Your Life" | 4400 |
kjohnson3 | macOS 13.6.5 Ventura | arm64 | 4.4.1 RC (2024-06-06 r86719) -- "Race for Your Life" | 4349 |
Click on any hostname to see more info about the system (e.g. compilers) (*) as reported by 'uname -p', except on Windows and Mac OS X |
Package 1900/2242 | Hostname | OS / Arch | INSTALL | BUILD | CHECK | BUILD BIN | ||||||||
sesame 1.23.6 (landing page) Wanding Zhou
| nebbiolo2 | Linux (Ubuntu 22.04.3 LTS) / x86_64 | OK | OK | OK | |||||||||
lconway | macOS 12.7.1 Monterey / x86_64 | OK | OK | OK | OK | |||||||||
kjohnson3 | macOS 13.6.5 Ventura / arm64 | OK | OK | OK | OK | |||||||||
To the developers/maintainers of the sesame package: - Allow up to 24 hours (and sometimes 48 hours) for your latest push to git@git.bioconductor.org:packages/sesame.git to reflect on this report. See Troubleshooting Build Report for more information. - Use the following Renviron settings to reproduce errors and warnings. - If 'R CMD check' started to fail recently on the Linux builder(s) over a missing dependency, add the missing dependency to 'Suggests:' in your DESCRIPTION file. See Renviron.bioc for more information. |
Package: sesame |
Version: 1.23.6 |
Command: /home/biocbuild/bbs-3.20-bioc/R/bin/R CMD check --install=check:sesame.install-out.txt --library=/home/biocbuild/bbs-3.20-bioc/R/site-library --timings sesame_1.23.6.tar.gz |
StartedAt: 2024-06-15 03:28:29 -0400 (Sat, 15 Jun 2024) |
EndedAt: 2024-06-15 03:49:52 -0400 (Sat, 15 Jun 2024) |
EllapsedTime: 1283.4 seconds |
RetCode: 0 |
Status: OK |
CheckDir: sesame.Rcheck |
Warnings: 0 |
############################################################################## ############################################################################## ### ### Running command: ### ### /home/biocbuild/bbs-3.20-bioc/R/bin/R CMD check --install=check:sesame.install-out.txt --library=/home/biocbuild/bbs-3.20-bioc/R/site-library --timings sesame_1.23.6.tar.gz ### ############################################################################## ############################################################################## * using log directory ‘/home/biocbuild/bbs-3.20-bioc/meat/sesame.Rcheck’ * using R version 4.4.0 RC (2024-04-16 r86468) * using platform: x86_64-pc-linux-gnu * R was compiled by gcc (Ubuntu 11.4.0-1ubuntu1~22.04) 11.4.0 GNU Fortran (Ubuntu 11.4.0-1ubuntu1~22.04) 11.4.0 * running under: Ubuntu 22.04.4 LTS * using session charset: UTF-8 * checking for file ‘sesame/DESCRIPTION’ ... OK * checking extension type ... Package * this is package ‘sesame’ version ‘1.23.6’ * package encoding: UTF-8 * checking package namespace information ... OK * checking package dependencies ... OK * checking if this is a source package ... OK * checking if there is a namespace ... OK * checking for hidden files and directories ... OK * checking for portable file names ... OK * checking for sufficient/correct file permissions ... OK * checking whether package ‘sesame’ can be installed ... OK * checking installed package size ... OK * checking package directory ... OK * checking ‘build’ directory ... OK * checking DESCRIPTION meta-information ... OK * checking top-level files ... OK * checking for left-over files ... OK * checking index information ... OK * checking package subdirectories ... OK * checking code files for non-ASCII characters ... OK * checking R files for syntax errors ... OK * checking whether the package can be loaded ... OK * checking whether the package can be loaded with stated dependencies ... OK * checking whether the package can be unloaded cleanly ... OK * checking whether the namespace can be loaded with stated dependencies ... OK * checking whether the namespace can be unloaded cleanly ... OK * checking loading without being on the library search path ... OK * checking whether startup messages can be suppressed ... OK * checking dependencies in R code ... OK * checking S3 generic/method consistency ... OK * checking replacement functions ... OK * checking foreign function calls ... OK * checking R code for possible problems ... OK * checking Rd files ... OK * checking Rd metadata ... OK * checking Rd cross-references ... OK * checking for missing documentation entries ... OK * checking for code/documentation mismatches ... OK * checking Rd \usage sections ... OK * checking Rd contents ... OK * checking for unstated dependencies in examples ... OK * checking files in ‘vignettes’ ... OK * checking examples ... OK Examples with CPU (user + system) or elapsed time > 5s user system elapsed testEnrichmentGene 38.518 0.876 41.298 imputeBetasByGenomicNeighbors 31.715 0.747 32.936 KYCG_plotMeta 23.590 0.441 24.510 inferSex 21.226 0.192 21.735 sesameQC_calcStats 19.893 0.488 20.539 KYCG_plotEnrichAll 19.040 0.631 20.779 imputeBetas 17.346 0.344 18.365 sesameQC_plotHeatSNPs 16.980 0.340 17.478 ELBAR 16.035 0.472 16.665 inferSpecies 14.925 0.752 16.157 KYCG_annoProbes 14.713 0.560 15.747 diffRefSet 13.339 0.275 13.931 KYCG_plotMetaEnrichment 12.044 0.231 12.747 sesameQC_plotBar 11.345 0.288 11.950 matchDesign 11.285 0.244 11.687 KYCG_buildGeneDBs 11.059 0.332 11.708 testEnrichmentSEA 11.039 0.220 11.737 compareMouseStrainReference 10.944 0.136 11.399 getRefSet 10.353 0.220 10.926 compareReference 10.372 0.164 10.852 sesameQC_plotBetaByDesign 9.445 0.260 9.706 visualizeGene 9.180 0.252 9.910 DMR 8.623 0.372 9.356 sdf_read_table 8.622 0.268 9.212 estimateLeukocyte 8.307 0.180 8.803 inferStrain 6.993 0.360 7.670 DML 6.877 0.456 7.690 getMask 6.493 0.144 7.309 inferTissue 6.179 0.168 6.662 dyeBiasCorrMostBalanced 6.195 0.132 6.647 dbStats 6.106 0.208 6.630 dyeBiasNL 6.062 0.092 6.314 KYCG_plotSetEnrichment 5.845 0.068 6.270 openSesame 5.306 0.556 6.082 createUCSCtrack 5.599 0.116 6.032 probeSuccessRate 5.315 0.215 6.000 testEnrichment 5.339 0.108 5.918 deidentify 5.291 0.048 5.657 * checking for unstated dependencies in ‘tests’ ... OK * checking tests ... Running ‘testthat.R’ OK * checking for unstated dependencies in vignettes ... OK * checking package vignettes ... OK * checking re-building of vignette outputs ... OK * checking PDF version of manual ... OK * DONE Status: OK
sesame.Rcheck/00install.out
############################################################################## ############################################################################## ### ### Running command: ### ### /home/biocbuild/bbs-3.20-bioc/R/bin/R CMD INSTALL sesame ### ############################################################################## ############################################################################## * installing to library ‘/home/biocbuild/bbs-3.20-bioc/R/site-library’ * installing *source* package ‘sesame’ ... ** using staged installation ** R ** inst ** byte-compile and prepare package for lazy loading ** help *** installing help indices ** building package indices ** installing vignettes ** testing if installed package can be loaded from temporary location ** testing if installed package can be loaded from final location ** testing if installed package keeps a record of temporary installation path * DONE (sesame)
sesame.Rcheck/tests/testthat.Rout
R version 4.4.0 RC (2024-04-16 r86468) -- "Puppy Cup" Copyright (C) 2024 The R Foundation for Statistical Computing Platform: x86_64-pc-linux-gnu R is free software and comes with ABSOLUTELY NO WARRANTY. You are welcome to redistribute it under certain conditions. Type 'license()' or 'licence()' for distribution details. R is a collaborative project with many contributors. Type 'contributors()' for more information and 'citation()' on how to cite R or R packages in publications. Type 'demo()' for some demos, 'help()' for on-line help, or 'help.start()' for an HTML browser interface to help. Type 'q()' to quit R. > library(testthat) > library(sesame) Loading required package: sesameData Loading required package: ExperimentHub Loading required package: BiocGenerics Attaching package: 'BiocGenerics' The following objects are masked from 'package:stats': IQR, mad, sd, var, xtabs The following objects are masked from 'package:base': Filter, Find, Map, Position, Reduce, anyDuplicated, aperm, append, as.data.frame, basename, cbind, colnames, dirname, do.call, duplicated, eval, evalq, get, grep, grepl, intersect, is.unsorted, lapply, mapply, match, mget, order, paste, pmax, pmax.int, pmin, pmin.int, rank, rbind, rownames, sapply, setdiff, table, tapply, union, unique, unsplit, which.max, which.min Loading required package: AnnotationHub Loading required package: BiocFileCache Loading required package: dbplyr Loading sesameData. ---------------------------------------------------------- | SEnsible Step-wise Analysis of DNA MEthylation (SeSAMe) | -------------------------------------------------------- | Please cache auxiliary data by "sesameDataCache()". | This needs to be done only once per SeSAMe installation. ---------------------------------------------------------- > > test_check("sesame") [ FAIL 0 | WARN 0 | SKIP 0 | PASS 5 ] > > proc.time() user system elapsed 17.906 1.478 19.689
sesame.Rcheck/sesame-Ex.timings
name | user | system | elapsed | |
BetaValueToMValue | 0 | 0 | 0 | |
DML | 6.877 | 0.456 | 7.690 | |
DMLpredict | 1.489 | 0.091 | 1.778 | |
DMR | 8.623 | 0.372 | 9.356 | |
ELBAR | 16.035 | 0.472 | 16.665 | |
KYCG_annoProbes | 14.713 | 0.560 | 15.747 | |
KYCG_buildGeneDBs | 11.059 | 0.332 | 11.708 | |
KYCG_getDBs | 3.102 | 0.100 | 3.523 | |
KYCG_listDBGroups | 0.027 | 0.008 | 0.034 | |
KYCG_loadDBs | 0 | 0 | 0 | |
KYCG_plotBar | 0.496 | 0.024 | 0.521 | |
KYCG_plotDot | 0.304 | 0.000 | 0.304 | |
KYCG_plotEnrichAll | 19.040 | 0.631 | 20.779 | |
KYCG_plotLollipop | 0.156 | 0.000 | 0.156 | |
KYCG_plotManhattan | 1.572 | 0.035 | 1.608 | |
KYCG_plotMeta | 23.590 | 0.441 | 24.510 | |
KYCG_plotMetaEnrichment | 12.044 | 0.231 | 12.747 | |
KYCG_plotPointRange | 2.475 | 0.056 | 2.697 | |
KYCG_plotSetEnrichment | 5.845 | 0.068 | 6.270 | |
KYCG_plotVolcano | 0.136 | 0.000 | 0.137 | |
KYCG_plotWaterfall | 2.727 | 0.092 | 3.015 | |
MValueToBetaValue | 0.001 | 0.000 | 0.000 | |
SigDF | 0.376 | 0.016 | 0.550 | |
addMask | 0.084 | 0.000 | 0.085 | |
aggregateTestEnrichments | 2.151 | 0.020 | 2.170 | |
betasCollapseToPfx | 0.013 | 0.004 | 0.016 | |
bisConversionControl | 4.546 | 0.047 | 4.952 | |
calcEffectSize | 1.288 | 0.020 | 1.468 | |
checkLevels | 3.168 | 0.149 | 3.473 | |
cnSegmentation | 0.336 | 0.020 | 0.413 | |
compareMouseStrainReference | 10.944 | 0.136 | 11.399 | |
compareMouseTissueReference | 0 | 0 | 0 | |
compareReference | 10.372 | 0.164 | 10.852 | |
controls | 2.039 | 0.060 | 2.417 | |
createUCSCtrack | 5.599 | 0.116 | 6.032 | |
dbStats | 6.106 | 0.208 | 6.630 | |
deidentify | 5.291 | 0.048 | 5.657 | |
detectionPnegEcdf | 2.752 | 0.060 | 2.970 | |
diffRefSet | 13.339 | 0.275 | 13.931 | |
dmContrasts | 2.215 | 0.060 | 2.444 | |
dyeBiasCorr | 2.822 | 0.044 | 3.181 | |
dyeBiasCorrMostBalanced | 6.195 | 0.132 | 6.647 | |
dyeBiasL | 2.943 | 0.072 | 3.172 | |
dyeBiasNL | 6.062 | 0.092 | 6.314 | |
estimateLeukocyte | 8.307 | 0.180 | 8.803 | |
formatVCF | 2.075 | 0.044 | 2.435 | |
getAFTypeIbySumAlleles | 1.732 | 0.048 | 2.094 | |
getAFs | 1.126 | 0.044 | 1.328 | |
getBetas | 0.897 | 0.024 | 1.077 | |
getMask | 6.493 | 0.144 | 7.309 | |
getRefSet | 10.353 | 0.220 | 10.926 | |
imputeBetas | 17.346 | 0.344 | 18.365 | |
imputeBetasByGenomicNeighbors | 31.715 | 0.747 | 32.936 | |
imputeBetasMatrixByMean | 0.002 | 0.000 | 0.002 | |
inferEthnicity | 0.001 | 0.000 | 0.001 | |
inferInfiniumIChannel | 0.278 | 0.124 | 0.403 | |
inferSex | 21.226 | 0.192 | 21.735 | |
inferSpecies | 14.925 | 0.752 | 16.157 | |
inferStrain | 6.993 | 0.360 | 7.670 | |
inferTissue | 6.179 | 0.168 | 6.662 | |
initFileSet | 1.239 | 0.012 | 1.408 | |
listAvailableMasks | 1.362 | 0.020 | 1.539 | |
mLiftOver | 0.001 | 0.000 | 0.000 | |
mapFileSet | 0.033 | 0.000 | 0.033 | |
mapToMammal40 | 2.707 | 0.084 | 3.104 | |
matchDesign | 11.285 | 0.244 | 11.687 | |
meanIntensity | 2.765 | 0.076 | 3.156 | |
medianTotalIntensity | 0.847 | 0.020 | 1.027 | |
noMasked | 3.463 | 0.123 | 3.901 | |
noob | 2.072 | 0.096 | 2.168 | |
openSesame | 5.306 | 0.556 | 6.082 | |
openSesameToFile | 1.486 | 0.120 | 1.605 | |
pOOBAH | 1.263 | 0.068 | 1.331 | |
palgen | 0.041 | 0.015 | 0.058 | |
parseGEOsignalMU | 3.164 | 0.275 | 3.605 | |
predictAge | 2.361 | 0.128 | 2.645 | |
predictAgeHorvath353 | 0 | 0 | 0 | |
predictAgeSkinBlood | 0.001 | 0.000 | 0.000 | |
predictMouseAgeInMonth | 0 | 0 | 0 | |
prefixMask | 0.43 | 0.00 | 0.43 | |
prefixMaskButC | 0.106 | 0.000 | 0.106 | |
prefixMaskButCG | 0.037 | 0.000 | 0.037 | |
prepSesame | 3.961 | 0.308 | 4.427 | |
prepSesameList | 0.001 | 0.001 | 0.001 | |
print.DMLSummary | 3.218 | 0.299 | 3.832 | |
print.fileSet | 1.285 | 0.052 | 1.498 | |
probeID_designType | 0 | 0 | 0 | |
probeSuccessRate | 5.315 | 0.215 | 6.000 | |
qualityMask | 2.343 | 0.156 | 2.714 | |
reIdentify | 4.169 | 0.184 | 4.510 | |
readFileSet | 0.046 | 0.008 | 0.054 | |
readIDATpair | 0.110 | 0.012 | 0.122 | |
recommendedMaskNames | 0 | 0 | 0 | |
resetMask | 0.443 | 0.028 | 0.629 | |
scrub | 2.453 | 0.244 | 2.697 | |
scrubSoft | 3.260 | 0.176 | 3.437 | |
sdfPlatform | 0.375 | 0.028 | 0.560 | |
sdf_read_table | 8.622 | 0.268 | 9.212 | |
sdf_write_table | 2.712 | 0.100 | 3.088 | |
searchIDATprefixes | 0.006 | 0.000 | 0.006 | |
sesame-package | 2.565 | 0.136 | 2.860 | |
sesameAnno_buildAddressFile | 0 | 0 | 0 | |
sesameAnno_buildManifestGRanges | 0.001 | 0.000 | 0.000 | |
sesameAnno_download | 0 | 0 | 0 | |
sesameAnno_get | 0.001 | 0.000 | 0.000 | |
sesameAnno_readManifestTSV | 0 | 0 | 0 | |
sesameData_getAnno | 0.001 | 0.000 | 0.000 | |
sesameQC_calcStats | 19.893 | 0.488 | 20.539 | |
sesameQC_getStats | 1.677 | 0.016 | 1.693 | |
sesameQC_plotBar | 11.345 | 0.288 | 11.950 | |
sesameQC_plotBetaByDesign | 9.445 | 0.260 | 9.706 | |
sesameQC_plotHeatSNPs | 16.980 | 0.340 | 17.478 | |
sesameQC_plotIntensVsBetas | 1.971 | 0.056 | 2.183 | |
sesameQC_plotRedGrnQQ | 1.898 | 0.032 | 2.087 | |
sesameQC_rankStats | 3.454 | 0.112 | 3.886 | |
sesameQCtoDF | 1.769 | 0.008 | 1.778 | |
sesame_checkVersion | 0.004 | 0.000 | 0.003 | |
sesamize | 0 | 0 | 0 | |
setMask | 0.093 | 0.000 | 0.093 | |
signalMU | 0.812 | 0.036 | 1.006 | |
sliceFileSet | 0.034 | 0.000 | 0.034 | |
summaryExtractTest | 3.040 | 0.148 | 3.508 | |
testEnrichment | 5.339 | 0.108 | 5.918 | |
testEnrichmentGene | 38.518 | 0.876 | 41.298 | |
testEnrichmentSEA | 11.039 | 0.220 | 11.737 | |
totalIntensities | 2.986 | 0.099 | 3.400 | |
updateSigDF | 3.131 | 0.120 | 3.566 | |
visualizeGene | 9.180 | 0.252 | 9.910 | |
visualizeProbes | 1.549 | 0.036 | 1.586 | |
visualizeRegion | 0.311 | 0.012 | 0.323 | |
visualizeSegments | 1.756 | 0.056 | 1.970 | |