Back to Multiple platform build/check report for BioC 3.20: simplified long |
|
This page was generated on 2024-07-04 11:40 -0400 (Thu, 04 Jul 2024).
Hostname | OS | Arch (*) | R version | Installed pkgs |
---|---|---|---|---|
nebbiolo2 | Linux (Ubuntu 22.04.3 LTS) | x86_64 | 4.4.1 (2024-06-14) -- "Race for Your Life" | 4411 |
palomino6 | Windows Server 2022 Datacenter | x64 | 4.4.1 (2024-06-14 ucrt) -- "Race for Your Life" | 4413 |
lconway | macOS 12.7.1 Monterey | x86_64 | 4.4.1 (2024-06-14) -- "Race for Your Life" | 4395 |
kjohnson3 | macOS 13.6.5 Ventura | arm64 | 4.4.1 (2024-06-14) -- "Race for Your Life" | 4390 |
kunpeng2 | Linux (openEuler 22.03 LTS-SP1) | aarch64 | 4.4.0 (2024-04-24) -- "Puppy Cup" | 4407 |
Click on any hostname to see more info about the system (e.g. compilers) (*) as reported by 'uname -p', except on Windows and Mac OS X |
Package 1265/2243 | Hostname | OS / Arch | INSTALL | BUILD | CHECK | BUILD BIN | ||||||||
mixOmics 6.29.0 (landing page) Max Bladen
| nebbiolo2 | Linux (Ubuntu 22.04.3 LTS) / x86_64 | OK | OK | OK | |||||||||
palomino6 | Windows Server 2022 Datacenter / x64 | OK | OK | OK | OK | |||||||||
lconway | macOS 12.7.1 Monterey / x86_64 | OK | OK | OK | OK | |||||||||
kjohnson3 | macOS 13.6.5 Ventura / arm64 | OK | OK | OK | OK | |||||||||
kunpeng2 | Linux (openEuler 22.03 LTS-SP1) / aarch64 | OK | OK | OK | ||||||||||
To the developers/maintainers of the mixOmics package: - Allow up to 24 hours (and sometimes 48 hours) for your latest push to git@git.bioconductor.org:packages/mixOmics.git to reflect on this report. See Troubleshooting Build Report for more information. - Use the following Renviron settings to reproduce errors and warnings. - If 'R CMD check' started to fail recently on the Linux builder(s) over a missing dependency, add the missing dependency to 'Suggests:' in your DESCRIPTION file. See Renviron.bioc for more information. |
Package: mixOmics |
Version: 6.29.0 |
Command: C:\Users\biocbuild\bbs-3.20-bioc\R\bin\R.exe CMD check --no-multiarch --install=check:mixOmics.install-out.txt --library=C:\Users\biocbuild\bbs-3.20-bioc\R\library --no-vignettes --timings mixOmics_6.29.0.tar.gz |
StartedAt: 2024-07-04 01:21:22 -0400 (Thu, 04 Jul 2024) |
EndedAt: 2024-07-04 01:26:36 -0400 (Thu, 04 Jul 2024) |
EllapsedTime: 314.4 seconds |
RetCode: 0 |
Status: OK |
CheckDir: mixOmics.Rcheck |
Warnings: 0 |
############################################################################## ############################################################################## ### ### Running command: ### ### C:\Users\biocbuild\bbs-3.20-bioc\R\bin\R.exe CMD check --no-multiarch --install=check:mixOmics.install-out.txt --library=C:\Users\biocbuild\bbs-3.20-bioc\R\library --no-vignettes --timings mixOmics_6.29.0.tar.gz ### ############################################################################## ############################################################################## * using log directory 'C:/Users/biocbuild/bbs-3.20-bioc/meat/mixOmics.Rcheck' * using R version 4.4.1 (2024-06-14 ucrt) * using platform: x86_64-w64-mingw32 * R was compiled by gcc.exe (GCC) 13.2.0 GNU Fortran (GCC) 13.2.0 * running under: Windows Server 2022 x64 (build 20348) * using session charset: UTF-8 * using option '--no-vignettes' * checking for file 'mixOmics/DESCRIPTION' ... OK * checking extension type ... Package * this is package 'mixOmics' version '6.29.0' * package encoding: UTF-8 * checking package namespace information ... OK * checking package dependencies ... OK * checking if this is a source package ... OK * checking if there is a namespace ... OK * checking for hidden files and directories ... OK * checking for portable file names ... OK * checking whether package 'mixOmics' can be installed ... OK * checking installed package size ... NOTE installed size is 8.2Mb sub-directories of 1Mb or more: R 1.4Mb data 3.3Mb doc 1.9Mb * checking package directory ... OK * checking DESCRIPTION meta-information ... OK * checking top-level files ... OK * checking for left-over files ... OK * checking index information ... OK * checking package subdirectories ... OK * checking code files for non-ASCII characters ... OK * checking R files for syntax errors ... OK * checking whether the package can be loaded ... OK * checking whether the package can be loaded with stated dependencies ... OK * checking whether the package can be unloaded cleanly ... OK * checking whether the namespace can be loaded with stated dependencies ... OK * checking whether the namespace can be unloaded cleanly ... OK * checking whether startup messages can be suppressed ... OK * checking dependencies in R code ... OK * checking S3 generic/method consistency ... OK * checking replacement functions ... OK * checking foreign function calls ... OK * checking R code for possible problems ... OK * checking Rd files ... OK * checking Rd metadata ... OK * checking Rd cross-references ... OK * checking for missing documentation entries ... OK * checking for code/documentation mismatches ... OK * checking Rd \usage sections ... OK * checking Rd contents ... OK * checking for unstated dependencies in examples ... OK * checking contents of 'data' directory ... OK * checking data for non-ASCII characters ... OK * checking data for ASCII and uncompressed saves ... OK * checking installed files from 'inst/doc' ... OK * checking files in 'vignettes' ... OK * checking examples ... OK Examples with CPU (user + system) or elapsed time > 5s user system elapsed biplot 8.67 0.17 8.85 background.predict 6.18 2.32 8.50 block.splsda 5.09 0.23 5.36 circosPlot 5.03 0.15 5.19 * checking for unstated dependencies in 'tests' ... OK * checking tests ... Running 'testthat.R' OK * checking for unstated dependencies in vignettes ... OK * checking package vignettes ... OK * checking running R code from vignettes ... SKIPPED * checking re-building of vignette outputs ... SKIPPED * checking PDF version of manual ... OK * DONE Status: 1 NOTE See 'C:/Users/biocbuild/bbs-3.20-bioc/meat/mixOmics.Rcheck/00check.log' for details.
mixOmics.Rcheck/00install.out
############################################################################## ############################################################################## ### ### Running command: ### ### C:\Users\biocbuild\bbs-3.20-bioc\R\bin\R.exe CMD INSTALL mixOmics ### ############################################################################## ############################################################################## * installing to library 'C:/Users/biocbuild/bbs-3.20-bioc/R/library' * installing *source* package 'mixOmics' ... ** using staged installation ** R ** data ** inst ** byte-compile and prepare package for lazy loading ** help *** installing help indices ** building package indices ** installing vignettes ** testing if installed package can be loaded from temporary location ** testing if installed package can be loaded from final location ** testing if installed package keeps a record of temporary installation path * DONE (mixOmics)
mixOmics.Rcheck/tests/testthat.Rout
R version 4.4.1 (2024-06-14 ucrt) -- "Race for Your Life" Copyright (C) 2024 The R Foundation for Statistical Computing Platform: x86_64-w64-mingw32/x64 R is free software and comes with ABSOLUTELY NO WARRANTY. You are welcome to redistribute it under certain conditions. Type 'license()' or 'licence()' for distribution details. R is a collaborative project with many contributors. Type 'contributors()' for more information and 'citation()' on how to cite R or R packages in publications. Type 'demo()' for some demos, 'help()' for on-line help, or 'help.start()' for an HTML browser interface to help. Type 'q()' to quit R. > library(testthat) > library(mixOmics) Loading required package: MASS Loading required package: lattice Loading required package: ggplot2 Loaded mixOmics 6.29.0 Thank you for using mixOmics! Tutorials: http://mixomics.org Bookdown vignette: https://mixomicsteam.github.io/Bookdown Questions, issues: Follow the prompts at http://mixomics.org/contact-us Cite us: citation('mixOmics') > > test_check("mixOmics") [ FAIL 0 | WARN 4 | SKIP 0 | PASS 236 ] [ FAIL 0 | WARN 4 | SKIP 0 | PASS 236 ] Warning messages: 1: In for (h in 1:ncomp) { : closing unused connection 6 (<-palomino6:11145) 2: In for (h in 1:ncomp) { : closing unused connection 5 (<-palomino6:11145) > > proc.time() user system elapsed 82.78 6.56 122.11
mixOmics.Rcheck/mixOmics-Ex.timings
name | user | system | elapsed | |
S3methods-print | 0.02 | 0.00 | 0.01 | |
auroc | 0.87 | 0.11 | 0.98 | |
background.predict | 6.18 | 2.32 | 8.50 | |
biplot | 8.67 | 0.17 | 8.85 | |
block.pls | 0.41 | 0.01 | 0.42 | |
block.plsda | 0.54 | 0.02 | 0.56 | |
block.spls | 4.39 | 0.08 | 4.49 | |
block.splsda | 5.09 | 0.23 | 5.36 | |
cim | 0.05 | 0.00 | 0.05 | |
cimDiablo | 0.22 | 0.02 | 0.23 | |
circosPlot | 5.03 | 0.15 | 5.19 | |
colors | 0.03 | 0.00 | 0.03 | |
explained_variance | 0.11 | 0.00 | 0.11 | |
get.confusion_matrix | 0.44 | 0.02 | 0.45 | |
image.tune.rcc | 1.48 | 0.15 | 1.64 | |
imgCor | 0.07 | 0.02 | 0.08 | |
impute.nipals | 0.00 | 0.02 | 0.02 | |
ipca | 0.56 | 0.06 | 0.62 | |
logratio-transformations | 0.09 | 0.03 | 0.13 | |
map | 0.00 | 0.02 | 0.01 | |
mat.rank | 0 | 0 | 0 | |
mint.block.pls | 0.10 | 0.03 | 0.13 | |
mint.block.plsda | 0.07 | 0.01 | 0.09 | |
mint.block.spls | 0.11 | 0.02 | 0.13 | |
mint.block.splsda | 0.10 | 0.00 | 0.09 | |
mint.pca | 0.29 | 0.01 | 0.31 | |
mint.pls | 0.39 | 0.00 | 0.39 | |
mint.plsda | 0.47 | 0.00 | 0.47 | |
mint.spls | 0.47 | 0.00 | 0.47 | |
mint.splsda | 0.47 | 0.01 | 0.48 | |
mixOmics | 0.29 | 0.04 | 0.34 | |
nearZeroVar | 0.80 | 0.09 | 0.89 | |
network | 0.00 | 0.02 | 0.02 | |
pca | 3.69 | 0.18 | 3.90 | |
perf | 2.14 | 0.16 | 2.30 | |
plot.rcc | 0.01 | 0.00 | 0.02 | |
plot.tune | 0 | 0 | 0 | |
plotArrow | 2.68 | 0.17 | 2.84 | |
plotDiablo | 0.12 | 0.02 | 0.14 | |
plotIndiv | 0.22 | 0.02 | 0.23 | |
plotLoadings | 0.08 | 0.01 | 0.09 | |
plotMarkers | 0 | 0 | 0 | |
plotVar | 0.39 | 0.03 | 0.43 | |
pls | 0 | 0 | 0 | |
plsda | 0.26 | 0.00 | 0.27 | |
predict | 0.10 | 0.06 | 0.15 | |
rcc | 0 | 0 | 0 | |
selectVar | 0.31 | 0.11 | 0.42 | |
sipca | 0.34 | 0.03 | 0.38 | |
spca | 2.73 | 0.21 | 2.93 | |
spls | 0.16 | 0.01 | 0.17 | |
splsda | 0.27 | 0.01 | 0.28 | |
study_split | 0 | 0 | 0 | |
summary | 0.00 | 0.02 | 0.02 | |
tune | 3.27 | 0.47 | 3.74 | |
tune.block.splsda | 0 | 0 | 0 | |
tune.mint.splsda | 2.20 | 0.31 | 2.51 | |
tune.pca | 0.11 | 0.05 | 0.16 | |
tune.rcc | 1.52 | 0.12 | 1.66 | |
tune.spca | 0.50 | 0.02 | 0.51 | |
tune.spls | 0 | 0 | 0 | |
tune.splsda | 3.25 | 0.72 | 3.95 | |
tune.splslevel | 0.75 | 0.09 | 0.85 | |
unmap | 0.00 | 0.02 | 0.01 | |
vip | 0.00 | 0.01 | 0.02 | |
withinVariation | 0.71 | 0.03 | 0.75 | |
wrapper.rgcca | 0.05 | 0.02 | 0.06 | |
wrapper.sgcca | 0.08 | 0.03 | 0.11 | |