Back to Multiple platform build/check report for BioC 3.20: simplified long |
|
This page was generated on 2024-07-04 11:39 -0400 (Thu, 04 Jul 2024).
Hostname | OS | Arch (*) | R version | Installed pkgs |
---|---|---|---|---|
nebbiolo2 | Linux (Ubuntu 22.04.3 LTS) | x86_64 | 4.4.1 (2024-06-14) -- "Race for Your Life" | 4411 |
palomino6 | Windows Server 2022 Datacenter | x64 | 4.4.1 (2024-06-14 ucrt) -- "Race for Your Life" | 4413 |
lconway | macOS 12.7.1 Monterey | x86_64 | 4.4.1 (2024-06-14) -- "Race for Your Life" | 4395 |
kjohnson3 | macOS 13.6.5 Ventura | arm64 | 4.4.1 (2024-06-14) -- "Race for Your Life" | 4390 |
kunpeng2 | Linux (openEuler 22.03 LTS-SP1) | aarch64 | 4.4.0 (2024-04-24) -- "Puppy Cup" | 4407 |
Click on any hostname to see more info about the system (e.g. compilers) (*) as reported by 'uname -p', except on Windows and Mac OS X |
Package 869/2243 | Hostname | OS / Arch | INSTALL | BUILD | CHECK | BUILD BIN | ||||||||
goProfiles 1.67.0 (landing page) Alex Sanchez
| nebbiolo2 | Linux (Ubuntu 22.04.3 LTS) / x86_64 | OK | OK | OK | |||||||||
palomino6 | Windows Server 2022 Datacenter / x64 | OK | OK | OK | OK | |||||||||
lconway | macOS 12.7.1 Monterey / x86_64 | OK | OK | OK | OK | |||||||||
kjohnson3 | macOS 13.6.5 Ventura / arm64 | OK | OK | OK | OK | |||||||||
kunpeng2 | Linux (openEuler 22.03 LTS-SP1) / aarch64 | OK | OK | OK | ||||||||||
To the developers/maintainers of the goProfiles package: - Allow up to 24 hours (and sometimes 48 hours) for your latest push to git@git.bioconductor.org:packages/goProfiles.git to reflect on this report. See Troubleshooting Build Report for more information. - Use the following Renviron settings to reproduce errors and warnings. - If 'R CMD check' started to fail recently on the Linux builder(s) over a missing dependency, add the missing dependency to 'Suggests:' in your DESCRIPTION file. See Renviron.bioc for more information. |
Package: goProfiles |
Version: 1.67.0 |
Command: /home/biocbuild/bbs-3.20-bioc/R/bin/R CMD check --install=check:goProfiles.install-out.txt --library=/home/biocbuild/bbs-3.20-bioc/R/site-library --timings goProfiles_1.67.0.tar.gz |
StartedAt: 2024-07-04 00:12:02 -0400 (Thu, 04 Jul 2024) |
EndedAt: 2024-07-04 00:14:50 -0400 (Thu, 04 Jul 2024) |
EllapsedTime: 168.3 seconds |
RetCode: 0 |
Status: OK |
CheckDir: goProfiles.Rcheck |
Warnings: 0 |
############################################################################## ############################################################################## ### ### Running command: ### ### /home/biocbuild/bbs-3.20-bioc/R/bin/R CMD check --install=check:goProfiles.install-out.txt --library=/home/biocbuild/bbs-3.20-bioc/R/site-library --timings goProfiles_1.67.0.tar.gz ### ############################################################################## ############################################################################## * using log directory ‘/home/biocbuild/bbs-3.20-bioc/meat/goProfiles.Rcheck’ * using R version 4.4.1 (2024-06-14) * using platform: x86_64-pc-linux-gnu * R was compiled by gcc (Ubuntu 11.4.0-1ubuntu1~22.04) 11.4.0 GNU Fortran (Ubuntu 11.4.0-1ubuntu1~22.04) 11.4.0 * running under: Ubuntu 22.04.4 LTS * using session charset: UTF-8 * checking for file ‘goProfiles/DESCRIPTION’ ... OK * checking extension type ... Package * this is package ‘goProfiles’ version ‘1.67.0’ * checking package namespace information ... OK * checking package dependencies ... OK * checking if this is a source package ... OK * checking if there is a namespace ... OK * checking for hidden files and directories ... OK * checking for portable file names ... OK * checking for sufficient/correct file permissions ... OK * checking whether package ‘goProfiles’ can be installed ... OK * checking installed package size ... OK * checking package directory ... OK * checking ‘build’ directory ... OK * checking DESCRIPTION meta-information ... OK * checking top-level files ... OK * checking for left-over files ... OK * checking index information ... OK * checking package subdirectories ... OK * checking code files for non-ASCII characters ... OK * checking R files for syntax errors ... OK * checking whether the package can be loaded ... OK * checking whether the package can be loaded with stated dependencies ... OK * checking whether the package can be unloaded cleanly ... OK * checking whether the namespace can be loaded with stated dependencies ... OK * checking whether the namespace can be unloaded cleanly ... OK * checking loading without being on the library search path ... OK * checking dependencies in R code ... OK * checking S3 generic/method consistency ... OK * checking replacement functions ... OK * checking foreign function calls ... OK * checking R code for possible problems ... OK * checking Rd files ... NOTE checkRd: (-1) compareGeneLists.Rd:6: Escaped LaTeX specials: \~ checkRd: (-1) compareProfilesLists.Rd:7: Escaped LaTeX specials: \~ * checking Rd metadata ... OK * checking Rd cross-references ... OK * checking for missing documentation entries ... OK * checking for code/documentation mismatches ... OK * checking Rd \usage sections ... OK * checking Rd contents ... OK * checking for unstated dependencies in examples ... OK * checking contents of ‘data’ directory ... OK * checking data for non-ASCII characters ... OK * checking data for ASCII and uncompressed saves ... OK * checking installed files from ‘inst/doc’ ... OK * checking files in ‘vignettes’ ... OK * checking examples ... OK Examples with CPU (user + system) or elapsed time > 5s user system elapsed compareGeneLists 15.306 0.205 15.51 equivalentGOProfiles 9.714 0.077 9.79 * checking for unstated dependencies in vignettes ... OK * checking package vignettes ... OK * checking re-building of vignette outputs ... OK * checking PDF version of manual ... OK * DONE Status: 1 NOTE See ‘/home/biocbuild/bbs-3.20-bioc/meat/goProfiles.Rcheck/00check.log’ for details.
goProfiles.Rcheck/00install.out
############################################################################## ############################################################################## ### ### Running command: ### ### /home/biocbuild/bbs-3.20-bioc/R/bin/R CMD INSTALL goProfiles ### ############################################################################## ############################################################################## * installing to library ‘/home/biocbuild/bbs-3.20-bioc/R/site-library’ * installing *source* package ‘goProfiles’ ... ** using staged installation ** R ** data ** inst ** byte-compile and prepare package for lazy loading ** help *** installing help indices ** building package indices ** installing vignettes ** testing if installed package can be loaded from temporary location ** testing if installed package can be loaded from final location ** testing if installed package keeps a record of temporary installation path * DONE (goProfiles)
goProfiles.Rcheck/goProfiles-Ex.timings
name | user | system | elapsed | |
CD4ids | 0.002 | 0.000 | 0.002 | |
GOTermsList | 0 | 0 | 0 | |
basicProfile | 2.869 | 0.148 | 3.016 | |
compSummary | 0.001 | 0.000 | 0.000 | |
compareGOProfiles | 3.173 | 0.035 | 3.209 | |
compareGeneLists | 15.306 | 0.205 | 15.510 | |
compareProfilesLists | 0 | 0 | 0 | |
contractedProfile | 1.439 | 0.016 | 1.454 | |
conversionFunctions | 0.033 | 0.004 | 0.037 | |
drosophila | 0.000 | 0.001 | 0.002 | |
equivClust | 0.000 | 0.000 | 0.001 | |
equivClust2pdf | 0.018 | 0.001 | 0.019 | |
equivSummary | 0 | 0 | 0 | |
equivalentGOProfiles | 9.714 | 0.077 | 9.790 | |
expandedLevel | 1.125 | 0.039 | 1.166 | |
expandedProfile | 0.579 | 0.007 | 0.588 | |
fisherGOProfiles | 4.106 | 0.056 | 4.162 | |
fitGOProfile | 0 | 0 | 0 | |
hugoIds | 0.012 | 0.000 | 0.013 | |
iterEquivClust | 0 | 0 | 0 | |
mergeProfilesLists | 3.695 | 0.044 | 3.739 | |
ngenes | 1.420 | 0.000 | 1.419 | |
omimIds | 0.005 | 0.000 | 0.005 | |
plotProfiles | 3.583 | 0.012 | 3.595 | |
printProfiles | 3.954 | 0.052 | 4.006 | |
prostateIds | 0.004 | 0.000 | 0.004 | |