Back to Multiple platform build/check report for BioC 3.20: simplified long |
|
This page was generated on 2024-06-19 12:11 -0400 (Wed, 19 Jun 2024).
Hostname | OS | Arch (*) | R version | Installed pkgs |
---|---|---|---|---|
nebbiolo2 | Linux (Ubuntu 22.04.3 LTS) | x86_64 | 4.4.0 RC (2024-04-16 r86468) -- "Puppy Cup" | 4687 |
lconway | macOS 12.7.1 Monterey | x86_64 | 4.4.1 RC (2024-06-06 r86719) -- "Race for Your Life" | 4402 |
kjohnson3 | macOS 13.6.5 Ventura | arm64 | 4.4.1 RC (2024-06-06 r86719) -- "Race for Your Life" | 4351 |
Click on any hostname to see more info about the system (e.g. compilers) (*) as reported by 'uname -p', except on Windows and Mac OS X |
Package 170/2242 | Hostname | OS / Arch | INSTALL | BUILD | CHECK | BUILD BIN | ||||||||
bioCancer 1.33.0 (landing page) Karim Mezhoud
| nebbiolo2 | Linux (Ubuntu 22.04.3 LTS) / x86_64 | OK | OK | OK | |||||||||
lconway | macOS 12.7.1 Monterey / x86_64 | ERROR | ERROR | skipped | skipped | |||||||||
kjohnson3 | macOS 13.6.5 Ventura / arm64 | ERROR | ERROR | skipped | skipped | |||||||||
To the developers/maintainers of the bioCancer package: - Allow up to 24 hours (and sometimes 48 hours) for your latest push to git@git.bioconductor.org:packages/bioCancer.git to reflect on this report. See Troubleshooting Build Report for more information. - Use the following Renviron settings to reproduce errors and warnings. - If 'R CMD check' started to fail recently on the Linux builder(s) over a missing dependency, add the missing dependency to 'Suggests:' in your DESCRIPTION file. See Renviron.bioc for more information. |
Package: bioCancer |
Version: 1.33.0 |
Command: /Library/Frameworks/R.framework/Resources/bin/R CMD INSTALL bioCancer |
StartedAt: 2024-06-18 15:35:40 -0400 (Tue, 18 Jun 2024) |
EndedAt: 2024-06-18 15:35:41 -0400 (Tue, 18 Jun 2024) |
EllapsedTime: 1.1 seconds |
RetCode: 1 |
Status: ERROR |
############################################################################## ############################################################################## ### ### Running command: ### ### /Library/Frameworks/R.framework/Resources/bin/R CMD INSTALL bioCancer ### ############################################################################## ############################################################################## * installing to library ‘/Library/Frameworks/R.framework/Versions/4.4-arm64/Resources/library’ * installing *source* package ‘bioCancer’ ... ** using staged installation ** R ** data *** moving datasets to lazyload DB ** inst ** byte-compile and prepare package for lazy loading Error: package or namespace load failed for ‘radiant.data’ in dyn.load(file, DLLpath = DLLpath, ...): unable to load shared object '/Library/Frameworks/R.framework/Versions/4.4-arm64/Resources/library/readxl/libs/readxl.so': dlopen(/Library/Frameworks/R.framework/Versions/4.4-arm64/Resources/library/readxl/libs/readxl.so, 0x0006): Symbol not found: _iconv Referenced from: <FD6FB17B-8454-3F39-A16C-DE444F5ECD91> /Library/Frameworks/R.framework/Versions/4.4-arm64/Resources/library/readxl/libs/readxl.so Expected in: <5071C9AE-D5F8-3824-BAFF-EA562080A74A> /Library/Frameworks/R.framework/Versions/4.4-arm64/Resources/lib/libR.dylib Execution halted ERROR: lazy loading failed for package ‘bioCancer’ * removing ‘/Library/Frameworks/R.framework/Versions/4.4-arm64/Resources/library/bioCancer’