Back to Multiple platform build/check report for BioC 3.20: simplified long |
|
This page was generated on 2024-07-04 11:39 -0400 (Thu, 04 Jul 2024).
Hostname | OS | Arch (*) | R version | Installed pkgs |
---|---|---|---|---|
nebbiolo2 | Linux (Ubuntu 22.04.3 LTS) | x86_64 | 4.4.1 (2024-06-14) -- "Race for Your Life" | 4411 |
palomino6 | Windows Server 2022 Datacenter | x64 | 4.4.1 (2024-06-14 ucrt) -- "Race for Your Life" | 4413 |
lconway | macOS 12.7.1 Monterey | x86_64 | 4.4.1 (2024-06-14) -- "Race for Your Life" | 4395 |
kjohnson3 | macOS 13.6.5 Ventura | arm64 | 4.4.1 (2024-06-14) -- "Race for Your Life" | 4390 |
kunpeng2 | Linux (openEuler 22.03 LTS-SP1) | aarch64 | 4.4.0 (2024-04-24) -- "Puppy Cup" | 4407 |
Click on any hostname to see more info about the system (e.g. compilers) (*) as reported by 'uname -p', except on Windows and Mac OS X |
Package 1866/2243 | Hostname | OS / Arch | INSTALL | BUILD | CHECK | BUILD BIN | ||||||||
ScreenR 1.7.0 (landing page) Emanuel Michele Soda
| nebbiolo2 | Linux (Ubuntu 22.04.3 LTS) / x86_64 | OK | OK | OK | |||||||||
palomino6 | Windows Server 2022 Datacenter / x64 | OK | OK | OK | OK | |||||||||
lconway | macOS 12.7.1 Monterey / x86_64 | OK | OK | OK | OK | |||||||||
kjohnson3 | macOS 13.6.5 Ventura / arm64 | OK | OK | OK | OK | |||||||||
kunpeng2 | Linux (openEuler 22.03 LTS-SP1) / aarch64 | OK | OK | OK | ||||||||||
To the developers/maintainers of the ScreenR package: - Allow up to 24 hours (and sometimes 48 hours) for your latest push to git@git.bioconductor.org:packages/ScreenR.git to reflect on this report. See Troubleshooting Build Report for more information. - Use the following Renviron settings to reproduce errors and warnings. - If 'R CMD check' started to fail recently on the Linux builder(s) over a missing dependency, add the missing dependency to 'Suggests:' in your DESCRIPTION file. See Renviron.bioc for more information. |
Package: ScreenR |
Version: 1.7.0 |
Command: /home/biocbuild/bbs-3.20-bioc/R/bin/R CMD check --install=check:ScreenR.install-out.txt --library=/home/biocbuild/bbs-3.20-bioc/R/site-library --timings ScreenR_1.7.0.tar.gz |
StartedAt: 2024-07-04 03:55:52 -0400 (Thu, 04 Jul 2024) |
EndedAt: 2024-07-04 03:59:34 -0400 (Thu, 04 Jul 2024) |
EllapsedTime: 221.4 seconds |
RetCode: 0 |
Status: OK |
CheckDir: ScreenR.Rcheck |
Warnings: 0 |
############################################################################## ############################################################################## ### ### Running command: ### ### /home/biocbuild/bbs-3.20-bioc/R/bin/R CMD check --install=check:ScreenR.install-out.txt --library=/home/biocbuild/bbs-3.20-bioc/R/site-library --timings ScreenR_1.7.0.tar.gz ### ############################################################################## ############################################################################## * using log directory ‘/home/biocbuild/bbs-3.20-bioc/meat/ScreenR.Rcheck’ * using R version 4.4.1 (2024-06-14) * using platform: x86_64-pc-linux-gnu * R was compiled by gcc (Ubuntu 11.4.0-1ubuntu1~22.04) 11.4.0 GNU Fortran (Ubuntu 11.4.0-1ubuntu1~22.04) 11.4.0 * running under: Ubuntu 22.04.4 LTS * using session charset: UTF-8 * checking for file ‘ScreenR/DESCRIPTION’ ... OK * checking extension type ... Package * this is package ‘ScreenR’ version ‘1.7.0’ * package encoding: UTF-8 * checking package namespace information ... OK * checking package dependencies ... OK * checking if this is a source package ... OK * checking if there is a namespace ... OK * checking for hidden files and directories ... OK * checking for portable file names ... OK * checking for sufficient/correct file permissions ... OK * checking whether package ‘ScreenR’ can be installed ... OK * checking installed package size ... OK * checking package directory ... OK * checking ‘build’ directory ... OK * checking DESCRIPTION meta-information ... OK * checking top-level files ... OK * checking for left-over files ... OK * checking index information ... OK * checking package subdirectories ... OK * checking code files for non-ASCII characters ... OK * checking R files for syntax errors ... OK * checking whether the package can be loaded ... OK * checking whether the package can be loaded with stated dependencies ... OK * checking whether the package can be unloaded cleanly ... OK * checking whether the namespace can be loaded with stated dependencies ... OK * checking whether the namespace can be unloaded cleanly ... OK * checking loading without being on the library search path ... OK * checking whether startup messages can be suppressed ... OK * checking dependencies in R code ... OK * checking S3 generic/method consistency ... OK * checking replacement functions ... OK * checking foreign function calls ... OK * checking R code for possible problems ... OK * checking Rd files ... NOTE checkRd: (-1) annotation_table.Rd:25: Lost braces 25 | \url{https://cellecta.com/}{cellecta}} | ^ * checking Rd metadata ... OK * checking Rd cross-references ... OK * checking for missing documentation entries ... OK * checking for code/documentation mismatches ... OK * checking Rd \usage sections ... NOTE Documented arguments not in \usage in Rd file 'compute_camera.Rd': ‘...’ Documented arguments not in \usage in Rd file 'select_number_barcode.Rd': ‘...’ Documented arguments not in \usage in Rd file 'unique_gene_symbols.Rd': ‘...’ Functions with \usage entries need to have the appropriate \alias entries, and all their arguments documented. The \usage entries must correspond to syntactically valid R code. See chapter ‘Writing R documentation files’ in the ‘Writing R Extensions’ manual. * checking Rd contents ... OK * checking for unstated dependencies in examples ... OK * checking contents of ‘data’ directory ... OK * checking data for non-ASCII characters ... OK * checking data for ASCII and uncompressed saves ... OK * checking R/sysdata.rda ... OK * checking files in ‘vignettes’ ... OK * checking examples ... OK Examples with CPU (user + system) or elapsed time > 5s user system elapsed plot_zscore_distribution 39.937 0.425 40.361 plot_barcode_trend 39.099 0.623 39.724 compute_metrics 23.301 1.480 24.781 find_zscore_hit 19.619 0.261 19.879 find_robust_zscore_hit 19.244 0.355 19.601 * checking for unstated dependencies in ‘tests’ ... OK * checking tests ... Running ‘testthat.R’ OK * checking for unstated dependencies in vignettes ... OK * checking package vignettes ... OK * checking re-building of vignette outputs ... OK * checking PDF version of manual ... OK * DONE Status: 2 NOTEs See ‘/home/biocbuild/bbs-3.20-bioc/meat/ScreenR.Rcheck/00check.log’ for details.
ScreenR.Rcheck/00install.out
############################################################################## ############################################################################## ### ### Running command: ### ### /home/biocbuild/bbs-3.20-bioc/R/bin/R CMD INSTALL ScreenR ### ############################################################################## ############################################################################## * installing to library ‘/home/biocbuild/bbs-3.20-bioc/R/site-library’ * installing *source* package ‘ScreenR’ ... ** using staged installation ** R ** data ** inst ** byte-compile and prepare package for lazy loading ** help *** installing help indices *** copying figures ** building package indices ** installing vignettes ** testing if installed package can be loaded from temporary location ** testing if installed package can be loaded from final location ** testing if installed package keeps a record of temporary installation path * DONE (ScreenR)
ScreenR.Rcheck/tests/testthat.Rout
R version 4.4.1 (2024-06-14) -- "Race for Your Life" Copyright (C) 2024 The R Foundation for Statistical Computing Platform: x86_64-pc-linux-gnu R is free software and comes with ABSOLUTELY NO WARRANTY. You are welcome to redistribute it under certain conditions. Type 'license()' or 'licence()' for distribution details. R is a collaborative project with many contributors. Type 'contributors()' for more information and 'citation()' on how to cite R or R packages in publications. Type 'demo()' for some demos, 'help()' for on-line help, or 'help.start()' for an HTML browser interface to help. Type 'q()' to quit R. > library(testthat) > library(ScreenR) Welcome to ScreenR -------------------------- See ?ScreenR for a list of available functions. Enjoy! > > test_check("ScreenR") ScreenR count table containing: 5320 rows 15 columns ScreenR annotation table containing: 5320 rows 5 columns ScreenR normalized count table containing: 5320 rows 15 columns ScreenR normalized data table containing: 74480 rows 9 columns ScreenR annotation table containing: 5320 rows 5 columns ScreenR annotation table containing: 5320 rows 5 columns ScreenR count table containing: 5320 rows 15 columns ScreenR count table containing: 5320 rows 15 columns ScreenR normalized count table containing: 5320 rows 15 columns ScreenR normalized count table containing: 5320 rows 15 columns ScreenR normalized data table containing: 74480 rows 9 columns ScreenR normalized data table containing: 74480 rows 9 columns Using classic mode. [ FAIL 0 | WARN 253 | SKIP 0 | PASS 64 ] [ FAIL 0 | WARN 253 | SKIP 0 | PASS 64 ] > > proc.time() user system elapsed 22.869 0.429 23.289
ScreenR.Rcheck/ScreenR-Ex.timings
name | user | system | elapsed | |
barcode_lost | 0.130 | 0.015 | 0.146 | |
compute_data_table | 0.188 | 0.013 | 0.200 | |
compute_explained_variance | 0.018 | 0.000 | 0.019 | |
compute_metrics | 23.301 | 1.480 | 24.781 | |
compute_slope | 0.042 | 0.000 | 0.043 | |
count_mapped_reads | 0.034 | 0.000 | 0.034 | |
create_edger_obj | 0.019 | 0.000 | 0.019 | |
create_screenr_object | 0.036 | 0.007 | 0.044 | |
filter_by_slope | 0.116 | 0.000 | 0.116 | |
filter_by_variance | 1.098 | 0.004 | 1.101 | |
find_camera_hit | 1.142 | 0.000 | 1.142 | |
find_common_hit | 0.026 | 0.000 | 0.026 | |
find_roast_hit | 1.768 | 0.008 | 1.776 | |
find_robust_zscore_hit | 19.244 | 0.355 | 19.601 | |
find_zscore_hit | 19.619 | 0.261 | 19.879 | |
get_annotation_table | 0.010 | 0.003 | 0.014 | |
get_count_table | 0.077 | 0.004 | 0.081 | |
get_data_table | 0.024 | 0.000 | 0.025 | |
get_groups | 0 | 0 | 0 | |
get_normalized_count_table | 0.037 | 0.000 | 0.038 | |
get_replicates | 0 | 0 | 0 | |
mapped_reads | 0.053 | 0.000 | 0.052 | |
normalize_data | 0.034 | 0.007 | 0.041 | |
plot_barcode_hit | 1.227 | 0.011 | 1.239 | |
plot_barcode_lost | 0.366 | 0.000 | 0.366 | |
plot_barcode_lost_for_gene | 1.245 | 0.000 | 1.244 | |
plot_barcode_trend | 39.099 | 0.623 | 39.724 | |
plot_boxplot | 0.294 | 0.011 | 0.306 | |
plot_common_hit | 0.168 | 0.000 | 0.168 | |
plot_explained_variance | 0.301 | 0.000 | 0.301 | |
plot_mapped_reads | 0.148 | 0.004 | 0.152 | |
plot_mapped_reads_distribution | 1.350 | 0.008 | 1.358 | |
plot_mds | 0.375 | 0.004 | 0.378 | |
plot_trend | 1.319 | 0.024 | 1.343 | |
plot_zscore_distribution | 39.937 | 0.425 | 40.361 | |
remove_all_zero_row | 0.012 | 0.000 | 0.012 | |
set_annotation_table | 0.128 | 0.000 | 0.127 | |
set_count_table | 0.12 | 0.00 | 0.12 | |
set_data_table | 0.121 | 0.000 | 0.122 | |
set_groups | 0.127 | 0.000 | 0.128 | |
set_normalized_count_table | 0.157 | 0.000 | 0.157 | |
set_replicates | 0.117 | 0.000 | 0.116 | |