Back to Multiple platform build/check report for BioC 3.20: simplified long |
|
This page was generated on 2024-06-19 12:12 -0400 (Wed, 19 Jun 2024).
Hostname | OS | Arch (*) | R version | Installed pkgs |
---|---|---|---|---|
nebbiolo2 | Linux (Ubuntu 22.04.3 LTS) | x86_64 | 4.4.0 RC (2024-04-16 r86468) -- "Puppy Cup" | 4687 |
lconway | macOS 12.7.1 Monterey | x86_64 | 4.4.1 RC (2024-06-06 r86719) -- "Race for Your Life" | 4402 |
kjohnson3 | macOS 13.6.5 Ventura | arm64 | 4.4.1 RC (2024-06-06 r86719) -- "Race for Your Life" | 4351 |
Click on any hostname to see more info about the system (e.g. compilers) (*) as reported by 'uname -p', except on Windows and Mac OS X |
Package 2055/2242 | Hostname | OS / Arch | INSTALL | BUILD | CHECK | BUILD BIN | ||||||||
SVMDO 1.5.0 (landing page) Mustafa Erhan Ozer
| nebbiolo2 | Linux (Ubuntu 22.04.3 LTS) / x86_64 | OK | OK | OK | |||||||||
lconway | macOS 12.7.1 Monterey / x86_64 | ERROR | ERROR | skipped | skipped | |||||||||
kjohnson3 | macOS 13.6.5 Ventura / arm64 | ERROR | ERROR | skipped | skipped | |||||||||
To the developers/maintainers of the SVMDO package: - Allow up to 24 hours (and sometimes 48 hours) for your latest push to git@git.bioconductor.org:packages/SVMDO.git to reflect on this report. See Troubleshooting Build Report for more information. - Use the following Renviron settings to reproduce errors and warnings. - If 'R CMD check' started to fail recently on the Linux builder(s) over a missing dependency, add the missing dependency to 'Suggests:' in your DESCRIPTION file. See Renviron.bioc for more information. |
Package: SVMDO |
Version: 1.5.0 |
Command: /Library/Frameworks/R.framework/Resources/bin/R CMD INSTALL SVMDO |
StartedAt: 2024-06-18 15:32:01 -0400 (Tue, 18 Jun 2024) |
EndedAt: 2024-06-18 15:32:05 -0400 (Tue, 18 Jun 2024) |
EllapsedTime: 4.2 seconds |
RetCode: 1 |
Status: ERROR |
############################################################################## ############################################################################## ### ### Running command: ### ### /Library/Frameworks/R.framework/Resources/bin/R CMD INSTALL SVMDO ### ############################################################################## ############################################################################## * installing to library ‘/Library/Frameworks/R.framework/Versions/4.4-arm64/Resources/library’ * installing *source* package ‘SVMDO’ ... ** using staged installation ** R ** inst ** byte-compile and prepare package for lazy loading Error in dyn.load(file, DLLpath = DLLpath, ...) : unable to load shared object '/Library/Frameworks/R.framework/Versions/4.4-arm64/Resources/library/haven/libs/haven.so': dlopen(/Library/Frameworks/R.framework/Versions/4.4-arm64/Resources/library/haven/libs/haven.so, 0x0006): Symbol not found: _iconv Referenced from: <8A1A2DAF-DDCA-38F3-9478-6393191F234F> /Library/Frameworks/R.framework/Versions/4.4-arm64/Resources/library/haven/libs/haven.so Expected in: <5071C9AE-D5F8-3824-BAFF-EA562080A74A> /Library/Frameworks/R.framework/Versions/4.4-arm64/Resources/lib/libR.dylib Calls: <Anonymous> ... asNamespace -> loadNamespace -> library.dynam -> dyn.load Execution halted ERROR: lazy loading failed for package ‘SVMDO’ * removing ‘/Library/Frameworks/R.framework/Versions/4.4-arm64/Resources/library/SVMDO’