Index of /checkResults/devel/bioc-LATEST/NeuCA/raw-results/palomino6
Name
Last modified
Size
Description
Parent Directory
-
install-summary.dcf
06-Jul-2024 00:40
270
install-out.txt
06-Jul-2024 00:40
968
buildsrc-summary.dcf
06-Jul-2024 00:40
368
buildsrc-out.txt
06-Jul-2024 00:40
2.2K