Back to Multiple platform build/check report for BioC 3.20: simplified long |
|
This page was generated on 2024-07-04 11:39 -0400 (Thu, 04 Jul 2024).
Hostname | OS | Arch (*) | R version | Installed pkgs |
---|---|---|---|---|
nebbiolo2 | Linux (Ubuntu 22.04.3 LTS) | x86_64 | 4.4.1 (2024-06-14) -- "Race for Your Life" | 4411 |
palomino6 | Windows Server 2022 Datacenter | x64 | 4.4.1 (2024-06-14 ucrt) -- "Race for Your Life" | 4413 |
lconway | macOS 12.7.1 Monterey | x86_64 | 4.4.1 (2024-06-14) -- "Race for Your Life" | 4395 |
kjohnson3 | macOS 13.6.5 Ventura | arm64 | 4.4.1 (2024-06-14) -- "Race for Your Life" | 4390 |
kunpeng2 | Linux (openEuler 22.03 LTS-SP1) | aarch64 | 4.4.0 (2024-04-24) -- "Puppy Cup" | 4407 |
Click on any hostname to see more info about the system (e.g. compilers) (*) as reported by 'uname -p', except on Windows and Mac OS X |
Package 1365/2243 | Hostname | OS / Arch | INSTALL | BUILD | CHECK | BUILD BIN | ||||||||
NanoMethViz 3.1.5 (landing page) Shian Su
| nebbiolo2 | Linux (Ubuntu 22.04.3 LTS) / x86_64 | OK | OK | OK | |||||||||
palomino6 | Windows Server 2022 Datacenter / x64 | OK | OK | OK | OK | |||||||||
lconway | macOS 12.7.1 Monterey / x86_64 | OK | OK | OK | OK | |||||||||
kjohnson3 | macOS 13.6.5 Ventura / arm64 | OK | OK | OK | OK | |||||||||
kunpeng2 | Linux (openEuler 22.03 LTS-SP1) / aarch64 | OK | OK | OK | ||||||||||
To the developers/maintainers of the NanoMethViz package: - Allow up to 24 hours (and sometimes 48 hours) for your latest push to git@git.bioconductor.org:packages/NanoMethViz.git to reflect on this report. See Troubleshooting Build Report for more information. - Use the following Renviron settings to reproduce errors and warnings. - If 'R CMD check' started to fail recently on the Linux builder(s) over a missing dependency, add the missing dependency to 'Suggests:' in your DESCRIPTION file. See Renviron.bioc for more information. |
Package: NanoMethViz |
Version: 3.1.5 |
Command: /home/biocbuild/bbs-3.20-bioc/R/bin/R CMD check --install=check:NanoMethViz.install-out.txt --library=/home/biocbuild/bbs-3.20-bioc/R/site-library --timings NanoMethViz_3.1.5.tar.gz |
StartedAt: 2024-07-04 02:00:20 -0400 (Thu, 04 Jul 2024) |
EndedAt: 2024-07-04 02:12:07 -0400 (Thu, 04 Jul 2024) |
EllapsedTime: 706.3 seconds |
RetCode: 0 |
Status: OK |
CheckDir: NanoMethViz.Rcheck |
Warnings: 0 |
############################################################################## ############################################################################## ### ### Running command: ### ### /home/biocbuild/bbs-3.20-bioc/R/bin/R CMD check --install=check:NanoMethViz.install-out.txt --library=/home/biocbuild/bbs-3.20-bioc/R/site-library --timings NanoMethViz_3.1.5.tar.gz ### ############################################################################## ############################################################################## * using log directory ‘/home/biocbuild/bbs-3.20-bioc/meat/NanoMethViz.Rcheck’ * using R version 4.4.1 (2024-06-14) * using platform: x86_64-pc-linux-gnu * R was compiled by gcc (Ubuntu 11.4.0-1ubuntu1~22.04) 11.4.0 GNU Fortran (Ubuntu 11.4.0-1ubuntu1~22.04) 11.4.0 * running under: Ubuntu 22.04.4 LTS * using session charset: UTF-8 * checking for file ‘NanoMethViz/DESCRIPTION’ ... OK * checking extension type ... Package * this is package ‘NanoMethViz’ version ‘3.1.5’ * package encoding: UTF-8 * checking package namespace information ... OK * checking package dependencies ... OK * checking if this is a source package ... OK * checking if there is a namespace ... OK * checking for hidden files and directories ... OK * checking for portable file names ... OK * checking for sufficient/correct file permissions ... OK * checking whether package ‘NanoMethViz’ can be installed ... OK * used C++ compiler: ‘g++ (Ubuntu 11.4.0-1ubuntu1~22.04) 11.4.0’ * checking C++ specification ... OK Not all R platforms support C++20 * checking installed package size ... NOTE installed size is 9.6Mb sub-directories of 1Mb or more: libs 3.4Mb * checking package directory ... OK * checking ‘build’ directory ... OK * checking DESCRIPTION meta-information ... OK * checking top-level files ... OK * checking for left-over files ... OK * checking index information ... OK * checking package subdirectories ... OK * checking code files for non-ASCII characters ... OK * checking R files for syntax errors ... OK * checking whether the package can be loaded ... OK * checking whether the package can be loaded with stated dependencies ... OK * checking whether the package can be unloaded cleanly ... OK * checking whether the namespace can be loaded with stated dependencies ... OK * checking whether the namespace can be unloaded cleanly ... OK * checking loading without being on the library search path ... OK * checking whether startup messages can be suppressed ... OK * checking dependencies in R code ... OK * checking S3 generic/method consistency ... OK * checking replacement functions ... OK * checking foreign function calls ... OK * checking R code for possible problems ... OK * checking Rd files ... OK * checking Rd metadata ... OK * checking Rd cross-references ... OK * checking for missing documentation entries ... OK * checking for code/documentation mismatches ... OK * checking Rd \usage sections ... OK * checking Rd contents ... OK * checking for unstated dependencies in examples ... OK * checking line endings in C/C++/Fortran sources/headers ... OK * checking line endings in Makefiles ... OK * checking compilation flags in Makevars ... OK * checking for GNU extensions in Makefiles ... OK * checking for portable use of $(BLAS_LIBS) and $(LAPACK_LIBS) ... OK * checking use of PKG_*FLAGS in Makefiles ... OK * checking compiled code ... NOTE Note: information on .o files is not available * checking files in ‘vignettes’ ... OK * checking examples ... OK Examples with CPU (user + system) or elapsed time > 5s user system elapsed get_exons 42.217 1.675 43.965 filter_methy 17.457 0.380 17.838 get_exons_mus_musculus 13.772 0.208 13.980 get_exons_homo_sapiens 12.054 0.388 12.445 plot_gene 8.063 0.128 8.191 plot_gene_heatmap 6.808 0.100 6.908 plot_grange 6.102 0.048 6.150 plot_region 5.932 0.060 5.993 plot_agg_regions 5.075 0.040 5.115 * checking for unstated dependencies in ‘tests’ ... OK * checking tests ... Running ‘testthat.R’ OK * checking for unstated dependencies in vignettes ... OK * checking package vignettes ... OK * checking re-building of vignette outputs ... OK * checking PDF version of manual ... OK * DONE Status: 2 NOTEs See ‘/home/biocbuild/bbs-3.20-bioc/meat/NanoMethViz.Rcheck/00check.log’ for details.
NanoMethViz.Rcheck/00install.out
############################################################################## ############################################################################## ### ### Running command: ### ### /home/biocbuild/bbs-3.20-bioc/R/bin/R CMD INSTALL NanoMethViz ### ############################################################################## ############################################################################## * installing to library ‘/home/biocbuild/bbs-3.20-bioc/R/site-library’ * installing *source* package ‘NanoMethViz’ ... ** using staged installation ** libs using C++ compiler: ‘g++ (Ubuntu 11.4.0-1ubuntu1~22.04) 11.4.0’ using C++20 g++ -std=gnu++20 -I"/home/biocbuild/bbs-3.20-bioc/R/include" -DNDEBUG -I'/home/biocbuild/bbs-3.20-bioc/R/site-library/Rcpp/include' -I/usr/local/include -fpic -g -O2 -Wall -c RcppExports.cpp -o RcppExports.o g++ -std=gnu++20 -I"/home/biocbuild/bbs-3.20-bioc/R/include" -DNDEBUG -I'/home/biocbuild/bbs-3.20-bioc/R/site-library/Rcpp/include' -I/usr/local/include -fpic -g -O2 -Wall -c convert_methy_to_dss.cpp -o convert_methy_to_dss.o g++ -std=gnu++20 -I"/home/biocbuild/bbs-3.20-bioc/R/include" -DNDEBUG -I'/home/biocbuild/bbs-3.20-bioc/R/site-library/Rcpp/include' -I/usr/local/include -fpic -g -O2 -Wall -c count_cg.cpp -o count_cg.o g++ -std=gnu++20 -I"/home/biocbuild/bbs-3.20-bioc/R/include" -DNDEBUG -I'/home/biocbuild/bbs-3.20-bioc/R/site-library/Rcpp/include' -I/usr/local/include -fpic -g -O2 -Wall -c modbam.cpp -o modbam.o modbam.cpp: In function ‘GenomicModPos parse_bam(const string&, const string&, const string&, const string&, const string&, int)’: modbam.cpp:394:44: warning: comparison of integer expressions of different signedness: ‘int’ and ‘std::basic_string_view<char>::size_type’ {aka ‘long unsigned int’} [-Wsign-compare] 394 | while ( mod_string_end < mm_tok.size() && std::isalnum(mm_tok[mod_string_end]) ) { | ~~~~~~~~~~~~~~~^~~~~~~~~~~~~~~ modbam.cpp:400:40: warning: comparison of integer expressions of different signedness: ‘int’ and ‘std::basic_string_view<char>::size_type’ {aka ‘long unsigned int’} [-Wsign-compare] 400 | if (mod_string_end == mm_tok.size() || mm_tok[mod_string_end] == '.') { | ~~~~~~~~~~~~~~~^~~~~~~~~~~~~~~~ modbam.cpp:425:17: warning: ‘parse_mode’ may be used uninitialized in this function [-Wmaybe-uninitialized] 425 | if (parse_mode == ParseMode::skip_low_prob) { | ^~ modbam.cpp:426:21: warning: ‘target_base’ may be used uninitialized in this function [-Wmaybe-uninitialized] 426 | if (seq.at(seq_ind) == target_base) { | ^~ g++ -std=gnu++20 -I"/home/biocbuild/bbs-3.20-bioc/R/include" -DNDEBUG -I'/home/biocbuild/bbs-3.20-bioc/R/site-library/Rcpp/include' -I/usr/local/include -fpic -g -O2 -Wall -c utils.cpp -o utils.o g++ -std=gnu++20 -shared -L/home/biocbuild/bbs-3.20-bioc/R/lib -L/usr/local/lib -o NanoMethViz.so RcppExports.o convert_methy_to_dss.o count_cg.o modbam.o utils.o -lz -L/home/biocbuild/bbs-3.20-bioc/R/lib -lR installing to /home/biocbuild/bbs-3.20-bioc/R/site-library/00LOCK-NanoMethViz/00new/NanoMethViz/libs ** R ** inst ** byte-compile and prepare package for lazy loading ** help *** installing help indices ** building package indices ** installing vignettes ** testing if installed package can be loaded from temporary location ** checking absolute paths in shared objects and dynamic libraries ** testing if installed package can be loaded from final location ** testing if installed package keeps a record of temporary installation path * DONE (NanoMethViz)
NanoMethViz.Rcheck/tests/testthat.Rout
R version 4.4.1 (2024-06-14) -- "Race for Your Life" Copyright (C) 2024 The R Foundation for Statistical Computing Platform: x86_64-pc-linux-gnu R is free software and comes with ABSOLUTELY NO WARRANTY. You are welcome to redistribute it under certain conditions. Type 'license()' or 'licence()' for distribution details. R is a collaborative project with many contributors. Type 'contributors()' for more information and 'citation()' on how to cite R or R packages in publications. Type 'demo()' for some demos, 'help()' for on-line help, or 'help.start()' for an HTML browser interface to help. Type 'q()' to quit R. > library(testthat) > library(NanoMethViz) Loading required package: ggplot2 > > test_check("NanoMethViz") Starting 2 test processes [ FAIL 0 | WARN 0 | SKIP 0 | PASS 604 ] > > proc.time() user system elapsed 185.616 13.717 133.613
NanoMethViz.Rcheck/NanoMethViz-Ex.timings
name | user | system | elapsed | |
NanoMethResult-class | 3.947 | 0.219 | 4.168 | |
bsseq_to_edger | 0.616 | 0.028 | 0.647 | |
bsseq_to_log_methy_ratio | 0.959 | 0.016 | 0.975 | |
cluster_regions | 4.145 | 0.179 | 4.325 | |
create_tabix_file | 2.166 | 0.005 | 2.170 | |
exons_to_genes | 0.240 | 0.004 | 0.243 | |
filter_methy | 17.457 | 0.380 | 17.838 | |
get_example_exons_mus_musculus | 0.206 | 0.008 | 0.215 | |
get_exons | 42.217 | 1.675 | 43.965 | |
get_exons_homo_sapiens | 12.054 | 0.388 | 12.445 | |
get_exons_mus_musculus | 13.772 | 0.208 | 13.980 | |
load_example_modbamresult | 0.217 | 0.000 | 0.217 | |
load_example_nanomethresult | 0.215 | 0.000 | 0.216 | |
methy | 0.002 | 0.000 | 0.003 | |
methy_col_names | 0 | 0 | 0 | |
methy_to_bsseq | 0.861 | 0.016 | 0.876 | |
methy_to_edger | 0.972 | 0.016 | 0.988 | |
modbam_to_tabix | 0.468 | 0.456 | 0.716 | |
plot_agg_genes | 2.074 | 0.036 | 2.110 | |
plot_agg_regions | 5.075 | 0.040 | 5.115 | |
plot_gene | 8.063 | 0.128 | 8.191 | |
plot_gene_heatmap | 6.808 | 0.100 | 6.908 | |
plot_grange | 6.102 | 0.048 | 6.150 | |
plot_grange_heatmap | 4.736 | 0.052 | 4.788 | |
plot_mds | 1.331 | 0.016 | 1.347 | |
plot_pca | 1.417 | 0.012 | 1.429 | |
plot_region | 5.932 | 0.060 | 5.993 | |
plot_region_heatmap | 4.716 | 0.028 | 4.744 | |
plot_violin | 2.103 | 0.020 | 2.123 | |
query_methy | 0.34 | 0.00 | 0.34 | |
region_methy_stats | 0.980 | 0.008 | 0.988 | |