Back to Multiple platform build/check report for BioC 3.20: simplified long |
|
This page was generated on 2024-06-27 11:38 -0400 (Thu, 27 Jun 2024).
Hostname | OS | Arch (*) | R version | Installed pkgs |
---|---|---|---|---|
nebbiolo2 | Linux (Ubuntu 22.04.3 LTS) | x86_64 | 4.4.0 RC (2024-04-16 r86468) -- "Puppy Cup" | 4691 |
lconway | macOS 12.7.1 Monterey | x86_64 | 4.4.1 RC (2024-06-06 r86719) -- "Race for Your Life" | 4405 |
kjohnson3 | macOS 13.6.5 Ventura | arm64 | 4.4.1 RC (2024-06-06 r86719) -- "Race for Your Life" | 4354 |
Click on any hostname to see more info about the system (e.g. compilers) (*) as reported by 'uname -p', except on Windows and Mac OS X |
Package 582/2243 | Hostname | OS / Arch | INSTALL | BUILD | CHECK | BUILD BIN | ||||||||
DNABarcodeCompatibility 1.21.0 (landing page) Céline Trébeau
| nebbiolo2 | Linux (Ubuntu 22.04.3 LTS) / x86_64 | ERROR | ERROR | skipped | |||||||||
lconway | macOS 12.7.1 Monterey / x86_64 | ERROR | ERROR | skipped | skipped | |||||||||
kjohnson3 | macOS 13.6.5 Ventura / arm64 | ERROR | ERROR | skipped | skipped | |||||||||
To the developers/maintainers of the DNABarcodeCompatibility package: - Allow up to 24 hours (and sometimes 48 hours) for your latest push to git@git.bioconductor.org:packages/DNABarcodeCompatibility.git to reflect on this report. See Troubleshooting Build Report for more information. - Use the following Renviron settings to reproduce errors and warnings. - If 'R CMD check' started to fail recently on the Linux builder(s) over a missing dependency, add the missing dependency to 'Suggests:' in your DESCRIPTION file. See Renviron.bioc for more information. |
Package: DNABarcodeCompatibility |
Version: 1.21.0 |
Command: /Library/Frameworks/R.framework/Resources/bin/R CMD build --keep-empty-dirs --no-resave-data DNABarcodeCompatibility |
StartedAt: 2024-06-26 16:29:12 -0400 (Wed, 26 Jun 2024) |
EndedAt: 2024-06-26 16:29:13 -0400 (Wed, 26 Jun 2024) |
EllapsedTime: 1.1 seconds |
RetCode: 1 |
Status: ERROR |
PackageFile: None |
PackageFileSize: NA |
############################################################################## ############################################################################## ### ### Running command: ### ### /Library/Frameworks/R.framework/Resources/bin/R CMD build --keep-empty-dirs --no-resave-data DNABarcodeCompatibility ### ############################################################################## ############################################################################## * checking for file ‘DNABarcodeCompatibility/DESCRIPTION’ ... OK * preparing ‘DNABarcodeCompatibility’: * checking DESCRIPTION meta-information ... OK * installing the package to build vignettes ----------------------------------- ERROR: dependency ‘DNABarcodes’ is not available for package ‘DNABarcodeCompatibility’ * removing ‘/private/tmp/Rtmp6Cdz41/Rinst13aa628a676e1/DNABarcodeCompatibility’ ----------------------------------- ERROR: package installation failed