Back to Multiple platform build/check report for BioC 3.9 |
|
This page was generated on 2019-04-09 12:19:02 -0400 (Tue, 09 Apr 2019).
Package 935/1703 | Hostname | OS / Arch | INSTALL | BUILD | CHECK | BUILD BIN | ||||||
MeSHDbi 1.19.0 Koki Tsuyuzaki
| malbec2 | Linux (Ubuntu 18.04.2 LTS) / x86_64 | OK | OK | OK | |||||||
tokay2 | Windows Server 2012 R2 Standard / x64 | OK | OK | OK | [ OK ] | |||||||
celaya2 | OS X 10.11.6 El Capitan / x86_64 | OK | OK | OK | OK | |||||||
merida2 | OS X 10.11.6 El Capitan / x86_64 | OK | OK | OK | OK |
Package: MeSHDbi |
Version: 1.19.0 |
Command: rm -rf MeSHDbi.buildbin-libdir && mkdir MeSHDbi.buildbin-libdir && C:\Users\biocbuild\bbs-3.9-bioc\R\bin\R.exe CMD INSTALL --merge-multiarch --build --library=MeSHDbi.buildbin-libdir MeSHDbi_1.19.0.tar.gz |
StartedAt: 2019-04-09 08:25:38 -0400 (Tue, 09 Apr 2019) |
EndedAt: 2019-04-09 08:26:31 -0400 (Tue, 09 Apr 2019) |
EllapsedTime: 53.0 seconds |
RetCode: 0 |
Status: OK |
PackageFile: MeSHDbi_1.19.0.zip |
PackageFileSize: 274.2 KiB |
############################################################################## ############################################################################## ### ### Running command: ### ### rm -rf MeSHDbi.buildbin-libdir && mkdir MeSHDbi.buildbin-libdir && C:\Users\biocbuild\bbs-3.9-bioc\R\bin\R.exe CMD INSTALL --merge-multiarch --build --library=MeSHDbi.buildbin-libdir MeSHDbi_1.19.0.tar.gz ### ############################################################################## ############################################################################## install for i386 * installing *source* package 'MeSHDbi' ... ** R ** data ** inst ** byte-compile and prepare package for lazy loading Creating a new generic function for 'packageName' in package 'MeSHDbi' ** help *** installing help indices converting help for package 'MeSHDbi' finding HTML links ... done MeSHDb html PAO1 html listDatabases html makeMeSHPackage html meshVersion html metaPAO1 html nomenclature html packageName html ** building package indices ** installing vignettes ** testing if installed package can be loaded from temporary location ** testing if installed package can be loaded from final location ** testing if installed package keeps a record of temporary installation path install for x64 * installing *source* package 'MeSHDbi' ... ** testing if installed package can be loaded * MD5 sums packaged installation of 'MeSHDbi' as MeSHDbi_1.19.0.zip * DONE (MeSHDbi)