Back to Multiple platform build/check report for BioC 3.7 |
|
This page was generated on 2018-10-17 08:37:01 -0400 (Wed, 17 Oct 2018).
Package 367/1561 | Hostname | OS / Arch | INSTALL | BUILD | CHECK | BUILD BIN | ||||||
deltaGseg 1.20.0 Diana Low
| malbec2 | Linux (Ubuntu 16.04.1 LTS) / x86_64 | OK | OK | OK | |||||||
tokay2 | Windows Server 2012 R2 Standard / x64 | [ OK ] | OK | OK | OK | |||||||
merida2 | OS X 10.11.6 El Capitan / x86_64 | OK | OK | OK | OK |
Package: deltaGseg |
Version: 1.20.0 |
Command: C:\Users\biocbuild\bbs-3.7-bioc\R\bin\R.exe --arch x64 CMD INSTALL --no-multiarch deltaGseg |
StartedAt: 2018-10-16 19:20:29 -0400 (Tue, 16 Oct 2018) |
EndedAt: 2018-10-16 19:23:16 -0400 (Tue, 16 Oct 2018) |
EllapsedTime: 166.8 seconds |
RetCode: 0 |
Status: OK |
############################################################################## ############################################################################## ### ### Running command: ### ### C:\Users\biocbuild\bbs-3.7-bioc\R\bin\R.exe --arch x64 CMD INSTALL --no-multiarch deltaGseg ### ############################################################################## ############################################################################## * installing to library 'C:/Users/biocbuild/bbs-3.7-bioc/R/library' * installing *source* package 'deltaGseg' ... ** R ** data ** inst ** byte-compile and prepare package for lazy loading ** help *** installing help indices converting help for package 'deltaGseg' finding HTML links ... done SegSeriesTrajectories-class html SegTrajectories-class html Trajectories-class html TransTrajectories-class html chooseBreaks-methods html chooseBreaks html clusterPV-methods html clusterPV html clusterSegments-methods html clusterSegments html deltaGseg-package html denoiseSegments-methods html denoiseSegments html diagnosticPlots-methods html diagnosticPlots html getAVD-methods html getAVD html getBreaks-methods html getBreaks html getIntervals-methods html getIntervals html getSegments-methods html getSegments html getTNames-methods html getTNames html getTraj-methods html getTraj html parseTraj html plot-methods html plotDiff-methods html plotDiff html pvals html finding level-2 HTML links ... done show-methods html simtraj html simtraj.tr html simtraj.tr2 html splitTraj-methods html splitTraj html traj1 html traj1.denoise html traj1.ss html traj1.tr html transformSeries-methods html transformSeries html ** building package indices ** installing vignettes 'deltaGseg.Rnw' ** testing if installed package can be loaded * DONE (deltaGseg) Making 'packages.html' ... done In R CMD INSTALL