Back to Multiple platform build/check report for BioC 3.7
[A]BCDEFGHIJKLMNOPQRSTUVWXYZ

BUILD report for annmap on malbec2

This page was generated on 2018-07-19 10:34:03 -0400 (Thu, 19 Jul 2018).

Package 49/1560HostnameOS / ArchINSTALLBUILDCHECKBUILD BIN
annmap 1.22.0
Chris Wirth
Snapshot Date: 2018-07-18 16:45:10 -0400 (Wed, 18 Jul 2018)
URL: https://git.bioconductor.org/packages/annmap
Branch: RELEASE_3_7
Last Commit: e62e90a
Last Changed Date: 2018-04-30 10:35:25 -0400 (Mon, 30 Apr 2018)
malbec2 Linux (Ubuntu 16.04.1 LTS) / x86_64  OK [ OK ] WARNINGS UNNEEDED, same version exists in internal repository
tokay2 Windows Server 2012 R2 Standard / x64 ...NOT SUPPORTED...
merida2 OS X 10.11.6 El Capitan / x86_64  OK  OK  WARNINGS  OK UNNEEDED, same version exists in internal repository

Summary

Package: annmap
Version: 1.22.0
Command: /home/biocbuild/bbs-3.7-bioc/R/bin/R CMD build --keep-empty-dirs --no-resave-data annmap
StartedAt: 2018-07-18 19:31:46 -0400 (Wed, 18 Jul 2018)
EndedAt: 2018-07-18 19:32:13 -0400 (Wed, 18 Jul 2018)
EllapsedTime: 27.4 seconds
RetCode: 0
Status:  OK 
PackageFile: annmap_1.22.0.tar.gz
PackageFileSize: 884.4 KiB

Command output

##############################################################################
##############################################################################
###
### Running command:
###
###   /home/biocbuild/bbs-3.7-bioc/R/bin/R CMD build --keep-empty-dirs --no-resave-data annmap
###
##############################################################################
##############################################################################


* checking for file ‘annmap/DESCRIPTION’ ... OK
* preparing ‘annmap’:
* checking DESCRIPTION meta-information ... OK
* installing the package to build vignettes
* creating vignettes ... OK
* checking for LF line-endings in source and make files and shell scripts
* checking for empty or unneeded directories
* building ‘annmap_1.22.0.tar.gz’