Back to Multiple platform build/check report for BioC 3.7
[A]BCDEFGHIJKLMNOPQRSTUVWXYZ

INSTALL report for a4Preproc on malbec2

This page was generated on 2018-07-19 10:33:02 -0400 (Thu, 19 Jul 2018).

Package 5/1560HostnameOS / ArchINSTALLBUILDCHECKBUILD BIN
a4Preproc 1.28.0
Tobias Verbeke
Snapshot Date: 2018-07-18 16:45:10 -0400 (Wed, 18 Jul 2018)
URL: https://git.bioconductor.org/packages/a4Preproc
Branch: RELEASE_3_7
Last Commit: 435d667
Last Changed Date: 2018-04-30 10:35:18 -0400 (Mon, 30 Apr 2018)
malbec2 Linux (Ubuntu 16.04.1 LTS) / x86_64 [ OK ] OK  OK UNNEEDED, same version exists in internal repository
tokay2 Windows Server 2012 R2 Standard / x64  OK  OK  OK  OK UNNEEDED, same version exists in internal repository
merida2 OS X 10.11.6 El Capitan / x86_64  OK  OK  OK  OK UNNEEDED, same version exists in internal repository

Summary

Package: a4Preproc
Version: 1.28.0
Command: /home/biocbuild/bbs-3.7-bioc/R/bin/R CMD INSTALL a4Preproc
StartedAt: 2018-07-18 18:30:43 -0400 (Wed, 18 Jul 2018)
EndedAt: 2018-07-18 18:30:48 -0400 (Wed, 18 Jul 2018)
EllapsedTime: 5.0 seconds
RetCode: 0
Status:  OK 

Command output

##############################################################################
##############################################################################
###
### Running command:
###
###   /home/biocbuild/bbs-3.7-bioc/R/bin/R CMD INSTALL a4Preproc
###
##############################################################################
##############################################################################


* installing to library ‘/home/biocbuild/bbs-3.7-bioc/R/library’
* installing *source* package ‘a4Preproc’ ...
** R
** inst
** byte-compile and prepare package for lazy loading
** help
*** installing help indices
** building package indices
** testing if installed package can be loaded
* DONE (a4Preproc)