Back to Multiple platform build/check report for BioC 3.7
AB[C]DEFGHIJKLMNOPQRSTUVWXYZ

BUILD BIN report for CAFE on merida2

This page was generated on 2018-07-19 11:12:07 -0400 (Thu, 19 Jul 2018).

Package 177/1560HostnameOS / ArchINSTALLBUILDCHECKBUILD BIN
CAFE 1.16.0
Sander Bollen
Snapshot Date: 2018-07-18 16:45:10 -0400 (Wed, 18 Jul 2018)
URL: https://git.bioconductor.org/packages/CAFE
Branch: RELEASE_3_7
Last Commit: 2bbb237
Last Changed Date: 2018-04-30 10:35:32 -0400 (Mon, 30 Apr 2018)
malbec2 Linux (Ubuntu 16.04.1 LTS) / x86_64  OK  OK  OK UNNEEDED, same version exists in internal repository
tokay2 Windows Server 2012 R2 Standard / x64  OK  OK  OK  OK UNNEEDED, same version exists in internal repository
merida2 OS X 10.11.6 El Capitan / x86_64  OK  OK  OK [ OK ]UNNEEDED, same version exists in internal repository

Summary

Package: CAFE
Version: 1.16.0
Command: rm -rf CAFE.buildbin-libdir && mkdir CAFE.buildbin-libdir && /Users/biocbuild/BBS/utils/build-universal.sh CAFE_1.16.0.tar.gz /Library/Frameworks/R.framework/Versions/Current/Resources/bin/R CAFE.buildbin-libdir
StartedAt: 2018-07-19 03:07:21 -0400 (Thu, 19 Jul 2018)
EndedAt: 2018-07-19 03:08:04 -0400 (Thu, 19 Jul 2018)
EllapsedTime: 43.2 seconds
RetCode: 0
Status:  OK 
PackageFile: CAFE_1.16.0.tgz
PackageFileSize: 4.201 MiB

Command output

##############################################################################
##############################################################################
###
### Running command:
###
###   rm -rf CAFE.buildbin-libdir && mkdir CAFE.buildbin-libdir && /Users/biocbuild/BBS/utils/build-universal.sh CAFE_1.16.0.tar.gz /Library/Frameworks/R.framework/Versions/Current/Resources/bin/R CAFE.buildbin-libdir
###
##############################################################################
##############################################################################


>>>>>>> 
>>>>>>> INSTALLATION WITH 'R CMD INSTALL --preclean --no-multiarch --library=CAFE.buildbin-libdir CAFE_1.16.0.tar.gz'
>>>>>>> 

* installing *source* package ‘CAFE’ ...
** R
** data
** inst
** byte-compile and prepare package for lazy loading
** help
*** installing help indices
** building package indices
** installing vignettes
** testing if installed package can be loaded
* DONE (CAFE)