Back to Multiple platform build/check report for BioC 3.7
A[B]CDEFGHIJKLMNOPQRSTUVWXYZ

BUILD report for BiocCaseStudies on malbec2

This page was generated on 2018-07-19 10:31:10 -0400 (Thu, 19 Jul 2018).

Package 125/1560HostnameOS / ArchINSTALLBUILDCHECKBUILD BIN
BiocCaseStudies 1.42.0
Bioconductor Package Maintainer
Snapshot Date: 2018-07-18 16:45:10 -0400 (Wed, 18 Jul 2018)
URL: https://git.bioconductor.org/packages/BiocCaseStudies
Branch: RELEASE_3_7
Last Commit: 2cec164
Last Changed Date: 2018-04-30 10:35:08 -0400 (Mon, 30 Apr 2018)
malbec2 Linux (Ubuntu 16.04.1 LTS) / x86_64  OK [ OK ] OK UNNEEDED, same version exists in internal repository
tokay2 Windows Server 2012 R2 Standard / x64  OK  OK  OK  OK UNNEEDED, same version exists in internal repository
merida2 OS X 10.11.6 El Capitan / x86_64  OK  OK  OK  OK UNNEEDED, same version exists in internal repository

Summary

Package: BiocCaseStudies
Version: 1.42.0
Command: /home/biocbuild/bbs-3.7-bioc/R/bin/R CMD build --keep-empty-dirs --no-resave-data BiocCaseStudies
StartedAt: 2018-07-18 18:55:02 -0400 (Wed, 18 Jul 2018)
EndedAt: 2018-07-18 18:55:03 -0400 (Wed, 18 Jul 2018)
EllapsedTime: 0.5 seconds
RetCode: 0
Status:  OK 
PackageFile: BiocCaseStudies_1.42.0.tar.gz
PackageFileSize: 6.761 KiB

Command output

##############################################################################
##############################################################################
###
### Running command:
###
###   /home/biocbuild/bbs-3.7-bioc/R/bin/R CMD build --keep-empty-dirs --no-resave-data BiocCaseStudies
###
##############################################################################
##############################################################################


* checking for file ‘BiocCaseStudies/DESCRIPTION’ ... OK
* preparing ‘BiocCaseStudies’:
* checking DESCRIPTION meta-information ... OK
* checking for LF line-endings in source and make files and shell scripts
* checking for empty or unneeded directories
* building ‘BiocCaseStudies_1.42.0.tar.gz’