Name | Last modified | Size | Description | |
---|---|---|---|---|
Parent Directory | - | |||
install-summary.dcf | 03-Jul-2024 21:30 | 278 | ||
install-out.txt | 03-Jul-2024 21:30 | 1.0K | ||
checksrc-summary.dcf | 03-Jul-2024 21:30 | 453 | ||
checksrc-out.txt | 03-Jul-2024 21:30 | 2.4K | ||
buildsrc-summary.dcf | 03-Jul-2024 21:30 | 445 | ||
buildsrc-out.txt | 03-Jul-2024 21:30 | 886 | ||