Index of /checkResults/3.19/data-annotation-LATEST/AHWikipathwaysDbs/raw-results
Name
Last modified
Size
Description
Parent Directory
-
info.dcf
05-Jun-2024 21:30
293
nebbiolo1/
05-Jun-2024 21:30
-