Long Tests report for BioC 3.19

See here for how to subscribe to these builds.

This page was generated on 2024-07-20 23:55 -0400 (Sat, 20 Jul 2024).

Approx. Package Snapshot Date/Time (git pull): 2024-07-20 09:55 -0400 (Sat, 20 Jul 2024)
See this page for all the Bioconductor builds and their schedule.

HostnameOSArch (*)R versionInstalled pkgs
nebbiolo1Linux (Ubuntu 22.04.3 LTS)x86_644.4.1 (2024-06-14) -- "Race for Your Life" 4742
palomino7Windows Server 2022 Datacenterx644.4.1 (2024-06-14 ucrt) -- "Race for Your Life" 4484
merida1macOS 12.7.5 Montereyx86_644.4.1 (2024-06-14) -- "Race for Your Life" 4513
Click on any hostname to see more info about the system (e.g. compilers)      (*) as reported by 'uname -p', except on Windows and Mac OS X

Package status is indicated by one of the following glyphs
  TIMEOUT  
CHECK of package took more than 360 minutes
  ERROR  
Bad DESCRIPTION file, or CHECK of package produced errors
  WARNINGS  
CHECK of package produced warnings
  OK  
CHECK of package went OK
  NA  
CHECK result is not available because of an anomaly in the Build System
skipped
CHECK of package was skipped because the BUILD step failed
Click on any glyph in the report below to access the detailed report.

QUICK STATSOS / ArchCHECK
nebbiolo1Linux (Ubuntu 22.04.3 LTS) / x86_64
013317
palomino7Windows Server 2022 Datacenter / x64
014514
merida1macOS 12.7.5 Monterey / x86_64
010419
Package 1/33HostnameOS / ArchCHECK
APAlyzer 1.18.0  (landing page)
Ruijia Wang
git_last_commit: 2f81d23
git_last_commit_date: 2024-04-30 11:16:25 -0400
nebbiolo1Linux (Ubuntu 22.04.3 LTS) / x86_64  ERROR  
palomino7Windows Server 2022 Datacenter / x64  ERROR  
merida1macOS 12.7.5 Monterey / x86_64  ERROR  
Package 2/33HostnameOS / ArchCHECK
autonomics 1.12.1  (landing page)
Aditya Bhagwat
git_last_commit: 1da6999
git_last_commit_date: 2024-06-05 05:58:13 -0400
nebbiolo1Linux (Ubuntu 22.04.3 LTS) / x86_64  ERROR  
palomino7Windows Server 2022 Datacenter / x64  ERROR  
merida1macOS 12.7.5 Monterey / x86_64  ERROR  
Package 3/33HostnameOS / ArchCHECK
basilisk 1.16.0  (landing page)
Aaron Lun
git_last_commit: 0a27ae6
git_last_commit_date: 2024-04-30 11:20:50 -0400
nebbiolo1Linux (Ubuntu 22.04.3 LTS) / x86_64  OK  
palomino7Windows Server 2022 Datacenter / x64  OK  
merida1macOS 12.7.5 Monterey / x86_64  OK  
Package 4/33HostnameOS / ArchCHECK
beachmat 2.20.0  (landing page)
Aaron Lun
git_last_commit: fe0b119
git_last_commit_date: 2024-04-30 10:59:08 -0400
nebbiolo1Linux (Ubuntu 22.04.3 LTS) / x86_64  ERROR  
palomino7Windows Server 2022 Datacenter / x64  ERROR  
merida1macOS 12.7.5 Monterey / x86_64  ERROR  
Package 5/33HostnameOS / ArchCHECK
biodb 1.12.0  (landing page)
Pierrick Roger
git_last_commit: e3204cc
git_last_commit_date: 2024-04-30 11:34:11 -0400
nebbiolo1Linux (Ubuntu 22.04.3 LTS) / x86_64  WARNINGS  
palomino7Windows Server 2022 Datacenter / x64  ERROR  
merida1macOS 12.7.5 Monterey / x86_64  OK  
Package 6/33HostnameOS / ArchCHECK
biodbChebi 1.10.0  (landing page)
Pierrick Roger
git_last_commit: fad38a4
git_last_commit_date: 2024-04-30 11:37:31 -0400
nebbiolo1Linux (Ubuntu 22.04.3 LTS) / x86_64  OK  
palomino7Windows Server 2022 Datacenter / x64  OK  
merida1macOS 12.7.5 Monterey / x86_64  OK  
Package 7/33HostnameOS / ArchCHECK
biodbExpasy 1.8.0  (landing page)
Pierrick Roger
git_last_commit: de004e8
git_last_commit_date: 2024-04-30 11:41:12 -0400
nebbiolo1Linux (Ubuntu 22.04.3 LTS) / x86_64  ERROR  
palomino7Windows Server 2022 Datacenter / x64  ERROR  
merida1macOS 12.7.5 Monterey / x86_64  ERROR  
Package 8/33HostnameOS / ArchCHECK
biodbHmdb 1.10.0  (landing page)
Pierrick Roger
git_last_commit: a7f41b2
git_last_commit_date: 2024-04-30 11:39:05 -0400
nebbiolo1Linux (Ubuntu 22.04.3 LTS) / x86_64  WARNINGS  
palomino7Windows Server 2022 Datacenter / x64  WARNINGS  
merida1macOS 12.7.5 Monterey / x86_64  WARNINGS  
Package 9/33HostnameOS / ArchCHECK
biodbKegg 1.10.0  (landing page)
Pierrick Roger
git_last_commit: b3eb46e
git_last_commit_date: 2024-04-30 11:38:33 -0400
nebbiolo1Linux (Ubuntu 22.04.3 LTS) / x86_64  ERROR  
palomino7Windows Server 2022 Datacenter / x64  ERROR  
merida1macOS 12.7.5 Monterey / x86_64  ERROR  
Package 10/33HostnameOS / ArchCHECK
biodbLipidmaps 1.10.0  (landing page)
Pierrick Roger
git_last_commit: 323ed25
git_last_commit_date: 2024-04-30 11:39:02 -0400
nebbiolo1Linux (Ubuntu 22.04.3 LTS) / x86_64  ERROR  
palomino7Windows Server 2022 Datacenter / x64  ERROR  
merida1macOS 12.7.5 Monterey / x86_64  OK  
Package 11/33HostnameOS / ArchCHECK
biodbNcbi 1.8.0  (landing page)
Pierrick Roger
git_last_commit: 1365c98
git_last_commit_date: 2024-04-30 11:41:09 -0400
nebbiolo1Linux (Ubuntu 22.04.3 LTS) / x86_64  ERROR  
palomino7Windows Server 2022 Datacenter / x64  WARNINGS  
merida1macOS 12.7.5 Monterey / x86_64  WARNINGS  
Package 12/33HostnameOS / ArchCHECK
biodbNci 1.8.0  (landing page)
Pierrick Roger
git_last_commit: 0db4525
git_last_commit_date: 2024-04-30 11:41:04 -0400
nebbiolo1Linux (Ubuntu 22.04.3 LTS) / x86_64  OK  
palomino7Windows Server 2022 Datacenter / x64  OK  
merida1macOS 12.7.5 Monterey / x86_64  OK  
Package 13/33HostnameOS / ArchCHECK
biodbUniprot 1.10.0  (landing page)
Pierrick Roger
git_last_commit: e07b420
git_last_commit_date: 2024-04-30 11:38:08 -0400
nebbiolo1Linux (Ubuntu 22.04.3 LTS) / x86_64  OK  
palomino7Windows Server 2022 Datacenter / x64  OK  
merida1macOS 12.7.5 Monterey / x86_64  OK  
Package 14/33HostnameOS / ArchCHECK
cBioPortalData 2.16.0  (landing page)
Marcel Ramos
git_last_commit: 7ad8fdf
git_last_commit_date: 2024-04-30 11:24:11 -0400
nebbiolo1Linux (Ubuntu 22.04.3 LTS) / x86_64  OK  
palomino7Windows Server 2022 Datacenter / x64  OK  
merida1macOS 12.7.5 Monterey / x86_64  OK  
Package 15/33HostnameOS / ArchCHECK
ChromSCape 1.14.0  (landing page)
Pacome Prompsy
git_last_commit: ecb3c51
git_last_commit_date: 2024-04-30 11:27:45 -0400
nebbiolo1Linux (Ubuntu 22.04.3 LTS) / x86_64  ERROR  
palomino7Windows Server 2022 Datacenter / x64  ERROR  
merida1macOS 12.7.5 Monterey / x86_64  ERROR  
Package 16/33HostnameOS / ArchCHECK
clusterExperiment 2.24.0  (landing page)
Elizabeth Purdom
git_last_commit: 7bc9ecb
git_last_commit_date: 2024-04-30 10:52:11 -0400
nebbiolo1Linux (Ubuntu 22.04.3 LTS) / x86_64  ERROR  
palomino7Windows Server 2022 Datacenter / x64  ERROR  
merida1macOS 12.7.5 Monterey / x86_64  ERROR  
Package 17/33HostnameOS / ArchCHECK
CRISPRball 1.0.0  (landing page)
Jared Andrews
git_last_commit: 6d0b333
git_last_commit_date: 2024-04-30 11:53:28 -0400
nebbiolo1Linux (Ubuntu 22.04.3 LTS) / x86_64  OK  
palomino7Windows Server 2022 Datacenter / x64  OK  
merida1macOS 12.7.5 Monterey / x86_64  OK  
Package 18/33HostnameOS / ArchCHECK
crisprScore 1.8.0  (landing page)
Jean-Philippe Fortin
git_last_commit: af3634d
git_last_commit_date: 2024-04-30 11:39:45 -0400
nebbiolo1Linux (Ubuntu 22.04.3 LTS) / x86_64  OK  
palomino7Windows Server 2022 Datacenter / x64  OK  
merida1macOS 12.7.5 Monterey / x86_64  OK  
Package 19/33HostnameOS / ArchCHECK
DelayedMatrixStats 1.26.0  (landing page)
Peter Hickey
git_last_commit: 5774778
git_last_commit_date: 2024-04-30 11:01:46 -0400
nebbiolo1Linux (Ubuntu 22.04.3 LTS) / x86_64  OK  
palomino7Windows Server 2022 Datacenter / x64  OK  
merida1macOS 12.7.5 Monterey / x86_64  OK  
Package 20/33HostnameOS / ArchCHECK
DropletUtils 1.24.0  (landing page)
Jonathan Griffiths
git_last_commit: b6ab9f0
git_last_commit_date: 2024-04-30 11:03:17 -0400
nebbiolo1Linux (Ubuntu 22.04.3 LTS) / x86_64  OK  
palomino7Windows Server 2022 Datacenter / x64  OK  
merida1macOS 12.7.5 Monterey / x86_64  OK  
Package 21/33HostnameOS / ArchCHECK
EpiMix 1.6.1  (landing page)
Yuanning Zheng
git_last_commit: 0e85cbb
git_last_commit_date: 2024-05-01 12:48:30 -0400
nebbiolo1Linux (Ubuntu 22.04.3 LTS) / x86_64  OK  
palomino7Windows Server 2022 Datacenter / x64  OK  
merida1macOS 12.7.5 Monterey / x86_64  OK  
Package 22/33HostnameOS / ArchCHECK
extraChIPs 1.8.1  (landing page)
Stevie Pederson
git_last_commit: 8147515
git_last_commit_date: 2024-05-04 09:14:23 -0400
nebbiolo1Linux (Ubuntu 22.04.3 LTS) / x86_64  OK  
palomino7Windows Server 2022 Datacenter / x64  OK  
merida1macOS 12.7.5 Monterey / x86_64  OK  
Package 23/33HostnameOS / ArchCHECK
GenomicFeatures 1.56.0  (landing page)
H. Pagès
git_last_commit: e3c5136
git_last_commit_date: 2024-04-30 13:30:42 -0400
nebbiolo1Linux (Ubuntu 22.04.3 LTS) / x86_64  WARNINGS  
palomino7Windows Server 2022 Datacenter / x64  WARNINGS  
merida1macOS 12.7.5 Monterey / x86_64  WARNINGS  
Package 24/33HostnameOS / ArchCHECK
ginmappeR 1.0.2  (landing page)
Fernando Sola
git_last_commit: 5e60180
git_last_commit_date: 2024-06-10 06:13:06 -0400
nebbiolo1Linux (Ubuntu 22.04.3 LTS) / x86_64  OK  
palomino7Windows Server 2022 Datacenter / x64  OK  
merida1macOS 12.7.5 Monterey / x86_64  OK  
Package 25/33HostnameOS / ArchCHECK
HDF5Array 1.32.0  (landing page)
Hervé Pagès
git_last_commit: eea6c75
git_last_commit_date: 2024-04-30 14:09:32 -0400
nebbiolo1Linux (Ubuntu 22.04.3 LTS) / x86_64  ERROR  
palomino7Windows Server 2022 Datacenter / x64  WARNINGS  
merida1macOS 12.7.5 Monterey / x86_64  WARNINGS  
Package 26/33HostnameOS / ArchCHECK
midasHLA 1.12.0  (landing page)
Maciej Migdał
git_last_commit: 2177fbd
git_last_commit_date: 2024-04-30 11:31:38 -0400
nebbiolo1Linux (Ubuntu 22.04.3 LTS) / x86_64  ERROR  
palomino7Windows Server 2022 Datacenter / x64  ERROR  
merida1macOS 12.7.5 Monterey / x86_64  ERROR  
Package 27/33HostnameOS / ArchCHECK
mosdef 1.0.0  (landing page)
Federico Marini
git_last_commit: 1c35951
git_last_commit_date: 2024-04-30 11:56:21 -0400
nebbiolo1Linux (Ubuntu 22.04.3 LTS) / x86_64  OK  
palomino7Windows Server 2022 Datacenter / x64  OK  
merida1macOS 12.7.5 Monterey / x86_64  OK  
Package 28/33HostnameOS / ArchCHECK
MungeSumstats 1.12.0  (landing page)
Alan Murphy
git_last_commit: f27fce8
git_last_commit_date: 2024-04-30 11:33:16 -0400
nebbiolo1Linux (Ubuntu 22.04.3 LTS) / x86_64  OK  
palomino7Windows Server 2022 Datacenter / x64  OK  
merida1macOS 12.7.5 Monterey / x86_64  OK  
Package 29/33HostnameOS / ArchCHECK
rhdf5 2.48.0  (landing page)
Mike Smith
git_last_commit: 9541eda
git_last_commit_date: 2024-04-30 10:26:43 -0400
nebbiolo1Linux (Ubuntu 22.04.3 LTS) / x86_64  OK  
palomino7Windows Server 2022 Datacenter / x64  WARNINGS  
merida1macOS 12.7.5 Monterey / x86_64  OK  
Package 30/33HostnameOS / ArchCHECK
SimBu 1.6.0  (landing page)
Alexander Dietrich
git_last_commit: 15b2ed9
git_last_commit_date: 2024-04-30 11:44:04 -0400
nebbiolo1Linux (Ubuntu 22.04.3 LTS) / x86_64  OK  
palomino7Windows Server 2022 Datacenter / x64  ERROR  
merida1macOS 12.7.5 Monterey / x86_64  OK  
Package 31/33HostnameOS / ArchCHECK
TENxIO 1.6.0  (landing page)
Marcel Ramos
git_last_commit: 2372980
git_last_commit_date: 2024-04-30 11:45:22 -0400
nebbiolo1Linux (Ubuntu 22.04.3 LTS) / x86_64  ERROR  
palomino7Windows Server 2022 Datacenter / x64  ERROR  
merida1macOS 12.7.5 Monterey / x86_64  ERROR  
Package 32/33HostnameOS / ArchCHECK
xcms 4.2.2  (landing page)
Steffen Neumann
git_last_commit: 3574486
git_last_commit_date: 2024-06-07 03:32:15 -0400
nebbiolo1Linux (Ubuntu 22.04.3 LTS) / x86_64  ERROR  
palomino7Windows Server 2022 Datacenter / x64  ERROR  
merida1macOS 12.7.5 Monterey / x86_64  ERROR  
Package 33/33HostnameOS / ArchCHECK
zellkonverter 1.14.1  (landing page)
Luke Zappia
git_last_commit: c90c58a
git_last_commit_date: 2024-06-21 04:52:52 -0400
nebbiolo1Linux (Ubuntu 22.04.3 LTS) / x86_64  OK  
palomino7Windows Server 2022 Datacenter / x64  ERROR  
merida1macOS 12.7.5 Monterey / x86_64  OK