Back to Multiple platform build/check report for BioC 3.19: simplified long |
|
This page was generated on 2024-06-07 20:24 -0400 (Fri, 07 Jun 2024).
Hostname | OS | Arch (*) | R version | Installed pkgs |
---|---|---|---|---|
nebbiolo1 | Linux (Ubuntu 22.04.3 LTS) | x86_64 | 4.4.0 (2024-04-24) -- "Puppy Cup" | 4755 |
palomino3 | Windows Server 2022 Datacenter | x64 | 4.4.0 (2024-04-24 ucrt) -- "Puppy Cup" | 4489 |
lconway | macOS 12.7.1 Monterey | x86_64 | 4.4.0 (2024-04-24) -- "Puppy Cup" | 4520 |
kjohnson3 | macOS 13.6.5 Ventura | arm64 | 4.4.0 (2024-04-24) -- "Puppy Cup" | 4466 |
Click on any hostname to see more info about the system (e.g. compilers) (*) as reported by 'uname -p', except on Windows and Mac OS X |
Package 262/2300 | Hostname | OS / Arch | INSTALL | BUILD | CHECK | BUILD BIN | ||||||||
CAGEfightR 1.24.0 (landing page) Malte Thodberg
| nebbiolo1 | Linux (Ubuntu 22.04.3 LTS) / x86_64 | OK | OK | OK | |||||||||
palomino3 | Windows Server 2022 Datacenter / x64 | OK | OK | OK | OK | |||||||||
lconway | macOS 12.7.1 Monterey / x86_64 | OK | OK | OK | OK | |||||||||
kjohnson3 | macOS 13.6.5 Ventura / arm64 | OK | OK | OK | OK | |||||||||
To the developers/maintainers of the CAGEfightR package: - Allow up to 24 hours (and sometimes 48 hours) for your latest push to git@git.bioconductor.org:packages/CAGEfightR.git to reflect on this report. See Troubleshooting Build Report for more information. - Use the following Renviron settings to reproduce errors and warnings. - If 'R CMD check' started to fail recently on the Linux builder(s) over a missing dependency, add the missing dependency to 'Suggests:' in your DESCRIPTION file. See Renviron.bioc for more information. |
Package: CAGEfightR |
Version: 1.24.0 |
Command: /home/biocbuild/bbs-3.19-bioc/R/bin/R CMD check --install=check:CAGEfightR.install-out.txt --library=/home/biocbuild/bbs-3.19-bioc/R/site-library --timings CAGEfightR_1.24.0.tar.gz |
StartedAt: 2024-06-05 21:13:20 -0400 (Wed, 05 Jun 2024) |
EndedAt: 2024-06-05 21:22:05 -0400 (Wed, 05 Jun 2024) |
EllapsedTime: 525.1 seconds |
RetCode: 0 |
Status: OK |
CheckDir: CAGEfightR.Rcheck |
Warnings: 0 |
############################################################################## ############################################################################## ### ### Running command: ### ### /home/biocbuild/bbs-3.19-bioc/R/bin/R CMD check --install=check:CAGEfightR.install-out.txt --library=/home/biocbuild/bbs-3.19-bioc/R/site-library --timings CAGEfightR_1.24.0.tar.gz ### ############################################################################## ############################################################################## * using log directory ‘/home/biocbuild/bbs-3.19-bioc/meat/CAGEfightR.Rcheck’ * using R version 4.4.0 (2024-04-24) * using platform: x86_64-pc-linux-gnu * R was compiled by gcc (Ubuntu 11.4.0-1ubuntu1~22.04) 11.4.0 GNU Fortran (Ubuntu 11.4.0-1ubuntu1~22.04) 11.4.0 * running under: Ubuntu 22.04.4 LTS * using session charset: UTF-8 * checking for file ‘CAGEfightR/DESCRIPTION’ ... OK * checking extension type ... Package * this is package ‘CAGEfightR’ version ‘1.24.0’ * package encoding: UTF-8 * checking package namespace information ... OK * checking package dependencies ... OK * checking if this is a source package ... OK * checking if there is a namespace ... OK * checking for hidden files and directories ... OK * checking for portable file names ... OK * checking for sufficient/correct file permissions ... OK * checking whether package ‘CAGEfightR’ can be installed ... OK * checking installed package size ... OK * checking package directory ... OK * checking ‘build’ directory ... OK * checking DESCRIPTION meta-information ... OK * checking top-level files ... OK * checking for left-over files ... OK * checking index information ... OK * checking package subdirectories ... OK * checking code files for non-ASCII characters ... OK * checking R files for syntax errors ... OK * checking whether the package can be loaded ... OK * checking whether the package can be loaded with stated dependencies ... OK * checking whether the package can be unloaded cleanly ... OK * checking whether the namespace can be loaded with stated dependencies ... OK * checking whether the namespace can be unloaded cleanly ... OK * checking loading without being on the library search path ... OK * checking whether startup messages can be suppressed ... OK * checking dependencies in R code ... OK * checking S3 generic/method consistency ... OK * checking replacement functions ... OK * checking foreign function calls ... OK * checking R code for possible problems ... OK * checking Rd files ... OK * checking Rd metadata ... OK * checking Rd cross-references ... OK * checking for missing documentation entries ... OK * checking for code/documentation mismatches ... OK * checking Rd \usage sections ... OK * checking Rd contents ... OK * checking for unstated dependencies in examples ... OK * checking contents of ‘data’ directory ... OK * checking data for non-ASCII characters ... OK * checking LazyData ... OK * checking data for ASCII and uncompressed saves ... OK * checking files in ‘vignettes’ ... OK * checking examples ... OK Examples with CPU (user + system) or elapsed time > 5s user system elapsed findLinks 5.522 0.831 5.748 * checking for unstated dependencies in vignettes ... OK * checking package vignettes ... OK * checking re-building of vignette outputs ... OK * checking PDF version of manual ... OK * DONE Status: OK
CAGEfightR.Rcheck/00install.out
############################################################################## ############################################################################## ### ### Running command: ### ### /home/biocbuild/bbs-3.19-bioc/R/bin/R CMD INSTALL CAGEfightR ### ############################################################################## ############################################################################## * installing to library ‘/home/biocbuild/bbs-3.19-bioc/R/site-library’ * installing *source* package ‘CAGEfightR’ ... ** using staged installation ** R ** data *** moving datasets to lazyload DB ** inst ** byte-compile and prepare package for lazy loading ** help *** installing help indices ** building package indices ** installing vignettes ** testing if installed package can be loaded from temporary location ** testing if installed package can be loaded from final location ** testing if installed package keeps a record of temporary installation path * DONE (CAGEfightR)
CAGEfightR.Rcheck/CAGEfightR-Ex.timings
name | user | system | elapsed | |
assignGeneID | 3.376 | 0.040 | 3.422 | |
assignMissingID | 0.936 | 0.000 | 0.936 | |
assignTxID | 0.752 | 0.008 | 0.759 | |
assignTxType | 0.001 | 0.000 | 0.000 | |
balanceBC | 0.001 | 0.000 | 0.000 | |
balanceD | 0.001 | 0.000 | 0.000 | |
bwCommonGenome | 0.026 | 0.008 | 0.037 | |
bwGenomeCompatibility | 0.015 | 0.000 | 0.016 | |
bwValid | 0.007 | 0.000 | 0.007 | |
calcBidirectionality | 0.375 | 0.000 | 0.375 | |
calcComposition | 1.209 | 0.012 | 1.221 | |
calcPooled | 0.078 | 0.000 | 0.078 | |
calcShape | 2.019 | 0.116 | 2.135 | |
calcSupport | 0.087 | 0.004 | 0.092 | |
calcTPM | 0.112 | 0.008 | 0.120 | |
calcTotalTags | 0.073 | 0.012 | 0.086 | |
checkCTSSs | 0.21 | 0.00 | 0.21 | |
checkPeaked | 0.056 | 0.000 | 0.056 | |
checkPooled | 0.052 | 0.000 | 0.052 | |
clusterBidirectionally | 0.000 | 0.000 | 0.001 | |
clusterUnidirectionally | 2.214 | 0.056 | 2.271 | |
combineClusters | 0.638 | 0.004 | 0.643 | |
convertBAM2BigWig | 0 | 0 | 0 | |
convertBED2BigWig | 0.000 | 0.001 | 0.000 | |
convertGRanges2GPos | 0.063 | 0.001 | 0.065 | |
exampleDesign | 0.000 | 0.004 | 0.005 | |
findLinks | 5.522 | 0.831 | 5.748 | |
findStretches | 0.324 | 0.028 | 0.351 | |
quantifyCTSSs | 0.000 | 0.000 | 0.001 | |
quantifyCTSSs2 | 0.000 | 0.001 | 0.001 | |
quantifyClusters | 0.347 | 0.043 | 0.390 | |
quantifyGenes | 1.115 | 0.040 | 1.155 | |
quickEnhancers | 0 | 0 | 0 | |
quickGenes | 0 | 0 | 0 | |
quickTSSs | 0 | 0 | 0 | |
shapeEntropy | 0.000 | 0.000 | 0.001 | |
shapeIQR | 0.000 | 0.000 | 0.001 | |
shapeMean | 0.001 | 0.000 | 0.001 | |
shapeMultimodality | 0.000 | 0.000 | 0.001 | |
subsetByBidirectionality | 0.358 | 0.004 | 0.362 | |
subsetByComposition | 1.092 | 0.016 | 1.108 | |
subsetBySupport | 0.056 | 0.008 | 0.064 | |
swapRanges | 0.147 | 0.004 | 0.151 | |
swapScores | 0.078 | 0.000 | 0.079 | |
trackBalance | 0.000 | 0.000 | 0.001 | |
trackCTSS | 2.835 | 0.152 | 2.988 | |
trackClusters | 1.929 | 0.040 | 1.969 | |
trackLinks | 0.787 | 0.335 | 0.905 | |
trimToPeak | 0.676 | 0.036 | 0.711 | |
trimToPercentiles | 1.592 | 0.028 | 1.620 | |
tuneTagClustering | 0.000 | 0.001 | 0.000 | |
utilsAggregateRows | 0.284 | 0.451 | 0.735 | |
utilsDeStrand | 0.102 | 0.004 | 0.106 | |
utilsScoreOverlaps | 0.055 | 0.004 | 0.058 | |
utilsSimplifyTxDb | 0.001 | 0.000 | 0.001 | |