Back to Multiple platform build/check report for BioC 3.18: simplified long |
|
This page was generated on 2024-04-17 11:35:53 -0400 (Wed, 17 Apr 2024).
Hostname | OS | Arch (*) | R version | Installed pkgs |
---|---|---|---|---|
nebbiolo2 | Linux (Ubuntu 22.04.3 LTS) | x86_64 | 4.3.3 (2024-02-29) -- "Angel Food Cake" | 4676 |
palomino4 | Windows Server 2022 Datacenter | x64 | 4.3.3 (2024-02-29 ucrt) -- "Angel Food Cake" | 4414 |
merida1 | macOS 12.7.1 Monterey | x86_64 | 4.3.3 (2024-02-29) -- "Angel Food Cake" | 4437 |
Click on any hostname to see more info about the system (e.g. compilers) (*) as reported by 'uname -p', except on Windows and Mac OS X |
Package 480/2266 | Hostname | OS / Arch | INSTALL | BUILD | CHECK | BUILD BIN | ||||||||
cyanoFilter 1.10.0 (landing page) Oluwafemi Olusoji
| nebbiolo2 | Linux (Ubuntu 22.04.3 LTS) / x86_64 | OK | OK | OK | |||||||||
palomino4 | Windows Server 2022 Datacenter / x64 | OK | OK | OK | OK | |||||||||
merida1 | macOS 12.7.1 Monterey / x86_64 | OK | OK | OK | OK | |||||||||
kjohnson1 | macOS 13.6.1 Ventura / arm64 | see weekly results here | ||||||||||||
To the developers/maintainers of the cyanoFilter package: - Allow up to 24 hours (and sometimes 48 hours) for your latest push to git@git.bioconductor.org:packages/cyanoFilter.git to reflect on this report. See Troubleshooting Build Report for more information. - Use the following Renviron settings to reproduce errors and warnings. - If 'R CMD check' started to fail recently on the Linux builder(s) over a missing dependency, add the missing dependency to 'Suggests:' in your DESCRIPTION file. See Renviron.bioc for more information. |
Package: cyanoFilter |
Version: 1.10.0 |
Command: /home/biocbuild/bbs-3.18-bioc/R/bin/R CMD check --install=check:cyanoFilter.install-out.txt --library=/home/biocbuild/bbs-3.18-bioc/R/site-library --timings cyanoFilter_1.10.0.tar.gz |
StartedAt: 2024-04-15 21:45:30 -0400 (Mon, 15 Apr 2024) |
EndedAt: 2024-04-15 21:48:28 -0400 (Mon, 15 Apr 2024) |
EllapsedTime: 177.9 seconds |
RetCode: 0 |
Status: OK |
CheckDir: cyanoFilter.Rcheck |
Warnings: 0 |
############################################################################## ############################################################################## ### ### Running command: ### ### /home/biocbuild/bbs-3.18-bioc/R/bin/R CMD check --install=check:cyanoFilter.install-out.txt --library=/home/biocbuild/bbs-3.18-bioc/R/site-library --timings cyanoFilter_1.10.0.tar.gz ### ############################################################################## ############################################################################## * using log directory ‘/home/biocbuild/bbs-3.18-bioc/meat/cyanoFilter.Rcheck’ * using R version 4.3.3 (2024-02-29) * using platform: x86_64-pc-linux-gnu (64-bit) * R was compiled by gcc (Ubuntu 11.4.0-1ubuntu1~22.04) 11.4.0 GNU Fortran (Ubuntu 11.4.0-1ubuntu1~22.04) 11.4.0 * running under: Ubuntu 22.04.4 LTS * using session charset: UTF-8 * checking for file ‘cyanoFilter/DESCRIPTION’ ... OK * checking extension type ... Package * this is package ‘cyanoFilter’ version ‘1.10.0’ * package encoding: UTF-8 * checking package namespace information ... OK * checking package dependencies ... OK * checking if this is a source package ... OK * checking if there is a namespace ... OK * checking for hidden files and directories ... OK * checking for portable file names ... OK * checking for sufficient/correct file permissions ... OK * checking whether package ‘cyanoFilter’ can be installed ... OK * checking installed package size ... OK * checking package directory ... OK * checking ‘build’ directory ... OK * checking DESCRIPTION meta-information ... OK * checking top-level files ... OK * checking for left-over files ... OK * checking index information ... OK * checking package subdirectories ... OK * checking R files for non-ASCII characters ... OK * checking R files for syntax errors ... OK * checking whether the package can be loaded ... OK * checking whether the package can be loaded with stated dependencies ... OK * checking whether the package can be unloaded cleanly ... OK * checking whether the namespace can be loaded with stated dependencies ... OK * checking whether the namespace can be unloaded cleanly ... OK * checking loading without being on the library search path ... OK * checking dependencies in R code ... OK * checking S3 generic/method consistency ... OK * checking replacement functions ... OK * checking foreign function calls ... OK * checking R code for possible problems ... OK * checking Rd files ... OK * checking Rd metadata ... OK * checking Rd cross-references ... OK * checking for missing documentation entries ... OK * checking for code/documentation mismatches ... OK * checking Rd \usage sections ... OK * checking Rd contents ... OK * checking for unstated dependencies in examples ... OK * checking files in ‘vignettes’ ... OK * checking examples ... OK Examples with CPU (user + system) or elapsed time > 5s user system elapsed gateFunc 8.403 0.28 6.932 * checking for unstated dependencies in vignettes ... OK * checking package vignettes in ‘inst/doc’ ... OK * checking running R code from vignettes ... ‘cyanoFilter.Rmd’ using ‘UTF-8’... OK OK * checking re-building of vignette outputs ... OK * checking PDF version of manual ... OK * DONE Status: OK
cyanoFilter.Rcheck/00install.out
############################################################################## ############################################################################## ### ### Running command: ### ### /home/biocbuild/bbs-3.18-bioc/R/bin/R CMD INSTALL cyanoFilter ### ############################################################################## ############################################################################## * installing to library ‘/home/biocbuild/bbs-3.18-bioc/R/site-library’ * installing *source* package ‘cyanoFilter’ ... ** using staged installation ** R ** inst ** byte-compile and prepare package for lazy loading ** help *** installing help indices ** building package indices ** installing vignettes ** testing if installed package can be loaded from temporary location ** testing if installed package can be loaded from final location ** testing if installed package keeps a record of temporary installation path * DONE (cyanoFilter)
cyanoFilter.Rcheck/cyanoFilter-Ex.timings
name | user | system | elapsed | |
MarginEvents | 0.772 | 0.028 | 0.801 | |
PhytoFilter | 0.497 | 0.031 | 0.529 | |
PhytopFilter | 0.531 | 0.019 | 0.551 | |
accTest | 0.316 | 0.012 | 0.328 | |
accuracy | 0.317 | 0.000 | 0.318 | |
cellmargin | 0.254 | 0.000 | 0.256 | |
clusterExtract | 0.651 | 0.004 | 0.655 | |
clusterExtractp | 0.847 | 0.060 | 0.907 | |
debrisNc | 0.485 | 0.008 | 0.492 | |
fullFlowframe-MarginEvents-method | 0.247 | 0.000 | 0.247 | |
fullFlowframe-PhytopFilter-method | 0.506 | 0.012 | 0.518 | |
fullFlowframe | 0.246 | 0.012 | 0.258 | |
gateFunc | 8.403 | 0.280 | 6.932 | |
ggpairsDens | 3.149 | 0.128 | 3.278 | |
ggplotDens | 0.485 | 0.044 | 0.530 | |
ggplotDens2 | 0.687 | 0.020 | 0.707 | |
goodfcs | 0.048 | 0.000 | 0.048 | |
is.DebrisFilter | 0.001 | 0.000 | 0.000 | |
is.MarginEvents | 0 | 0 | 0 | |
is.PhytopFilter | 0 | 0 | 0 | |
is.flowFrame | 0 | 0 | 0 | |
is.flowSet | 0 | 0 | 0 | |
lnTrans | 0.172 | 0.008 | 0.179 | |
newFlowframe | 0.171 | 0.020 | 0.191 | |
nona | 0.097 | 0.000 | 0.098 | |
noneg | 0.128 | 0.012 | 0.140 | |
oneDgate | 0.179 | 0.008 | 0.186 | |
pairsPlot | 1.783 | 0.028 | 1.811 | |
pigmentGate | 0.237 | 0.020 | 0.257 | |
reducedFlowframe-MarginEvents-method | 0.259 | 0.008 | 0.266 | |
reducedFlowframe | 0.261 | 0.000 | 0.260 | |
retain | 0.014 | 0.000 | 0.014 | |
rowNumbers | 0.177 | 0.008 | 0.186 | |
summaries-DebrisFilter-method | 0.525 | 0.052 | 0.577 | |
summaries-MarginEvents-method | 0.247 | 0.004 | 0.250 | |
summaries-PhytopFilter-method | 0.509 | 0.004 | 0.512 | |
summaries | 0.259 | 0.004 | 0.263 | |