Long Tests report for BioC 3.15

See here for how to subscribe to these builds.

This page was generated on 2021-11-22 09:17:10 -0500 (Mon, 22 Nov 2021).

Approx. Package Snapshot Date (git pull): 2021-11-20 08:00:01 -0500 (Sat, 20 Nov 2021)

HostnameOSArch (*)Platform label (**)R versionInstalled pkgs
nebbiolo1Linux (Ubuntu 20.04.3 LTS)x86_64x86_64-linux-gnuR Under development (unstable) (2021-11-10 r81171) -- "Unsuffered Consequences" 4294
Click on any hostname to see more info about the system (e.g. compilers)      (*) as reported by 'uname -p', except on Windows and Mac OS X      (**) as reported by 'gcc -v'

Package status is indicated by one of the following glyphs
  TIMEOUT  
CHECK of package took more than 360 minutes
  ERROR  
Bad DESCRIPTION file or CHECK of package produced errors
  WARNINGS  
CHECK of package produced warnings
  OK  
CHECK
  NA  
CHECK result is not available because of an anomaly in the Build System
Click on any glyph in the report below to access the detailed report.

QUICK STATSOS / ArchCHECK
nebbiolo1Linux (Ubuntu 20.04.3 LTS) / x86_64
0929
PackageMaintainerCHECK
1/20APAlyzer 1.9.0  (landing page)Ruijia Wang  ERROR  
2/20autonomics 1.3.0  (landing page)Aditya Bhagwat  ERROR  
3/20beachmat 2.11.0  (landing page)Aaron Lun  ERROR  
4/20biodb 1.3.0  (landing page)Pierrick Roger  OK  
5/20biodbChebi 1.1.0  (landing page)Pierrick Roger  OK  
6/20biodbHmdb 1.1.1  (landing page)Pierrick Roger  OK  
7/20biodbKegg 1.1.0  (landing page)Pierrick Roger  OK  
8/20biodbLipidmaps 1.1.0  (landing page)Pierrick Roger  OK  
9/20biodbUniprot 1.1.0  (landing page)Pierrick Roger  OK  
10/20cBioPortalData 2.7.2  (landing page)Marcel Ramos  WARNINGS  
11/20ChromSCape 1.5.0  (landing page)Pacome Prompsy  ERROR  
12/20clusterExperiment 2.15.1  (landing page)Elizabeth Purdom  ERROR  
13/20DelayedMatrixStats 1.17.0  (landing page)Peter Hickey  OK  
14/20DropletUtils 1.15.2  (landing page)Jonathan Griffiths  OK  
15/20GenomicFeatures 1.47.2  (landing page)Bioconductor Package Maintainer  WARNINGS  
16/20HDF5Array 1.23.2  (landing page)Hervé Pagès  ERROR  
17/20midasHLA 1.3.0  (landing page)Maciej Migdał  ERROR  
18/20rhdf5 2.39.0  (landing page)Mike Smith  OK  
19/20xcms 3.17.1  (landing page)Steffen Neumann  ERROR  
20/20zellkonverter 1.5.0  (landing page)Luke Zappia  ERROR