Back to Build/check report for BioC 3.14 annotations
ABCDEF[G]HIJKLMNOPQRSTUVWXYZ

This page was generated on 2022-01-19 06:00:08 -0500 (Wed, 19 Jan 2022).

HostnameOSArch (*)R versionInstalled pkgs
nebbiolo2Linux (Ubuntu 20.04.4 LTS)x86_644.1.2 (2021-11-01) -- "Bird Hippie" 4328
Click on any hostname to see more info about the system (e.g. compilers)      (*) as reported by 'uname -p', except on Windows and Mac OS X

BUILD results for GenomicState on nebbiolo2


To the developers/maintainers of the GenomicState package:
Make sure to use the following settings in order to reproduce any error or warning you see on this page.

raw results

Package 20/33HostnameOS / ArchINSTALLBUILDCHECK
GenomicState 0.99.15  (landing page)
Leonardo Collado-Torres
Snapshot Date: 2022-01-19 02:30:01 -0500 (Wed, 19 Jan 2022)
git_url: https://git.bioconductor.org/packages/GenomicState
git_branch: master
git_last_commit: 6135721
git_last_commit_date: 2021-08-09 22:16:51 -0500 (Mon, 09 Aug 2021)
nebbiolo2Linux (Ubuntu 20.04.4 LTS) / x86_64  OK    OK    OK  UNNEEDED, same version is already published

Summary

Package: GenomicState
Version: 0.99.15
Command: /home/biocbuild/bbs-3.14-bioc/R/bin/R CMD build --keep-empty-dirs --no-resave-data GenomicState
StartedAt: 2022-01-19 03:01:03 -0500 (Wed, 19 Jan 2022)
EndedAt: 2022-01-19 03:02:08 -0500 (Wed, 19 Jan 2022)
EllapsedTime: 65.2 seconds
RetCode: 0
Status:   OK  
PackageFile: GenomicState_0.99.15.tar.gz
PackageFileSize: 892 KiB

Command output

##############################################################################
##############################################################################
###
### Running command:
###
###   /home/biocbuild/bbs-3.14-bioc/R/bin/R CMD build --keep-empty-dirs --no-resave-data GenomicState
###
##############################################################################
##############################################################################


* checking for file ‘GenomicState/DESCRIPTION’ ... OK
* preparing ‘GenomicState’:
* checking DESCRIPTION meta-information ... OK
* installing the package to build vignettes
* creating vignettes ... OK
* checking for LF line-endings in source and make files and shell scripts
* checking for empty or unneeded directories
Omitted ‘LazyData’ from DESCRIPTION
* building ‘GenomicState_0.99.15.tar.gz’