Back to Books build report for BioC 3.14

This page was generated on 2021-10-22 15:00:05 -0400 (Fri, 22 Oct 2021).

BUILD results for csawBook on nebbiolo2

To the developers/maintainers of the csawBook package:
Make sure to use the following settings in order to reproduce any error or warning you see on this page.

raw results

Package 1/8HostnameOS / ArchINSTALLBUILD
csawBook 1.1.0  (landing page)
Aaron Lun
Snapshot Date: 2021-10-22 07:50:01 -0400 (Fri, 22 Oct 2021)
git_url: https://git.bioconductor.org/packages/csawBook
git_branch: master
git_last_commit: a7fd1f0
git_last_commit_date: 2021-05-19 11:15:37 -0400 (Wed, 19 May 2021)
nebbiolo2Linux (Ubuntu 20.04.2 LTS) / x86_64  OK    OK  UNNEEDED, same version is already published

Summary

Package: csawBook
Version: 1.1.0
Command: /home/biocbuild/bbs-3.14-bioc/R/bin/R CMD build --keep-empty-dirs --no-resave-data csawBook
StartedAt: 2021-10-22 08:01:04 -0400 (Fri, 22 Oct 2021)
EndedAt: 2021-10-22 09:15:03 -0400 (Fri, 22 Oct 2021)
EllapsedTime: 4438.4 seconds
RetCode: 0
Status:   OK  
PackageFile: csawBook_1.1.0.tar.gz
PackageFileSize: 2.492 MiB

Command output

##############################################################################
##############################################################################
###
### Running command:
###
###   /home/biocbuild/bbs-3.14-bioc/R/bin/R CMD build --keep-empty-dirs --no-resave-data csawBook
###
##############################################################################
##############################################################################


* checking for file ‘csawBook/DESCRIPTION’ ... OK
* preparing ‘csawBook’:
* checking DESCRIPTION meta-information ... OK
* installing the package to build vignettes
* creating vignettes ... OK
* checking for LF line-endings in source and make files and shell scripts
* checking for empty or unneeded directories
* creating default NAMESPACE file
* building ‘csawBook_1.1.0.tar.gz’