Index of /checkResults/3.14/books-LATEST/OSCA.workflows/raw-results/nebbiolo2
Name
Last modified
Size
Description
Parent Directory
-
install-out.txt
09-Apr-2022 03:00
963
install-summary.dcf
09-Apr-2022 03:00
272
buildsrc-out.txt
09-Apr-2022 03:00
1.9K
buildsrc-summary.dcf
09-Apr-2022 03:00
438