Index of /checkResults/3.14/bioc-longtests-LATEST/rhdf5/raw-results
Name
Last modified
Size
Description
Parent Directory
-
machv2/
10-Apr-2022 10:00
-
nebbiolo2/
10-Apr-2022 10:00
-
riesling1/
10-Apr-2022 10:00
-