Index of /checkResults/3.14/bioc-longtests-LATEST/rhdf5/raw-results/nebbiolo2
Name
Last modified
Size
Description
Parent Directory
-
buildsrc-out.txt
10-Apr-2022 10:00
798
buildsrc-summary.dcf
10-Apr-2022 10:00
443
checksrc-out.txt
10-Apr-2022 10:00
3.4K
checksrc-summary.dcf
10-Apr-2022 10:00
422