Name | Last modified | Size | Description | |
---|---|---|---|---|
Parent Directory | - | |||
install-summary.dcf | 14-Apr-2022 01:07 | 299 | ||
install-out.txt | 14-Apr-2022 01:07 | 3.3K | ||
checksrc-summary.dcf | 14-Apr-2022 01:07 | 472 | ||
checksrc-out.txt | 14-Apr-2022 01:07 | 6.8K | ||
buildsrc-summary.dcf | 14-Apr-2022 01:07 | 467 | ||
buildsrc-out.txt | 14-Apr-2022 01:07 | 915 | ||
buildbin-summary.dcf | 14-Apr-2022 01:07 | 544 | ||
buildbin-out.txt | 14-Apr-2022 01:07 | 3.4K | ||