Back to Multiple platform build/check report for BioC 3.13 |
|
This page was generated on 2021-10-15 15:06:11 -0400 (Fri, 15 Oct 2021).
To the developers/maintainers of the microbiomeDASim package: - Please allow up to 24 hours (and sometimes 48 hours) for your latest push to git@git.bioconductor.org:packages/microbiomeDASim.git to reflect on this report. See How and When does the builder pull? When will my changes propagate? here for more information. - Make sure to use the following settings in order to reproduce any error or warning you see on this page. |
Package 1128/2041 | Hostname | OS / Arch | INSTALL | BUILD | CHECK | BUILD BIN | ||||||||
microbiomeDASim 1.6.0 (landing page) Justin Williams
| nebbiolo1 | Linux (Ubuntu 20.04.2 LTS) / x86_64 | OK | OK | OK | |||||||||
tokay2 | Windows Server 2012 R2 Standard / x64 | OK | OK | OK | OK | |||||||||
machv2 | macOS 10.14.6 Mojave / x86_64 | OK | OK | OK | OK | |||||||||
Package: microbiomeDASim |
Version: 1.6.0 |
Command: rm -rf microbiomeDASim.buildbin-libdir && mkdir microbiomeDASim.buildbin-libdir && C:\Users\biocbuild\bbs-3.13-bioc\R\bin\R.exe CMD INSTALL --merge-multiarch --build --library=microbiomeDASim.buildbin-libdir microbiomeDASim_1.6.0.tar.gz |
StartedAt: 2021-10-15 10:23:44 -0400 (Fri, 15 Oct 2021) |
EndedAt: 2021-10-15 10:25:16 -0400 (Fri, 15 Oct 2021) |
EllapsedTime: 92.5 seconds |
RetCode: 0 |
Status: OK |
PackageFile: microbiomeDASim_1.6.0.zip |
PackageFileSize: 1.583 MiB |
############################################################################## ############################################################################## ### ### Running command: ### ### rm -rf microbiomeDASim.buildbin-libdir && mkdir microbiomeDASim.buildbin-libdir && C:\Users\biocbuild\bbs-3.13-bioc\R\bin\R.exe CMD INSTALL --merge-multiarch --build --library=microbiomeDASim.buildbin-libdir microbiomeDASim_1.6.0.tar.gz ### ############################################################################## ############################################################################## install for i386 * installing *source* package 'microbiomeDASim' ... ** using staged installation ** R ** inst ** byte-compile and prepare package for lazy loading ** help *** installing help indices converting help for package 'microbiomeDASim' finding HTML links ... done IP_form_check html final_output_gen html form_beta_check html gen_microbiome_norm_feature_check html gen_norm_microbiome html gen_norm_microbiome_obs html ggplot_spaghetti html mean_trend html mean_trend_beta_vec html mean_trend_design_mat html mvrnorm_corr_gen html mvrnorm_sim html mvrnorm_sim_obs html sigma_corr_function html simulate2MRexperiment html finding level-2 HTML links ... done simulate2phyloseq html timepoint_process html trunc_bugs html ** building package indices ** installing vignettes ** testing if installed package can be loaded from temporary location ** testing if installed package can be loaded from final location ** testing if installed package keeps a record of temporary installation path install for x64 * installing *source* package 'microbiomeDASim' ... ** testing if installed package can be loaded * MD5 sums packaged installation of 'microbiomeDASim' as microbiomeDASim_1.6.0.zip * DONE (microbiomeDASim)