Back to Multiple platform build/check report for BioC 3.13 |
|
This page was generated on 2021-10-15 15:06:05 -0400 (Fri, 15 Oct 2021).
To the developers/maintainers of the geneClassifiers package: - Please allow up to 24 hours (and sometimes 48 hours) for your latest push to git@git.bioconductor.org:packages/geneClassifiers.git to reflect on this report. See How and When does the builder pull? When will my changes propagate? here for more information. - Make sure to use the following settings in order to reproduce any error or warning you see on this page. |
Package 711/2041 | Hostname | OS / Arch | INSTALL | BUILD | CHECK | BUILD BIN | ||||||||
geneClassifiers 1.16.0 (landing page) R Kuiper
| nebbiolo1 | Linux (Ubuntu 20.04.2 LTS) / x86_64 | OK | OK | OK | |||||||||
tokay2 | Windows Server 2012 R2 Standard / x64 | OK | OK | OK | OK | |||||||||
machv2 | macOS 10.14.6 Mojave / x86_64 | OK | OK | OK | OK | |||||||||
Package: geneClassifiers |
Version: 1.16.0 |
Command: C:\cygwin\bin\curl.exe -O http://155.52.207.165/BBS/3.13/bioc/src/contrib/geneClassifiers_1.16.0.tar.gz && rm -rf geneClassifiers.buildbin-libdir && mkdir geneClassifiers.buildbin-libdir && C:\Users\biocbuild\bbs-3.13-bioc\R\bin\R.exe CMD INSTALL --merge-multiarch --build --library=geneClassifiers.buildbin-libdir geneClassifiers_1.16.0.tar.gz && C:\Users\biocbuild\bbs-3.13-bioc\R\bin\R.exe CMD INSTALL geneClassifiers_1.16.0.zip && rm geneClassifiers_1.16.0.tar.gz geneClassifiers_1.16.0.zip |
StartedAt: 2021-10-14 07:34:37 -0400 (Thu, 14 Oct 2021) |
EndedAt: 2021-10-14 07:35:24 -0400 (Thu, 14 Oct 2021) |
EllapsedTime: 47.7 seconds |
RetCode: 0 |
Status: OK |
############################################################################## ############################################################################## ### ### Running command: ### ### C:\cygwin\bin\curl.exe -O http://155.52.207.165/BBS/3.13/bioc/src/contrib/geneClassifiers_1.16.0.tar.gz && rm -rf geneClassifiers.buildbin-libdir && mkdir geneClassifiers.buildbin-libdir && C:\Users\biocbuild\bbs-3.13-bioc\R\bin\R.exe CMD INSTALL --merge-multiarch --build --library=geneClassifiers.buildbin-libdir geneClassifiers_1.16.0.tar.gz && C:\Users\biocbuild\bbs-3.13-bioc\R\bin\R.exe CMD INSTALL geneClassifiers_1.16.0.zip && rm geneClassifiers_1.16.0.tar.gz geneClassifiers_1.16.0.zip ### ############################################################################## ############################################################################## % Total % Received % Xferd Average Speed Time Time Time Current Dload Upload Total Spent Left Speed 0 0 0 0 0 0 0 0 --:--:-- --:--:-- --:--:-- 0 0 0 0 0 0 0 0 0 --:--:-- --:--:-- --:--:-- 0 100 1276k 100 1276k 0 0 3714k 0 --:--:-- --:--:-- --:--:-- 3711k install for i386 * installing *source* package 'geneClassifiers' ... ** using staged installation ** R ** data *** moving datasets to lazyload DB ** byte-compile and prepare package for lazy loading ** help *** installing help indices converting help for package 'geneClassifiers' finding HTML links ... done ClassifierParameters html ClassifierResults html FixedExpressionData html bracket-methods html dim-methods html exampleMAS5 html finding level-2 HTML links ... done geneClassifiers-package html getBatchCorrection-methods html getCitations-methods html getClassifications-methods html getClassifier-methods html getDecisionBoundaries-methods html getDescription-methods html getEventChain-methods html getIntercept-methods html getMeans-methods html getName-methods html getNormalizationMethod-methods html getProbeNames-methods html getScores-methods html getSds-methods html getTargetValue-methods html getTrainingData-methods html getWeightingType-methods html getWeights-methods html runClassifier-methods html setNormalizationMethod-methods html showClassifierList-methods html ** building package indices ** installing vignettes ** testing if installed package can be loaded from temporary location ** testing if installed package can be loaded from final location ** testing if installed package keeps a record of temporary installation path install for x64 * installing *source* package 'geneClassifiers' ... ** testing if installed package can be loaded * MD5 sums packaged installation of 'geneClassifiers' as geneClassifiers_1.16.0.zip * DONE (geneClassifiers) * installing to library 'C:/Users/biocbuild/bbs-3.13-bioc/R/library' package 'geneClassifiers' successfully unpacked and MD5 sums checked