Back to Multiple platform build/check report for BioC 3.13 |
|
This page was generated on 2021-10-15 15:06:33 -0400 (Fri, 15 Oct 2021).
To the developers/maintainers of the DeepPINCS package: - Please allow up to 24 hours (and sometimes 48 hours) for your latest push to git@git.bioconductor.org:packages/DeepPINCS.git to reflect on this report. See How and When does the builder pull? When will my changes propagate? here for more information. - Make sure to use the following settings in order to reproduce any error or warning you see on this page. |
Package 462/2041 | Hostname | OS / Arch | INSTALL | BUILD | CHECK | BUILD BIN | ||||||||
DeepPINCS 1.0.2 (landing page) Dongmin Jung
| nebbiolo1 | Linux (Ubuntu 20.04.2 LTS) / x86_64 | OK | OK | OK | |||||||||
tokay2 | Windows Server 2012 R2 Standard / x64 | OK | OK | OK | OK | |||||||||
machv2 | macOS 10.14.6 Mojave / x86_64 | OK | OK | OK | OK | |||||||||
Package: DeepPINCS |
Version: 1.0.2 |
Command: /Library/Frameworks/R.framework/Versions/Current/Resources/bin/R CMD check --install=check:DeepPINCS.install-out.txt --library=/Library/Frameworks/R.framework/Versions/Current/Resources/library --no-vignettes --timings DeepPINCS_1.0.2.tar.gz |
StartedAt: 2021-10-14 18:11:32 -0400 (Thu, 14 Oct 2021) |
EndedAt: 2021-10-14 18:15:45 -0400 (Thu, 14 Oct 2021) |
EllapsedTime: 253.4 seconds |
RetCode: 0 |
Status: OK |
CheckDir: DeepPINCS.Rcheck |
Warnings: 0 |
############################################################################## ############################################################################## ### ### Running command: ### ### /Library/Frameworks/R.framework/Versions/Current/Resources/bin/R CMD check --install=check:DeepPINCS.install-out.txt --library=/Library/Frameworks/R.framework/Versions/Current/Resources/library --no-vignettes --timings DeepPINCS_1.0.2.tar.gz ### ############################################################################## ############################################################################## * using log directory ‘/Users/biocbuild/bbs-3.13-bioc/meat/DeepPINCS.Rcheck’ * using R version 4.1.1 (2021-08-10) * using platform: x86_64-apple-darwin17.0 (64-bit) * using session charset: UTF-8 * using option ‘--no-vignettes’ * checking for file ‘DeepPINCS/DESCRIPTION’ ... OK * checking extension type ... Package * this is package ‘DeepPINCS’ version ‘1.0.2’ * checking package namespace information ... OK * checking package dependencies ... OK * checking if this is a source package ... OK * checking if there is a namespace ... OK * checking for hidden files and directories ... NOTE Found the following hidden files and directories: .BBSoptions These were most likely included in error. See section ‘Package structure’ in the ‘Writing R Extensions’ manual. * checking for portable file names ... OK * checking for sufficient/correct file permissions ... OK * checking whether package ‘DeepPINCS’ can be installed ... OK * checking installed package size ... OK * checking package directory ... OK * checking ‘build’ directory ... OK * checking DESCRIPTION meta-information ... OK * checking top-level files ... OK * checking for left-over files ... OK * checking index information ... OK * checking package subdirectories ... OK * checking R files for non-ASCII characters ... OK * checking R files for syntax errors ... OK * checking whether the package can be loaded ... OK * checking whether the package can be loaded with stated dependencies ... OK * checking whether the package can be unloaded cleanly ... OK * checking whether the namespace can be loaded with stated dependencies ... OK * checking whether the namespace can be unloaded cleanly ... OK * checking dependencies in R code ... OK * checking S3 generic/method consistency ... OK * checking replacement functions ... OK * checking foreign function calls ... OK * checking R code for possible problems ... NOTE fit_cpi: no visible binding for global variable ‘compound’ fit_cpi: no visible binding for global variable ‘compound_args’ fit_cpi: no visible binding for global variable ‘protein’ fit_cpi: no visible binding for global variable ‘protein_args’ fit_cpi: no visible binding for global variable ‘max_atoms’ gcn_in_out : Layer : f: no visible binding for global variable ‘object’ gcn_in_out : initialize: no visible global function definition for ‘super’ gcn_in_out : call: no visible binding for global variable ‘self’ gcn_in_out : get_config: no visible binding for global variable ‘self’ gcn_in_out: no visible binding for global variable ‘temp_units’ multiple_sampling_generator : <anonymous>: no visible binding for global variable ‘batch_start’ Undefined global functions or variables: batch_start compound compound_args max_atoms object protein protein_args self super temp_units * checking Rd files ... OK * checking Rd metadata ... OK * checking Rd cross-references ... OK * checking for missing documentation entries ... OK * checking for code/documentation mismatches ... OK * checking Rd \usage sections ... OK * checking Rd contents ... OK * checking for unstated dependencies in examples ... OK * checking contents of ‘data’ directory ... OK * checking data for non-ASCII characters ... OK * checking LazyData ... OK * checking data for ASCII and uncompressed saves ... OK * checking files in ‘vignettes’ ... OK * checking examples ... OK Examples with CPU (user + system) or elapsed time > 5s user system elapsed cpi_model 18.342 1.881 19.119 * checking for unstated dependencies in ‘tests’ ... OK * checking tests ... Running ‘testthat.R’ OK * checking for unstated dependencies in vignettes ... OK * checking package vignettes in ‘inst/doc’ ... OK * checking running R code from vignettes ... SKIPPED * checking re-building of vignette outputs ... SKIPPED * checking PDF version of manual ... OK * DONE Status: 2 NOTEs See ‘/Users/biocbuild/bbs-3.13-bioc/meat/DeepPINCS.Rcheck/00check.log’ for details.
DeepPINCS.Rcheck/00install.out
############################################################################## ############################################################################## ### ### Running command: ### ### /Library/Frameworks/R.framework/Versions/Current/Resources/bin/R CMD INSTALL DeepPINCS ### ############################################################################## ############################################################################## * installing to library ‘/Library/Frameworks/R.framework/Versions/4.1/Resources/library’ * installing *source* package ‘DeepPINCS’ ... ** using staged installation ** R ** data *** moving datasets to lazyload DB ** byte-compile and prepare package for lazy loading ** help *** installing help indices ** building package indices ** installing vignettes ** testing if installed package can be loaded from temporary location ** testing if installed package can be loaded from final location ** testing if installed package keeps a record of temporary installation path * DONE (DeepPINCS)
DeepPINCS.Rcheck/tests/testthat.Rout
R version 4.1.1 (2021-08-10) -- "Kick Things" Copyright (C) 2021 The R Foundation for Statistical Computing Platform: x86_64-apple-darwin17.0 (64-bit) R is free software and comes with ABSOLUTELY NO WARRANTY. You are welcome to redistribute it under certain conditions. Type 'license()' or 'licence()' for distribution details. R is a collaborative project with many contributors. Type 'contributors()' for more information and 'citation()' on how to cite R or R packages in publications. Type 'demo()' for some demos, 'help()' for on-line help, or 'help.start()' for an HTML browser interface to help. Type 'q()' to quit R. > library(testthat) > library(DeepPINCS) Loading required package: keras Loading required package: tensorflow > > test_check("DeepPINCS") 2021-10-14 18:14:18.319290: I tensorflow/compiler/xla/service/service.cc:168] XLA service 0x7fc9b8c80c60 initialized for platform Host (this does not guarantee that XLA will be used). Devices: 2021-10-14 18:14:18.319371: I tensorflow/compiler/xla/service/service.cc:176] StreamExecutor device (0): Host, Default Version 1/7 [===>..........................] - ETA: 0s - loss: 0.7036 - accuracy: 0.4375 7/7 [==============================] - 0s 66ms/step - loss: 0.6942 - accuracy: 0.4900 - val_loss: 0.6939 - val_accuracy: 0.5200 1/7 [===>..........................] - ETA: 0s - loss: 0.6893 - accuracy: 0.5625 7/7 [==============================] - 0s 60ms/step - loss: 0.6937 - accuracy: 0.4900 - val_loss: 0.6876 - val_accuracy: 0.6700 1/7 [===>..........................] - ETA: 0s - loss: 0.6799 - accuracy: 0.5000 7/7 [==============================] - 0s 65ms/step - loss: 0.6811 - accuracy: 0.5200 - val_loss: 0.6897 - val_accuracy: 0.4800 [ FAIL 0 | WARN 1 | SKIP 0 | PASS 11 ] > > proc.time() user system elapsed 108.128 2.297 102.962
DeepPINCS.Rcheck/DeepPINCS-Ex.timings
name | user | system | elapsed | |
cpi_model | 18.342 | 1.881 | 19.119 | |
encoder_in_out | 0.187 | 0.001 | 0.188 | |
get_canonical_smiles | 0.023 | 0.000 | 0.022 | |
get_fingerprint | 0.997 | 0.102 | 0.392 | |
get_graph_structure_node_feature | 0.098 | 0.006 | 0.104 | |
get_seq_encode_pad | 0.033 | 0.002 | 0.035 | |
metric_concordance_index | 3.197 | 0.148 | 3.063 | |
metric_f1_score | 3.557 | 0.122 | 2.841 | |
multiple_sampling_generator | 0.027 | 0.001 | 0.027 | |
seq_check | 0.016 | 0.000 | 0.017 | |
seq_preprocessing | 0.041 | 0.017 | 0.054 | |