Back to Multiple platform build/check report for BioC 3.13 |
|
This page was generated on 2021-10-15 15:06:33 -0400 (Fri, 15 Oct 2021).
To the developers/maintainers of the DIAlignR package: - Please allow up to 24 hours (and sometimes 48 hours) for your latest push to git@git.bioconductor.org:packages/DIAlignR.git to reflect on this report. See How and When does the builder pull? When will my changes propagate? here for more information. - Make sure to use the following settings in order to reproduce any error or warning you see on this page. |
Package 494/2041 | Hostname | OS / Arch | INSTALL | BUILD | CHECK | BUILD BIN | ||||||||
DIAlignR 2.0.0 (landing page) Shubham Gupta
| nebbiolo1 | Linux (Ubuntu 20.04.2 LTS) / x86_64 | OK | OK | ERROR | |||||||||
tokay2 | Windows Server 2012 R2 Standard / x64 | OK | OK | ERROR | OK | |||||||||
machv2 | macOS 10.14.6 Mojave / x86_64 | OK | OK | ERROR | OK | |||||||||
Package: DIAlignR |
Version: 2.0.0 |
Command: /Library/Frameworks/R.framework/Versions/Current/Resources/bin/R CMD check --install=check:DIAlignR.install-out.txt --library=/Library/Frameworks/R.framework/Versions/Current/Resources/library --no-vignettes --timings DIAlignR_2.0.0.tar.gz |
StartedAt: 2021-10-14 18:22:10 -0400 (Thu, 14 Oct 2021) |
EndedAt: 2021-10-14 18:25:26 -0400 (Thu, 14 Oct 2021) |
EllapsedTime: 195.9 seconds |
RetCode: 1 |
Status: ERROR |
CheckDir: DIAlignR.Rcheck |
Warnings: NA |
############################################################################## ############################################################################## ### ### Running command: ### ### /Library/Frameworks/R.framework/Versions/Current/Resources/bin/R CMD check --install=check:DIAlignR.install-out.txt --library=/Library/Frameworks/R.framework/Versions/Current/Resources/library --no-vignettes --timings DIAlignR_2.0.0.tar.gz ### ############################################################################## ############################################################################## * using log directory ‘/Users/biocbuild/bbs-3.13-bioc/meat/DIAlignR.Rcheck’ * using R version 4.1.1 (2021-08-10) * using platform: x86_64-apple-darwin17.0 (64-bit) * using session charset: UTF-8 * using option ‘--no-vignettes’ * checking for file ‘DIAlignR/DESCRIPTION’ ... OK * checking extension type ... Package * this is package ‘DIAlignR’ version ‘2.0.0’ * package encoding: UTF-8 * checking package namespace information ... OK * checking package dependencies ... OK * checking if this is a source package ... OK * checking if there is a namespace ... OK * checking for hidden files and directories ... NOTE Found the following hidden files and directories: .git_fetch_output.txt .git_merge_output.txt These were most likely included in error. See section ‘Package structure’ in the ‘Writing R Extensions’ manual. * checking for portable file names ... OK * checking for sufficient/correct file permissions ... OK * checking whether package ‘DIAlignR’ can be installed ... OK * checking installed package size ... NOTE installed size is 10.0Mb sub-directories of 1Mb or more: extdata 4.0Mb metabo 4.1Mb * checking package directory ... OK * checking DESCRIPTION meta-information ... OK * checking top-level files ... OK * checking for left-over files ... OK * checking index information ... OK * checking package subdirectories ... OK * checking R files for non-ASCII characters ... OK * checking R files for syntax errors ... OK * checking whether the package can be loaded ... OK * checking whether the package can be loaded with stated dependencies ... OK * checking whether the package can be unloaded cleanly ... OK * checking whether the namespace can be loaded with stated dependencies ... OK * checking whether the namespace can be unloaded cleanly ... OK * checking dependencies in R code ... OK * checking S3 generic/method consistency ... OK * checking replacement functions ... OK * checking foreign function calls ... OK * checking R code for possible problems ... NOTE alignTargetedRuns: no visible binding for global variable ‘peptide_id’ alignTargetedRuns : <anonymous>: no visible global function definition for ‘.’ alignTargetedRuns: no visible binding for global variable ‘intensity’ alignTargetedRuns2 : <anonymous>: no visible binding for global variable ‘transition_group_id’ alignTargetedRuns2: no visible binding for global variable ‘peptide_id’ alignTargetedRuns2 : <anonymous>: no visible global function definition for ‘.’ alignTargetedRuns2: no visible binding for global variable ‘intensity’ childXICs: possible error in cummax(v = cummax(ifelse(is.na(x), -Inf, x))): unused argument (v = cummax(ifelse(is.na(x), -Inf, x))) fetchPrecursorsInfo: no visible binding for global variable ‘transition_id’ fetchPrecursorsInfo: no visible global function definition for ‘.’ fetchPrecursorsInfo: no visible binding for global variable ‘transition_group_id’ fetchTransitionsFromRun: no visible binding for global variable ‘intensity’ fetchTransitionsFromRun: no visible global function definition for ‘.’ fetchTransitionsFromRun: no visible binding for global variable ‘transition_group_id’ fetchTransitionsFromRun: no visible binding for global variable ‘peak_group_rank’ fetchTransitionsFromRun: no visible global function definition for ‘head’ getPeptideScores: no visible binding for global variable ‘col2’ getPeptideScores: no visible binding for global variable ‘run’ getPrecursorByID: no visible global function definition for ‘fetchPrecursorsInfo2’ getPrecursorByID: no visible global function definition for ‘.’ getPrecursorByID: no visible binding for global variable ‘transition_group_id’ getRTdf: no visible binding for global variable ‘peak_group_rank’ getRTdf: no visible binding for global variable ‘m_score’ getRTdf: no visible global function definition for ‘.’ getRTdf: no visible binding for global variable ‘transition_group_id’ getRTdf: no visible binding for global variable ‘RT’ getRefRun : <anonymous>: no visible binding for global variable ‘pvalue’ progAlignRuns : <anonymous>: no visible global function definition for ‘.’ progAlignRuns: no visible binding for global variable ‘intensity’ progAlignRuns2 : <anonymous>: no visible binding for global variable ‘transition_group_id’ progAlignRuns2: no visible binding for global variable ‘peptide_id’ progAlignRuns2 : <anonymous>: no visible global function definition for ‘.’ progAlignRuns2: no visible binding for global variable ‘intensity’ progComb3: no visible binding for global variable ‘precursors’ progComb3: no visible binding for global variable ‘ropenms’ progSplit2: no visible binding for global variable ‘precursors’ progSplit2 : <anonymous>: no visible global function definition for ‘.’ progSplit2: no visible binding for global variable ‘ropenms’ progSplit4: no visible binding for global variable ‘precursors’ progSplit4 : <anonymous>: no visible global function definition for ‘.’ progSplit4: no visible binding for global variable ‘intensity’ progTree1: no visible binding for global variable ‘ropenms’ reIntensity: no visible binding for global variable ‘run’ reIntensity: no visible binding for global variable ‘alignment_rank’ script2: no visible binding for global variable ‘fileInfo’ script2: no visible binding for global variable ‘peptide_id’ script2 : <anonymous>: no visible global function definition for ‘.’ script2: no visible binding for global variable ‘features’ script2: no visible binding for global variable ‘globalFits’ script2: no visible binding for global variable ‘RSE’ script2: no visible binding for global variable ‘intensity’ traverseDown : <anonymous>: no visible global function definition for ‘.’ writeTables: no visible binding for global variable ‘peptide_id’ writeTables: no visible binding for global variable ‘run’ writeTables: no visible binding for global variable ‘precursor’ Undefined global functions or variables: . RSE RT alignment_rank col2 features fetchPrecursorsInfo2 fileInfo globalFits head intensity m_score peak_group_rank peptide_id precursor precursors pvalue ropenms run transition_group_id transition_id Consider adding importFrom("utils", "head") to your NAMESPACE file. * checking Rd files ... OK * checking Rd metadata ... OK * checking Rd cross-references ... OK * checking for missing documentation entries ... OK * checking for code/documentation mismatches ... OK * checking Rd \usage sections ... OK * checking Rd contents ... OK * checking for unstated dependencies in examples ... OK * checking contents of ‘data’ directory ... OK * checking data for non-ASCII characters ... OK * checking data for ASCII and uncompressed saves ... OK * checking line endings in C/C++/Fortran sources/headers ... OK * checking compiled code ... NOTE Note: information on .o files is not available File ‘/Library/Frameworks/R.framework/Versions/4.1/Resources/library/DIAlignR/libs/DIAlignR.so’: Found ‘__ZNSt3__14coutE’, possibly from ‘std::cout’ (C++) Compiled code should not call entry points which might terminate R nor write to stdout/stderr instead of to the console, nor use Fortran I/O nor system RNGs. The detected symbols are linked into the code but might come from libraries and not actually be called. See ‘Writing portable packages’ in the ‘Writing R Extensions’ manual. * checking files in ‘vignettes’ ... OK * checking examples ... OK Examples with CPU (user + system) or elapsed time > 5s user system elapsed alignTargetedRuns 7.871 4.296 5.067 script2 4.277 2.587 4.693 * checking for unstated dependencies in ‘tests’ ... OK * checking tests ... Running ‘testthat.R’ ERROR Running the tests in ‘tests/testthat.R’ failed. Last 13 lines of output: 3. └─DIAlignR:::FUN(X[[i]], ...) 4. └─DIAlignR:::mapPrecursorToChromIndices(prec2transition, chromHead) 5. ├─dplyr::select(...) 6. ├─dplyr::left_join(prec2transition, chromHead, by = c(transition_ids = "chromatogramId")) 7. └─dplyr:::left_join.data.frame(prec2transition, chromHead, by = c(transition_ids = "chromatogramId")) 8. └─dplyr:::join_mutate(...) 9. └─dplyr:::join_rows(x_key, y_key, type = type, na_equal = na_equal) 10. └─base::tryCatch(...) 11. └─base:::tryCatchList(expr, classes, parentenv, handlers) 12. └─base:::tryCatchOne(expr, names, parentenv, handlers[[1L]]) 13. └─value[[3L]](cond) [ FAIL 3 | WARN 0 | SKIP 8 | PASS 474 ] Error: Test failures Execution halted * checking for unstated dependencies in vignettes ... OK * checking package vignettes in ‘inst/doc’ ... OK * checking running R code from vignettes ... SKIPPED * checking re-building of vignette outputs ... SKIPPED * checking PDF version of manual ... OK * DONE Status: 1 ERROR, 4 NOTEs See ‘/Users/biocbuild/bbs-3.13-bioc/meat/DIAlignR.Rcheck/00check.log’ for details.
DIAlignR.Rcheck/00install.out
############################################################################## ############################################################################## ### ### Running command: ### ### /Library/Frameworks/R.framework/Versions/Current/Resources/bin/R CMD INSTALL DIAlignR ### ############################################################################## ############################################################################## * installing to library ‘/Library/Frameworks/R.framework/Versions/4.1/Resources/library’ * installing *source* package ‘DIAlignR’ ... ** using staged installation ** libs clang++ -mmacosx-version-min=10.13 -std=gnu++14 -I"/Library/Frameworks/R.framework/Resources/include" -DNDEBUG -I'/Library/Frameworks/R.framework/Versions/4.1/Resources/library/Rcpp/include' -I'/Library/Frameworks/R.framework/Versions/4.1/Resources/library/RcppEigen/include' -I/usr/local/include -fPIC -Wall -g -O2 -c ChromatogramPeak.cpp -o ChromatogramPeak.o clang++ -mmacosx-version-min=10.13 -std=gnu++14 -I"/Library/Frameworks/R.framework/Resources/include" -DNDEBUG -I'/Library/Frameworks/R.framework/Versions/4.1/Resources/library/Rcpp/include' -I'/Library/Frameworks/R.framework/Versions/4.1/Resources/library/RcppEigen/include' -I/usr/local/include -fPIC -Wall -g -O2 -c DPosition.cpp -o DPosition.o clang++ -mmacosx-version-min=10.13 -std=gnu++14 -I"/Library/Frameworks/R.framework/Resources/include" -DNDEBUG -I'/Library/Frameworks/R.framework/Versions/4.1/Resources/library/Rcpp/include' -I'/Library/Frameworks/R.framework/Versions/4.1/Resources/library/RcppEigen/include' -I/usr/local/include -fPIC -Wall -g -O2 -c MSChromatogram.cpp -o MSChromatogram.o clang++ -mmacosx-version-min=10.13 -std=gnu++14 -I"/Library/Frameworks/R.framework/Resources/include" -DNDEBUG -I'/Library/Frameworks/R.framework/Versions/4.1/Resources/library/Rcpp/include' -I'/Library/Frameworks/R.framework/Versions/4.1/Resources/library/RcppEigen/include' -I/usr/local/include -fPIC -Wall -g -O2 -c PeakIntegrator.cpp -o PeakIntegrator.o clang++ -mmacosx-version-min=10.13 -std=gnu++14 -I"/Library/Frameworks/R.framework/Resources/include" -DNDEBUG -I'/Library/Frameworks/R.framework/Versions/4.1/Resources/library/Rcpp/include' -I'/Library/Frameworks/R.framework/Versions/4.1/Resources/library/RcppEigen/include' -I/usr/local/include -fPIC -Wall -g -O2 -c RcppExports.cpp -o RcppExports.o In file included from RcppExports.cpp:4: In file included from /Library/Frameworks/R.framework/Versions/4.1/Resources/library/RcppEigen/include/RcppEigen.h:25: In file included from /Library/Frameworks/R.framework/Versions/4.1/Resources/library/RcppEigen/include/RcppEigenForward.h:30: In file included from /Library/Frameworks/R.framework/Versions/4.1/Resources/library/RcppEigen/include/Eigen/Dense:1: In file included from /Library/Frameworks/R.framework/Versions/4.1/Resources/library/RcppEigen/include/Eigen/Core:540: /Library/Frameworks/R.framework/Versions/4.1/Resources/library/RcppEigen/include/Eigen/src/Core/util/ReenableStupidWarnings.h:14:30: warning: pragma diagnostic pop could not pop, no matching push [-Wunknown-pragmas] #pragma clang diagnostic pop ^ In file included from RcppExports.cpp:4: In file included from /Library/Frameworks/R.framework/Versions/4.1/Resources/library/RcppEigen/include/RcppEigen.h:25: In file included from /Library/Frameworks/R.framework/Versions/4.1/Resources/library/RcppEigen/include/RcppEigenForward.h:30: In file included from /Library/Frameworks/R.framework/Versions/4.1/Resources/library/RcppEigen/include/Eigen/Dense:2: In file included from /Library/Frameworks/R.framework/Versions/4.1/Resources/library/RcppEigen/include/Eigen/LU:47: /Library/Frameworks/R.framework/Versions/4.1/Resources/library/RcppEigen/include/Eigen/src/Core/util/ReenableStupidWarnings.h:14:30: warning: pragma diagnostic pop could not pop, no matching push [-Wunknown-pragmas] #pragma clang diagnostic pop ^ In file included from RcppExports.cpp:4: In file included from /Library/Frameworks/R.framework/Versions/4.1/Resources/library/RcppEigen/include/RcppEigen.h:25: In file included from /Library/Frameworks/R.framework/Versions/4.1/Resources/library/RcppEigen/include/RcppEigenForward.h:30: In file included from /Library/Frameworks/R.framework/Versions/4.1/Resources/library/RcppEigen/include/Eigen/Dense:3: In file included from /Library/Frameworks/R.framework/Versions/4.1/Resources/library/RcppEigen/include/Eigen/Cholesky:12: In file included from /Library/Frameworks/R.framework/Versions/4.1/Resources/library/RcppEigen/include/Eigen/Jacobi:29: /Library/Frameworks/R.framework/Versions/4.1/Resources/library/RcppEigen/include/Eigen/src/Core/util/ReenableStupidWarnings.h:14:30: warning: pragma diagnostic pop could not pop, no matching push [-Wunknown-pragmas] #pragma clang diagnostic pop ^ In file included from RcppExports.cpp:4: In file included from /Library/Frameworks/R.framework/Versions/4.1/Resources/library/RcppEigen/include/RcppEigen.h:25: In file included from /Library/Frameworks/R.framework/Versions/4.1/Resources/library/RcppEigen/include/RcppEigenForward.h:30: In file included from /Library/Frameworks/R.framework/Versions/4.1/Resources/library/RcppEigen/include/Eigen/Dense:3: In file included from /Library/Frameworks/R.framework/Versions/4.1/Resources/library/RcppEigen/include/Eigen/Cholesky:43: /Library/Frameworks/R.framework/Versions/4.1/Resources/library/RcppEigen/include/Eigen/src/Core/util/ReenableStupidWarnings.h:14:30: warning: pragma diagnostic pop could not pop, no matching push [-Wunknown-pragmas] #pragma clang diagnostic pop ^ In file included from RcppExports.cpp:4: In file included from /Library/Frameworks/R.framework/Versions/4.1/Resources/library/RcppEigen/include/RcppEigen.h:25: In file included from /Library/Frameworks/R.framework/Versions/4.1/Resources/library/RcppEigen/include/RcppEigenForward.h:30: In file included from /Library/Frameworks/R.framework/Versions/4.1/Resources/library/RcppEigen/include/Eigen/Dense:4: In file included from /Library/Frameworks/R.framework/Versions/4.1/Resources/library/RcppEigen/include/Eigen/QR:15: In file included from /Library/Frameworks/R.framework/Versions/4.1/Resources/library/RcppEigen/include/Eigen/Householder:27: /Library/Frameworks/R.framework/Versions/4.1/Resources/library/RcppEigen/include/Eigen/src/Core/util/ReenableStupidWarnings.h:14:30: warning: pragma diagnostic pop could not pop, no matching push [-Wunknown-pragmas] #pragma clang diagnostic pop ^ In file included from RcppExports.cpp:4: In file included from /Library/Frameworks/R.framework/Versions/4.1/Resources/library/RcppEigen/include/RcppEigen.h:25: In file included from /Library/Frameworks/R.framework/Versions/4.1/Resources/library/RcppEigen/include/RcppEigenForward.h:30: In file included from /Library/Frameworks/R.framework/Versions/4.1/Resources/library/RcppEigen/include/Eigen/Dense:4: In file included from /Library/Frameworks/R.framework/Versions/4.1/Resources/library/RcppEigen/include/Eigen/QR:48: /Library/Frameworks/R.framework/Versions/4.1/Resources/library/RcppEigen/include/Eigen/src/Core/util/ReenableStupidWarnings.h:14:30: warning: pragma diagnostic pop could not pop, no matching push [-Wunknown-pragmas] #pragma clang diagnostic pop ^ In file included from RcppExports.cpp:4: In file included from /Library/Frameworks/R.framework/Versions/4.1/Resources/library/RcppEigen/include/RcppEigen.h:25: In file included from /Library/Frameworks/R.framework/Versions/4.1/Resources/library/RcppEigen/include/RcppEigenForward.h:30: In file included from /Library/Frameworks/R.framework/Versions/4.1/Resources/library/RcppEigen/include/Eigen/Dense:5: In file included from /Library/Frameworks/R.framework/Versions/4.1/Resources/library/RcppEigen/include/Eigen/SVD:48: /Library/Frameworks/R.framework/Versions/4.1/Resources/library/RcppEigen/include/Eigen/src/Core/util/ReenableStupidWarnings.h:14:30: warning: pragma diagnostic pop could not pop, no matching push [-Wunknown-pragmas] #pragma clang diagnostic pop ^ In file included from RcppExports.cpp:4: In file included from /Library/Frameworks/R.framework/Versions/4.1/Resources/library/RcppEigen/include/RcppEigen.h:25: In file included from /Library/Frameworks/R.framework/Versions/4.1/Resources/library/RcppEigen/include/RcppEigenForward.h:30: In file included from /Library/Frameworks/R.framework/Versions/4.1/Resources/library/RcppEigen/include/Eigen/Dense:6: In file included from /Library/Frameworks/R.framework/Versions/4.1/Resources/library/RcppEigen/include/Eigen/Geometry:58: /Library/Frameworks/R.framework/Versions/4.1/Resources/library/RcppEigen/include/Eigen/src/Core/util/ReenableStupidWarnings.h:14:30: warning: pragma diagnostic pop could not pop, no matching push [-Wunknown-pragmas] #pragma clang diagnostic pop ^ In file included from RcppExports.cpp:4: In file included from /Library/Frameworks/R.framework/Versions/4.1/Resources/library/RcppEigen/include/RcppEigen.h:25: In file included from /Library/Frameworks/R.framework/Versions/4.1/Resources/library/RcppEigen/include/RcppEigenForward.h:30: In file included from /Library/Frameworks/R.framework/Versions/4.1/Resources/library/RcppEigen/include/Eigen/Dense:7: In file included from /Library/Frameworks/R.framework/Versions/4.1/Resources/library/RcppEigen/include/Eigen/Eigenvalues:58: /Library/Frameworks/R.framework/Versions/4.1/Resources/library/RcppEigen/include/Eigen/src/Core/util/ReenableStupidWarnings.h:14:30: warning: pragma diagnostic pop could not pop, no matching push [-Wunknown-pragmas] #pragma clang diagnostic pop ^ In file included from RcppExports.cpp:4: In file included from /Library/Frameworks/R.framework/Versions/4.1/Resources/library/RcppEigen/include/RcppEigen.h:25: In file included from /Library/Frameworks/R.framework/Versions/4.1/Resources/library/RcppEigen/include/RcppEigenForward.h:31: In file included from /Library/Frameworks/R.framework/Versions/4.1/Resources/library/RcppEigen/include/Eigen/Sparse:26: In file included from /Library/Frameworks/R.framework/Versions/4.1/Resources/library/RcppEigen/include/Eigen/SparseCore:66: /Library/Frameworks/R.framework/Versions/4.1/Resources/library/RcppEigen/include/Eigen/src/Core/util/ReenableStupidWarnings.h:14:30: warning: pragma diagnostic pop could not pop, no matching push [-Wunknown-pragmas] #pragma clang diagnostic pop ^ In file included from RcppExports.cpp:4: In file included from /Library/Frameworks/R.framework/Versions/4.1/Resources/library/RcppEigen/include/RcppEigen.h:25: In file included from /Library/Frameworks/R.framework/Versions/4.1/Resources/library/RcppEigen/include/RcppEigenForward.h:31: In file included from /Library/Frameworks/R.framework/Versions/4.1/Resources/library/RcppEigen/include/Eigen/Sparse:27: In file included from /Library/Frameworks/R.framework/Versions/4.1/Resources/library/RcppEigen/include/Eigen/OrderingMethods:71: /Library/Frameworks/R.framework/Versions/4.1/Resources/library/RcppEigen/include/Eigen/src/Core/util/ReenableStupidWarnings.h:14:30: warning: pragma diagnostic pop could not pop, no matching push [-Wunknown-pragmas] #pragma clang diagnostic pop ^ In file included from RcppExports.cpp:4: In file included from /Library/Frameworks/R.framework/Versions/4.1/Resources/library/RcppEigen/include/RcppEigen.h:25: In file included from /Library/Frameworks/R.framework/Versions/4.1/Resources/library/RcppEigen/include/RcppEigenForward.h:31: In file included from /Library/Frameworks/R.framework/Versions/4.1/Resources/library/RcppEigen/include/Eigen/Sparse:29: In file included from /Library/Frameworks/R.framework/Versions/4.1/Resources/library/RcppEigen/include/Eigen/SparseCholesky:43: /Library/Frameworks/R.framework/Versions/4.1/Resources/library/RcppEigen/include/Eigen/src/Core/util/ReenableStupidWarnings.h:14:30: warning: pragma diagnostic pop could not pop, no matching push [-Wunknown-pragmas] #pragma clang diagnostic pop ^ In file included from RcppExports.cpp:4: In file included from /Library/Frameworks/R.framework/Versions/4.1/Resources/library/RcppEigen/include/RcppEigen.h:25: In file included from /Library/Frameworks/R.framework/Versions/4.1/Resources/library/RcppEigen/include/RcppEigenForward.h:31: In file included from /Library/Frameworks/R.framework/Versions/4.1/Resources/library/RcppEigen/include/Eigen/Sparse:32: In file included from /Library/Frameworks/R.framework/Versions/4.1/Resources/library/RcppEigen/include/Eigen/SparseQR:34: /Library/Frameworks/R.framework/Versions/4.1/Resources/library/RcppEigen/include/Eigen/src/Core/util/ReenableStupidWarnings.h:14:30: warning: pragma diagnostic pop could not pop, no matching push [-Wunknown-pragmas] #pragma clang diagnostic pop ^ In file included from RcppExports.cpp:4: In file included from /Library/Frameworks/R.framework/Versions/4.1/Resources/library/RcppEigen/include/RcppEigen.h:25: In file included from /Library/Frameworks/R.framework/Versions/4.1/Resources/library/RcppEigen/include/RcppEigenForward.h:31: In file included from /Library/Frameworks/R.framework/Versions/4.1/Resources/library/RcppEigen/include/Eigen/Sparse:33: In file included from /Library/Frameworks/R.framework/Versions/4.1/Resources/library/RcppEigen/include/Eigen/IterativeLinearSolvers:46: /Library/Frameworks/R.framework/Versions/4.1/Resources/library/RcppEigen/include/Eigen/src/Core/util/ReenableStupidWarnings.h:14:30: warning: pragma diagnostic pop could not pop, no matching push [-Wunknown-pragmas] #pragma clang diagnostic pop ^ In file included from RcppExports.cpp:4: In file included from /Library/Frameworks/R.framework/Versions/4.1/Resources/library/RcppEigen/include/RcppEigen.h:25: In file included from /Library/Frameworks/R.framework/Versions/4.1/Resources/library/RcppEigen/include/RcppEigenForward.h:32: In file included from /Library/Frameworks/R.framework/Versions/4.1/Resources/library/RcppEigen/include/Eigen/CholmodSupport:45: /Library/Frameworks/R.framework/Versions/4.1/Resources/library/RcppEigen/include/Eigen/src/Core/util/ReenableStupidWarnings.h:14:30: warning: pragma diagnostic pop could not pop, no matching push [-Wunknown-pragmas] #pragma clang diagnostic pop ^ In file included from RcppExports.cpp:4: In file included from /Library/Frameworks/R.framework/Versions/4.1/Resources/library/RcppEigen/include/RcppEigen.h:25: In file included from /Library/Frameworks/R.framework/Versions/4.1/Resources/library/RcppEigen/include/RcppEigenForward.h:35: In file included from /Library/Frameworks/R.framework/Versions/4.1/Resources/library/RcppEigen/include/unsupported/Eigen/KroneckerProduct:34: /Library/Frameworks/R.framework/Versions/4.1/Resources/library/RcppEigen/include/unsupported/Eigen/../../Eigen/src/Core/util/ReenableStupidWarnings.h:14:30: warning: pragma diagnostic pop could not pop, no matching push [-Wunknown-pragmas] #pragma clang diagnostic pop ^ In file included from RcppExports.cpp:4: In file included from /Library/Frameworks/R.framework/Versions/4.1/Resources/library/RcppEigen/include/RcppEigen.h:25: In file included from /Library/Frameworks/R.framework/Versions/4.1/Resources/library/RcppEigen/include/RcppEigenForward.h:39: In file included from /Library/Frameworks/R.framework/Versions/4.1/Resources/library/RcppEigen/include/unsupported/Eigen/Polynomials:135: /Library/Frameworks/R.framework/Versions/4.1/Resources/library/RcppEigen/include/unsupported/Eigen/../../Eigen/src/Core/util/ReenableStupidWarnings.h:14:30: warning: pragma diagnostic pop could not pop, no matching push [-Wunknown-pragmas] #pragma clang diagnostic pop ^ In file included from RcppExports.cpp:4: In file included from /Library/Frameworks/R.framework/Versions/4.1/Resources/library/RcppEigen/include/RcppEigen.h:25: In file included from /Library/Frameworks/R.framework/Versions/4.1/Resources/library/RcppEigen/include/RcppEigenForward.h:40: In file included from /Library/Frameworks/R.framework/Versions/4.1/Resources/library/RcppEigen/include/unsupported/Eigen/SparseExtra:51: /Library/Frameworks/R.framework/Versions/4.1/Resources/library/RcppEigen/include/unsupported/Eigen/../../Eigen/src/Core/util/ReenableStupidWarnings.h:14:30: warning: pragma diagnostic pop could not pop, no matching push [-Wunknown-pragmas] #pragma clang diagnostic pop ^ 18 warnings generated. clang++ -mmacosx-version-min=10.13 -std=gnu++14 -I"/Library/Frameworks/R.framework/Resources/include" -DNDEBUG -I'/Library/Frameworks/R.framework/Versions/4.1/Resources/library/Rcpp/include' -I'/Library/Frameworks/R.framework/Versions/4.1/Resources/library/RcppEigen/include' -I/usr/local/include -fPIC -Wall -g -O2 -c Rmain.cpp -o Rmain.o In file included from Rmain.cpp:19: ./miscell.h:14:19: warning: unused function 'detect_end_na' [-Wunused-function] static bool const detect_end_na(double a, double b); ^ ./miscell.h:16:19: warning: unused function 'detect_start_na' [-Wunused-function] static bool const detect_start_na(double a, double b); ^ ./miscell.h:18:19: warning: unused function 'lessZero' [-Wunused-function] static bool const lessZero(double a); ^ 3 warnings generated. clang++ -mmacosx-version-min=10.13 -std=gnu++14 -I"/Library/Frameworks/R.framework/Resources/include" -DNDEBUG -I'/Library/Frameworks/R.framework/Versions/4.1/Resources/library/Rcpp/include' -I'/Library/Frameworks/R.framework/Versions/4.1/Resources/library/RcppEigen/include' -I/usr/local/include -fPIC -Wall -g -O2 -c SavitzkyGolayFilter.cpp -o SavitzkyGolayFilter.o In file included from SavitzkyGolayFilter.cpp:1: In file included from /Library/Frameworks/R.framework/Versions/4.1/Resources/library/RcppEigen/include/RcppEigen.h:25: In file included from /Library/Frameworks/R.framework/Versions/4.1/Resources/library/RcppEigen/include/RcppEigenForward.h:30: In file included from /Library/Frameworks/R.framework/Versions/4.1/Resources/library/RcppEigen/include/Eigen/Dense:1: In file included from /Library/Frameworks/R.framework/Versions/4.1/Resources/library/RcppEigen/include/Eigen/Core:540: /Library/Frameworks/R.framework/Versions/4.1/Resources/library/RcppEigen/include/Eigen/src/Core/util/ReenableStupidWarnings.h:14:30: warning: pragma diagnostic pop could not pop, no matching push [-Wunknown-pragmas] #pragma clang diagnostic pop ^ In file included from SavitzkyGolayFilter.cpp:1: In file included from /Library/Frameworks/R.framework/Versions/4.1/Resources/library/RcppEigen/include/RcppEigen.h:25: In file included from /Library/Frameworks/R.framework/Versions/4.1/Resources/library/RcppEigen/include/RcppEigenForward.h:30: In file included from /Library/Frameworks/R.framework/Versions/4.1/Resources/library/RcppEigen/include/Eigen/Dense:2: In file included from /Library/Frameworks/R.framework/Versions/4.1/Resources/library/RcppEigen/include/Eigen/LU:47: /Library/Frameworks/R.framework/Versions/4.1/Resources/library/RcppEigen/include/Eigen/src/Core/util/ReenableStupidWarnings.h:14:30: warning: pragma diagnostic pop could not pop, no matching push [-Wunknown-pragmas] #pragma clang diagnostic pop ^ In file included from SavitzkyGolayFilter.cpp:1: In file included from /Library/Frameworks/R.framework/Versions/4.1/Resources/library/RcppEigen/include/RcppEigen.h:25: In file included from /Library/Frameworks/R.framework/Versions/4.1/Resources/library/RcppEigen/include/RcppEigenForward.h:30: In file included from /Library/Frameworks/R.framework/Versions/4.1/Resources/library/RcppEigen/include/Eigen/Dense:3: In file included from /Library/Frameworks/R.framework/Versions/4.1/Resources/library/RcppEigen/include/Eigen/Cholesky:12: In file included from /Library/Frameworks/R.framework/Versions/4.1/Resources/library/RcppEigen/include/Eigen/Jacobi:29: /Library/Frameworks/R.framework/Versions/4.1/Resources/library/RcppEigen/include/Eigen/src/Core/util/ReenableStupidWarnings.h:14:30: warning: pragma diagnostic pop could not pop, no matching push [-Wunknown-pragmas] #pragma clang diagnostic pop ^ In file included from SavitzkyGolayFilter.cpp:1: In file included from /Library/Frameworks/R.framework/Versions/4.1/Resources/library/RcppEigen/include/RcppEigen.h:25: In file included from /Library/Frameworks/R.framework/Versions/4.1/Resources/library/RcppEigen/include/RcppEigenForward.h:30: In file included from /Library/Frameworks/R.framework/Versions/4.1/Resources/library/RcppEigen/include/Eigen/Dense:3: In file included from /Library/Frameworks/R.framework/Versions/4.1/Resources/library/RcppEigen/include/Eigen/Cholesky:43: /Library/Frameworks/R.framework/Versions/4.1/Resources/library/RcppEigen/include/Eigen/src/Core/util/ReenableStupidWarnings.h:14:30: warning: pragma diagnostic pop could not pop, no matching push [-Wunknown-pragmas] #pragma clang diagnostic pop ^ In file included from SavitzkyGolayFilter.cpp:1: In file included from /Library/Frameworks/R.framework/Versions/4.1/Resources/library/RcppEigen/include/RcppEigen.h:25: In file included from /Library/Frameworks/R.framework/Versions/4.1/Resources/library/RcppEigen/include/RcppEigenForward.h:30: In file included from /Library/Frameworks/R.framework/Versions/4.1/Resources/library/RcppEigen/include/Eigen/Dense:4: In file included from /Library/Frameworks/R.framework/Versions/4.1/Resources/library/RcppEigen/include/Eigen/QR:15: In file included from /Library/Frameworks/R.framework/Versions/4.1/Resources/library/RcppEigen/include/Eigen/Householder:27: /Library/Frameworks/R.framework/Versions/4.1/Resources/library/RcppEigen/include/Eigen/src/Core/util/ReenableStupidWarnings.h:14:30: warning: pragma diagnostic pop could not pop, no matching push [-Wunknown-pragmas] #pragma clang diagnostic pop ^ In file included from SavitzkyGolayFilter.cpp:1: In file included from /Library/Frameworks/R.framework/Versions/4.1/Resources/library/RcppEigen/include/RcppEigen.h:25: In file included from /Library/Frameworks/R.framework/Versions/4.1/Resources/library/RcppEigen/include/RcppEigenForward.h:30: In file included from /Library/Frameworks/R.framework/Versions/4.1/Resources/library/RcppEigen/include/Eigen/Dense:4: In file included from /Library/Frameworks/R.framework/Versions/4.1/Resources/library/RcppEigen/include/Eigen/QR:48: /Library/Frameworks/R.framework/Versions/4.1/Resources/library/RcppEigen/include/Eigen/src/Core/util/ReenableStupidWarnings.h:14:30: warning: pragma diagnostic pop could not pop, no matching push [-Wunknown-pragmas] #pragma clang diagnostic pop ^ In file included from SavitzkyGolayFilter.cpp:1: In file included from /Library/Frameworks/R.framework/Versions/4.1/Resources/library/RcppEigen/include/RcppEigen.h:25: In file included from /Library/Frameworks/R.framework/Versions/4.1/Resources/library/RcppEigen/include/RcppEigenForward.h:30: In file included from /Library/Frameworks/R.framework/Versions/4.1/Resources/library/RcppEigen/include/Eigen/Dense:5: In file included from /Library/Frameworks/R.framework/Versions/4.1/Resources/library/RcppEigen/include/Eigen/SVD:48: /Library/Frameworks/R.framework/Versions/4.1/Resources/library/RcppEigen/include/Eigen/src/Core/util/ReenableStupidWarnings.h:14:30: warning: pragma diagnostic pop could not pop, no matching push [-Wunknown-pragmas] #pragma clang diagnostic pop ^ In file included from SavitzkyGolayFilter.cpp:1: In file included from /Library/Frameworks/R.framework/Versions/4.1/Resources/library/RcppEigen/include/RcppEigen.h:25: In file included from /Library/Frameworks/R.framework/Versions/4.1/Resources/library/RcppEigen/include/RcppEigenForward.h:30: In file included from /Library/Frameworks/R.framework/Versions/4.1/Resources/library/RcppEigen/include/Eigen/Dense:6: In file included from /Library/Frameworks/R.framework/Versions/4.1/Resources/library/RcppEigen/include/Eigen/Geometry:58: /Library/Frameworks/R.framework/Versions/4.1/Resources/library/RcppEigen/include/Eigen/src/Core/util/ReenableStupidWarnings.h:14:30: warning: pragma diagnostic pop could not pop, no matching push [-Wunknown-pragmas] #pragma clang diagnostic pop ^ In file included from SavitzkyGolayFilter.cpp:1: In file included from /Library/Frameworks/R.framework/Versions/4.1/Resources/library/RcppEigen/include/RcppEigen.h:25: In file included from /Library/Frameworks/R.framework/Versions/4.1/Resources/library/RcppEigen/include/RcppEigenForward.h:30: In file included from /Library/Frameworks/R.framework/Versions/4.1/Resources/library/RcppEigen/include/Eigen/Dense:7: In file included from /Library/Frameworks/R.framework/Versions/4.1/Resources/library/RcppEigen/include/Eigen/Eigenvalues:58: /Library/Frameworks/R.framework/Versions/4.1/Resources/library/RcppEigen/include/Eigen/src/Core/util/ReenableStupidWarnings.h:14:30: warning: pragma diagnostic pop could not pop, no matching push [-Wunknown-pragmas] #pragma clang diagnostic pop ^ In file included from SavitzkyGolayFilter.cpp:1: In file included from /Library/Frameworks/R.framework/Versions/4.1/Resources/library/RcppEigen/include/RcppEigen.h:25: In file included from /Library/Frameworks/R.framework/Versions/4.1/Resources/library/RcppEigen/include/RcppEigenForward.h:31: In file included from /Library/Frameworks/R.framework/Versions/4.1/Resources/library/RcppEigen/include/Eigen/Sparse:26: In file included from /Library/Frameworks/R.framework/Versions/4.1/Resources/library/RcppEigen/include/Eigen/SparseCore:66: /Library/Frameworks/R.framework/Versions/4.1/Resources/library/RcppEigen/include/Eigen/src/Core/util/ReenableStupidWarnings.h:14:30: warning: pragma diagnostic pop could not pop, no matching push [-Wunknown-pragmas] #pragma clang diagnostic pop ^ In file included from SavitzkyGolayFilter.cpp:1: In file included from /Library/Frameworks/R.framework/Versions/4.1/Resources/library/RcppEigen/include/RcppEigen.h:25: In file included from /Library/Frameworks/R.framework/Versions/4.1/Resources/library/RcppEigen/include/RcppEigenForward.h:31: In file included from /Library/Frameworks/R.framework/Versions/4.1/Resources/library/RcppEigen/include/Eigen/Sparse:27: In file included from /Library/Frameworks/R.framework/Versions/4.1/Resources/library/RcppEigen/include/Eigen/OrderingMethods:71: /Library/Frameworks/R.framework/Versions/4.1/Resources/library/RcppEigen/include/Eigen/src/Core/util/ReenableStupidWarnings.h:14:30: warning: pragma diagnostic pop could not pop, no matching push [-Wunknown-pragmas] #pragma clang diagnostic pop ^ In file included from SavitzkyGolayFilter.cpp:1: In file included from /Library/Frameworks/R.framework/Versions/4.1/Resources/library/RcppEigen/include/RcppEigen.h:25: In file included from /Library/Frameworks/R.framework/Versions/4.1/Resources/library/RcppEigen/include/RcppEigenForward.h:31: In file included from /Library/Frameworks/R.framework/Versions/4.1/Resources/library/RcppEigen/include/Eigen/Sparse:29: In file included from /Library/Frameworks/R.framework/Versions/4.1/Resources/library/RcppEigen/include/Eigen/SparseCholesky:43: /Library/Frameworks/R.framework/Versions/4.1/Resources/library/RcppEigen/include/Eigen/src/Core/util/ReenableStupidWarnings.h:14:30: warning: pragma diagnostic pop could not pop, no matching push [-Wunknown-pragmas] #pragma clang diagnostic pop ^ In file included from SavitzkyGolayFilter.cpp:1: In file included from /Library/Frameworks/R.framework/Versions/4.1/Resources/library/RcppEigen/include/RcppEigen.h:25: In file included from /Library/Frameworks/R.framework/Versions/4.1/Resources/library/RcppEigen/include/RcppEigenForward.h:31: In file included from /Library/Frameworks/R.framework/Versions/4.1/Resources/library/RcppEigen/include/Eigen/Sparse:32: In file included from /Library/Frameworks/R.framework/Versions/4.1/Resources/library/RcppEigen/include/Eigen/SparseQR:34: /Library/Frameworks/R.framework/Versions/4.1/Resources/library/RcppEigen/include/Eigen/src/Core/util/ReenableStupidWarnings.h:14:30: warning: pragma diagnostic pop could not pop, no matching push [-Wunknown-pragmas] #pragma clang diagnostic pop ^ In file included from SavitzkyGolayFilter.cpp:1: In file included from /Library/Frameworks/R.framework/Versions/4.1/Resources/library/RcppEigen/include/RcppEigen.h:25: In file included from /Library/Frameworks/R.framework/Versions/4.1/Resources/library/RcppEigen/include/RcppEigenForward.h:31: In file included from /Library/Frameworks/R.framework/Versions/4.1/Resources/library/RcppEigen/include/Eigen/Sparse:33: In file included from /Library/Frameworks/R.framework/Versions/4.1/Resources/library/RcppEigen/include/Eigen/IterativeLinearSolvers:46: /Library/Frameworks/R.framework/Versions/4.1/Resources/library/RcppEigen/include/Eigen/src/Core/util/ReenableStupidWarnings.h:14:30: warning: pragma diagnostic pop could not pop, no matching push [-Wunknown-pragmas] #pragma clang diagnostic pop ^ In file included from SavitzkyGolayFilter.cpp:1: In file included from /Library/Frameworks/R.framework/Versions/4.1/Resources/library/RcppEigen/include/RcppEigen.h:25: In file included from /Library/Frameworks/R.framework/Versions/4.1/Resources/library/RcppEigen/include/RcppEigenForward.h:32: In file included from /Library/Frameworks/R.framework/Versions/4.1/Resources/library/RcppEigen/include/Eigen/CholmodSupport:45: /Library/Frameworks/R.framework/Versions/4.1/Resources/library/RcppEigen/include/Eigen/src/Core/util/ReenableStupidWarnings.h:14:30: warning: pragma diagnostic pop could not pop, no matching push [-Wunknown-pragmas] #pragma clang diagnostic pop ^ In file included from SavitzkyGolayFilter.cpp:1: In file included from /Library/Frameworks/R.framework/Versions/4.1/Resources/library/RcppEigen/include/RcppEigen.h:25: In file included from /Library/Frameworks/R.framework/Versions/4.1/Resources/library/RcppEigen/include/RcppEigenForward.h:35: In file included from /Library/Frameworks/R.framework/Versions/4.1/Resources/library/RcppEigen/include/unsupported/Eigen/KroneckerProduct:34: /Library/Frameworks/R.framework/Versions/4.1/Resources/library/RcppEigen/include/unsupported/Eigen/../../Eigen/src/Core/util/ReenableStupidWarnings.h:14:30: warning: pragma diagnostic pop could not pop, no matching push [-Wunknown-pragmas] #pragma clang diagnostic pop ^ In file included from SavitzkyGolayFilter.cpp:1: In file included from /Library/Frameworks/R.framework/Versions/4.1/Resources/library/RcppEigen/include/RcppEigen.h:25: In file included from /Library/Frameworks/R.framework/Versions/4.1/Resources/library/RcppEigen/include/RcppEigenForward.h:39: In file included from /Library/Frameworks/R.framework/Versions/4.1/Resources/library/RcppEigen/include/unsupported/Eigen/Polynomials:135: /Library/Frameworks/R.framework/Versions/4.1/Resources/library/RcppEigen/include/unsupported/Eigen/../../Eigen/src/Core/util/ReenableStupidWarnings.h:14:30: warning: pragma diagnostic pop could not pop, no matching push [-Wunknown-pragmas] #pragma clang diagnostic pop ^ In file included from SavitzkyGolayFilter.cpp:1: In file included from /Library/Frameworks/R.framework/Versions/4.1/Resources/library/RcppEigen/include/RcppEigen.h:25: In file included from /Library/Frameworks/R.framework/Versions/4.1/Resources/library/RcppEigen/include/RcppEigenForward.h:40: In file included from /Library/Frameworks/R.framework/Versions/4.1/Resources/library/RcppEigen/include/unsupported/Eigen/SparseExtra:51: /Library/Frameworks/R.framework/Versions/4.1/Resources/library/RcppEigen/include/unsupported/Eigen/../../Eigen/src/Core/util/ReenableStupidWarnings.h:14:30: warning: pragma diagnostic pop could not pop, no matching push [-Wunknown-pragmas] #pragma clang diagnostic pop ^ 18 warnings generated. clang++ -mmacosx-version-min=10.13 -std=gnu++14 -I"/Library/Frameworks/R.framework/Resources/include" -DNDEBUG -I'/Library/Frameworks/R.framework/Versions/4.1/Resources/library/Rcpp/include' -I'/Library/Frameworks/R.framework/Versions/4.1/Resources/library/RcppEigen/include' -I/usr/local/include -fPIC -Wall -g -O2 -c affinealignment.cpp -o affinealignment.o affinealignment.cpp:260:12: warning: enumeration value 'SS' not handled in switch [-Wswitch] switch(TracebackPointer){ ^ affinealignment.cpp:260:12: note: add missing switch cases switch(TracebackPointer){ ^ 1 warning generated. clang++ -mmacosx-version-min=10.13 -std=gnu++14 -I"/Library/Frameworks/R.framework/Resources/include" -DNDEBUG -I'/Library/Frameworks/R.framework/Versions/4.1/Resources/library/Rcpp/include' -I'/Library/Frameworks/R.framework/Versions/4.1/Resources/library/RcppEigen/include' -I/usr/local/include -fPIC -Wall -g -O2 -c affinealignobj.cpp -o affinealignobj.o clang++ -mmacosx-version-min=10.13 -std=gnu++14 -I"/Library/Frameworks/R.framework/Resources/include" -DNDEBUG -I'/Library/Frameworks/R.framework/Versions/4.1/Resources/library/Rcpp/include' -I'/Library/Frameworks/R.framework/Versions/4.1/Resources/library/RcppEigen/include' -I/usr/local/include -fPIC -Wall -g -O2 -c alignment.cpp -o alignment.o alignment.cpp:194:12: warning: 7 enumeration values not handled in switch: 'SS', 'DA', 'DB'... [-Wswitch] switch(TracebackPointer){ ^ alignment.cpp:194:12: note: add missing switch cases switch(TracebackPointer){ ^ 1 warning generated. clang++ -mmacosx-version-min=10.13 -std=gnu++14 -I"/Library/Frameworks/R.framework/Resources/include" -DNDEBUG -I'/Library/Frameworks/R.framework/Versions/4.1/Resources/library/Rcpp/include' -I'/Library/Frameworks/R.framework/Versions/4.1/Resources/library/RcppEigen/include' -I/usr/local/include -fPIC -Wall -g -O2 -c chromSimMatrix.cpp -o chromSimMatrix.o clang++ -mmacosx-version-min=10.13 -std=gnu++14 -I"/Library/Frameworks/R.framework/Resources/include" -DNDEBUG -I'/Library/Frameworks/R.framework/Versions/4.1/Resources/library/Rcpp/include' -I'/Library/Frameworks/R.framework/Versions/4.1/Resources/library/RcppEigen/include' -I/usr/local/include -fPIC -Wall -g -O2 -c constrainMat.cpp -o constrainMat.o clang++ -mmacosx-version-min=10.13 -std=gnu++14 -I"/Library/Frameworks/R.framework/Resources/include" -DNDEBUG -I'/Library/Frameworks/R.framework/Versions/4.1/Resources/library/Rcpp/include' -I'/Library/Frameworks/R.framework/Versions/4.1/Resources/library/RcppEigen/include' -I/usr/local/include -fPIC -Wall -g -O2 -c gapPenalty.cpp -o gapPenalty.o clang++ -mmacosx-version-min=10.13 -std=gnu++14 -I"/Library/Frameworks/R.framework/Resources/include" -DNDEBUG -I'/Library/Frameworks/R.framework/Versions/4.1/Resources/library/Rcpp/include' -I'/Library/Frameworks/R.framework/Versions/4.1/Resources/library/RcppEigen/include' -I/usr/local/include -fPIC -Wall -g -O2 -c integrateArea.cpp -o integrateArea.o clang++ -mmacosx-version-min=10.13 -std=gnu++14 -I"/Library/Frameworks/R.framework/Resources/include" -DNDEBUG -I'/Library/Frameworks/R.framework/Versions/4.1/Resources/library/Rcpp/include' -I'/Library/Frameworks/R.framework/Versions/4.1/Resources/library/RcppEigen/include' -I/usr/local/include -fPIC -Wall -g -O2 -c interface.cpp -o interface.o clang++ -mmacosx-version-min=10.13 -std=gnu++14 -I"/Library/Frameworks/R.framework/Resources/include" -DNDEBUG -I'/Library/Frameworks/R.framework/Versions/4.1/Resources/library/Rcpp/include' -I'/Library/Frameworks/R.framework/Versions/4.1/Resources/library/RcppEigen/include' -I/usr/local/include -fPIC -Wall -g -O2 -c miscell.cpp -o miscell.o miscell.cpp:53:19: warning: unused function 'lessZero' [-Wunused-function] static bool const lessZero(double a){ ^ 1 warning generated. clang++ -mmacosx-version-min=10.13 -std=gnu++14 -I"/Library/Frameworks/R.framework/Resources/include" -DNDEBUG -I'/Library/Frameworks/R.framework/Versions/4.1/Resources/library/Rcpp/include' -I'/Library/Frameworks/R.framework/Versions/4.1/Resources/library/RcppEigen/include' -I/usr/local/include -fPIC -Wall -g -O2 -c run_alignment.cpp -o run_alignment.o clang++ -mmacosx-version-min=10.13 -std=gnu++14 -I"/Library/Frameworks/R.framework/Resources/include" -DNDEBUG -I'/Library/Frameworks/R.framework/Versions/4.1/Resources/library/Rcpp/include' -I'/Library/Frameworks/R.framework/Versions/4.1/Resources/library/RcppEigen/include' -I/usr/local/include -fPIC -Wall -g -O2 -c simpleFcn.cpp -o simpleFcn.o clang++ -mmacosx-version-min=10.13 -std=gnu++14 -I"/Library/Frameworks/R.framework/Resources/include" -DNDEBUG -I'/Library/Frameworks/R.framework/Versions/4.1/Resources/library/Rcpp/include' -I'/Library/Frameworks/R.framework/Versions/4.1/Resources/library/RcppEigen/include' -I/usr/local/include -fPIC -Wall -g -O2 -c spline.cpp -o spline.o clang++ -mmacosx-version-min=10.13 -std=gnu++14 -I"/Library/Frameworks/R.framework/Resources/include" -DNDEBUG -I'/Library/Frameworks/R.framework/Versions/4.1/Resources/library/Rcpp/include' -I'/Library/Frameworks/R.framework/Versions/4.1/Resources/library/RcppEigen/include' -I/usr/local/include -fPIC -Wall -g -O2 -c utils.cpp -o utils.o utils.cpp:48:9: warning: unused variable 'idx' [-Wunused-variable] int idx = n*(1-p); ^ 1 warning generated. clang++ -mmacosx-version-min=10.13 -std=gnu++14 -dynamiclib -Wl,-headerpad_max_install_names -undefined dynamic_lookup -single_module -multiply_defined suppress -L/Library/Frameworks/R.framework/Resources/lib -L/usr/local/lib -o DIAlignR.so ChromatogramPeak.o DPosition.o MSChromatogram.o PeakIntegrator.o RcppExports.o Rmain.o SavitzkyGolayFilter.o affinealignment.o affinealignobj.o alignment.o chromSimMatrix.o constrainMat.o gapPenalty.o integrateArea.o interface.o miscell.o run_alignment.o simpleFcn.o spline.o utils.o -F/Library/Frameworks/R.framework/.. -framework R -Wl,-framework -Wl,CoreFoundation installing to /Library/Frameworks/R.framework/Versions/4.1/Resources/library/00LOCK-DIAlignR/00new/DIAlignR/libs ** R ** data ** inst ** byte-compile and prepare package for lazy loading ** help *** installing help indices ** building package indices ** installing vignettes ** testing if installed package can be loaded from temporary location ** checking absolute paths in shared objects and dynamic libraries ** testing if installed package can be loaded from final location ** testing if installed package keeps a record of temporary installation path * DONE (DIAlignR)
DIAlignR.Rcheck/tests/testthat.Rout.fail
R version 4.1.1 (2021-08-10) -- "Kick Things" Copyright (C) 2021 The R Foundation for Statistical Computing Platform: x86_64-apple-darwin17.0 (64-bit) R is free software and comes with ABSOLUTELY NO WARRANTY. You are welcome to redistribute it under certain conditions. Type 'license()' or 'licence()' for distribution details. R is a collaborative project with many contributors. Type 'contributors()' for more information and 'citation()' on how to cite R or R packages in publications. Type 'demo()' for some demos, 'help()' for on-line help, or 'help.start()' for an HTML browser interface to help. Type 'q()' to quit R. > library(testthat) > library(DIAlignR) > > test_check("DIAlignR") [1] "hroest_K120808_Strep10%PlasmaBiolRepl1_R03_SW_filt" [2] "hroest_K120809_Strep0%PlasmaBiolRepl2_R04_SW_filt" [3] "hroest_K120809_Strep10%PlasmaBiolRepl2_R04_SW_filt" Time difference of 0.06782699 secs Time difference of 0.5107169 secs Time difference of 0.178756 secs Time difference of 0.02968597 secs Time difference of 0.007106066 secs Time difference of 0.1671259 secs Time difference of 1.985278 secs Time difference of 0.03047204 secs Time difference of 0.4637151 secs [1] "hroest_K120808_Strep10%PlasmaBiolRepl1_R03_SW_filt" [2] "hroest_K120809_Strep0%PlasmaBiolRepl2_R04_SW_filt" Time difference of 0.02047086 secs Time difference of 0.321805 secs Time difference of 0.133327 secs Time difference of 0.01566911 secs Time difference of 0.004541874 secs Time difference of 0.08213091 secs Time difference of 1.326182 secs Time difference of 0.01316285 secs Time difference of 0.9933572 secs [1] "hroest_K120808_Strep10%PlasmaBiolRepl1_R03_SW_filt" [2] "hroest_K120809_Strep0%PlasmaBiolRepl2_R04_SW_filt" [3] "hroest_K120809_Strep10%PlasmaBiolRepl2_R04_SW_filt" Time difference of 0.0175879 secs Time difference of 0.3232059 secs Time difference of 0.1214211 secs Time difference of 0.111903 secs Time difference of 0.009333134 secs Time difference of 0.1047928 secs Time difference of 1.781591 secs Time difference of 0.03723192 secs Time difference of 0.33763 secs [1] "hroest_K120809_Strep0%PlasmaBiolRepl2_R04_SW_filt" [2] "hroest_K120809_Strep10%PlasmaBiolRepl2_R04_SW_filt" [1] "PestMix1_8Step1Plasma1SWATH20-50" "PestMix1_8Step8Plasma1SWATH20-50" Time difference of 0.008694172 secs Time difference of 0.04725599 secs Time difference of 0.01424909 secs Time difference of 0.01389599 secs Time difference of 0.005539894 secs Time difference of 0.05074501 secs Time difference of 0.1546161 secs Time difference of 0.008023024 secs Time difference of 0.2544332 secs <simpleWarning in simpleLoess(y, x, w, span, degree = degree, parametric = parametric, drop.square = drop.square, normalize = normalize, statistics = control$statistics, surface = control$surface, cell = control$cell, iterations = iterations, iterTrace = control$iterTrace, trace.hat = control$trace.hat): span too small. fewer data values than degrees of freedom.> <simpleWarning in simpleLoess(y, x, w, span, degree = degree, parametric = parametric, drop.square = drop.square, normalize = normalize, statistics = control$statistics, surface = control$surface, cell = control$cell, iterations = iterations, iterTrace = control$iterTrace, trace.hat = control$trace.hat): span too small. fewer data values than degrees of freedom.> <simpleWarning in sqrt(sum.squares/one.delta): NaNs produced> <simpleError in simpleLoess(y, x, w, span, degree = degree, parametric = parametric, drop.square = drop.square, normalize = normalize, statistics = control$statistics, surface = control$surface, cell = control$cell, iterations = iterations, iterTrace = control$iterTrace, trace.hat = control$trace.hat): span is too small> runName run0 hroest_K120808_Strep10%PlasmaBiolRepl1_R03_SW_filt run1 hroest_K120809_Strep0%PlasmaBiolRepl2_R04_SW_filt run2 hroest_K120809_Strep10%PlasmaBiolRepl2_R04_SW_filt Time difference of 1.50296 secs Time difference of 4.895771 secs Time difference of 0.7145779 secs runName run0 hroest_K120808_Strep10%PlasmaBiolRepl1_R03_SW_filt run1 hroest_K120809_Strep0%PlasmaBiolRepl2_R04_SW_filt run2 hroest_K120809_Strep10%PlasmaBiolRepl2_R04_SW_filt Time difference of 0.1519539 secs [1] "Written /Library/Frameworks/R.framework/Versions/4.1/Resources/library/DIAlignR/extdata/temp_prog1.RData" [1] "Written /Library/Frameworks/R.framework/Versions/4.1/Resources/library/DIAlignR/extdata/temp_0_2.rds" [1] "progTree1 is done." Time difference of 2.067327 secs Time difference of 0.551038 secs [1] "Written /Library/Frameworks/R.framework/Versions/4.1/Resources/library/DIAlignR/extdata/temp_1_2.rds" Time difference of 0.6949391 secs [1] "Written /Library/Frameworks/R.framework/Versions/4.1/Resources/library/DIAlignR/extdata/temp_2_2.rds" Time difference of 0.4118211 secs Time difference of 0.299789 secs [1] "Written /Library/Frameworks/R.framework/Versions/4.1/Resources/library/DIAlignR/extdata/temp_all_2.rds" Time difference of 0.638659 secs Error : Unable to find conda binary. Is Anaconda installed? In addition: Warning message: call dbDisconnect() when finished working with a connection Error : Unable to find conda binary. Is Anaconda installed? Error : Unable to find conda binary. Is Anaconda installed? ══ Skipped tests ═══════════════════════════════════════════════════════════════ • empty test (5) • ropenms not available for testing. A conda environment with name TricEnvr is MUST for testing. (3) ══ Failed tests ════════════════════════════════════════════════════════════════ ── Error (test_merge_order.R:55:3): test_traverseUp ──────────────────────────── Error: Can't join on `x$transition_ids` x `y$transition_ids` because of incompatible types. ℹ `x$transition_ids` is of type <list>>. ℹ `y$transition_ids` is of type <integer>>. Backtrace: █ 1. └─DIAlignR::getChromatogramIndices(fileInfo, precursors, mzPntrs) test_merge_order.R:55:2 2. └─base:::applyFun(...) 3. └─DIAlignR:::FUN(X[[i]], ...) 4. └─DIAlignR:::mapPrecursorToChromIndices(prec2transition, chromHead) 5. ├─dplyr::select(...) 6. ├─dplyr::left_join(prec2transition, chromHead, by = c(transition_ids = "chromatogramId")) 7. └─dplyr:::left_join.data.frame(prec2transition, chromHead, by = c(transition_ids = "chromatogramId")) 8. └─dplyr:::join_mutate(...) 9. └─dplyr:::join_rows(x_key, y_key, type = type, na_equal = na_equal) 10. └─base::tryCatch(...) 11. └─base:::tryCatchList(expr, classes, parentenv, handlers) 12. └─base:::tryCatchOne(expr, names, parentenv, handlers[[1L]]) 13. └─value[[3L]](cond) ── Error (test_merge_order.R:192:3): test_alignToMaster ──────────────────────── Error: Can't join on `x$transition_ids` x `y$transition_ids` because of incompatible types. ℹ `x$transition_ids` is of type <list>>. ℹ `y$transition_ids` is of type <integer>>. Backtrace: █ 1. └─DIAlignR::getChromatogramIndices(fileInfo, precursors, mzPntrs) test_merge_order.R:192:2 2. └─base:::applyFun(...) 3. └─DIAlignR:::FUN(X[[i]], ...) 4. └─DIAlignR:::mapPrecursorToChromIndices(prec2transition, chromHead) 5. ├─dplyr::select(...) 6. ├─dplyr::left_join(prec2transition, chromHead, by = c(transition_ids = "chromatogramId")) 7. └─dplyr:::left_join.data.frame(prec2transition, chromHead, by = c(transition_ids = "chromatogramId")) 8. └─dplyr:::join_mutate(...) 9. └─dplyr:::join_rows(x_key, y_key, type = type, na_equal = na_equal) 10. └─base::tryCatch(...) 11. └─base:::tryCatchList(expr, classes, parentenv, handlers) 12. └─base:::tryCatchOne(expr, names, parentenv, handlers[[1L]]) 13. └─value[[3L]](cond) ── Error (test_merge_runs.R:174:3): test_getChildXICs ────────────────────────── Error: Can't join on `x$transition_ids` x `y$transition_ids` because of incompatible types. ℹ `x$transition_ids` is of type <list>>. ℹ `y$transition_ids` is of type <integer>>. Backtrace: █ 1. └─DIAlignR::getChromatogramIndices(fileInfo, precursors, mzPntrs) test_merge_runs.R:174:2 2. └─base:::applyFun(...) 3. └─DIAlignR:::FUN(X[[i]], ...) 4. └─DIAlignR:::mapPrecursorToChromIndices(prec2transition, chromHead) 5. ├─dplyr::select(...) 6. ├─dplyr::left_join(prec2transition, chromHead, by = c(transition_ids = "chromatogramId")) 7. └─dplyr:::left_join.data.frame(prec2transition, chromHead, by = c(transition_ids = "chromatogramId")) 8. └─dplyr:::join_mutate(...) 9. └─dplyr:::join_rows(x_key, y_key, type = type, na_equal = na_equal) 10. └─base::tryCatch(...) 11. └─base:::tryCatchList(expr, classes, parentenv, handlers) 12. └─base:::tryCatchOne(expr, names, parentenv, handlers[[1L]]) 13. └─value[[3L]](cond) [ FAIL 3 | WARN 0 | SKIP 8 | PASS 474 ] Error: Test failures Execution halted
DIAlignR.Rcheck/DIAlignR-Ex.timings
name | user | system | elapsed | |
addFlankToLeft | 0.004 | 0.000 | 0.005 | |
addFlankToRight | 0.002 | 0.001 | 0.003 | |
addXIC | 0.001 | 0.000 | 0.001 | |
alignChromatogramsCpp | 0.031 | 0.005 | 0.036 | |
alignTargetedRuns | 7.871 | 4.296 | 5.067 | |
alignTargetedRuns2 | 0.001 | 0.000 | 0.000 | |
alignToMaster | 2.566 | 0.086 | 2.653 | |
alignToRef | 0.000 | 0.001 | 0.001 | |
alignedXIC | 0.114 | 0.004 | 0.118 | |
analytesFromFeatures | 0.050 | 0.005 | 0.054 | |
approxFill | 0.001 | 0.000 | 0.001 | |
areaIntegrator | 0.004 | 0.001 | 0.005 | |
blobXICs | 0.002 | 0.002 | 0.004 | |
calculateIntensity | 0.002 | 0.001 | 0.003 | |
checkOverlap | 0 | 0 | 0 | |
checkParams | 0.000 | 0.000 | 0.001 | |
childXIC | 0.136 | 0.002 | 0.139 | |
childXICs | 0.688 | 0.018 | 0.705 | |
constrainSimCpp | 0.001 | 0.001 | 0.002 | |
createMZML | 0.004 | 0.002 | 0.006 | |
createSqMass | 0.003 | 0.001 | 0.004 | |
dialignrLoess | 0.001 | 0.000 | 0.001 | |
doAffineAlignmentCpp | 0.001 | 0.001 | 0.002 | |
doAlignmentCpp | 0.002 | 0.002 | 0.004 | |
extractXIC_group | 1.188 | 0.023 | 1.213 | |
extractXIC_group2 | 0.001 | 0.001 | 0.002 | |
fetchAnalytesInfo | 0.011 | 0.001 | 0.012 | |
fetchFeaturesFromRun | 0.008 | 0.001 | 0.009 | |
fetchPeptidesInfo | 0.010 | 0.002 | 0.011 | |
fetchPeptidesInfo2 | 0.007 | 0.001 | 0.007 | |
fetchPrecursorsInfo | 0.000 | 0.000 | 0.001 | |
fetchTransitionsFromRun | 0.010 | 0.001 | 0.010 | |
filenamesFromMZML | 0.001 | 0.001 | 0.001 | |
filenamesFromOSW | 0.001 | 0.001 | 0.002 | |
getAlignObj | 0.034 | 0.002 | 0.037 | |
getAlignObjs | 1.292 | 0.022 | 1.314 | |
getAlignedFigs | 0.189 | 0.007 | 0.195 | |
getAlignedIndices | 0.014 | 0.002 | 0.016 | |
getAlignedTimes | 0.019 | 0.004 | 0.023 | |
getAlignedTimesCpp | 0.006 | 0.001 | 0.006 | |
getAlignedTimesFast | 0.017 | 0.004 | 0.022 | |
getBaseGapPenaltyCpp | 0 | 0 | 0 | |
getChildFeature | 0.047 | 0.004 | 0.052 | |
getChildXICpp | 0.009 | 0.001 | 0.010 | |
getChildXICs | 0.896 | 0.023 | 0.921 | |
getChromSimMatCpp | 0.003 | 0.004 | 0.007 | |
getChromatogramIndices | 0.131 | 0.003 | 0.133 | |
getFeatures | 0.010 | 0.001 | 0.011 | |
getGlobalAlignMaskCpp | 0.001 | 0.001 | 0.002 | |
getGlobalAlignment | 0.009 | 0.001 | 0.011 | |
getGlobalFits | 0.511 | 0.007 | 0.517 | |
getLOESSfit | 0.004 | 0.001 | 0.005 | |
getLinearfit | 0.004 | 0.001 | 0.005 | |
getMZMLpointers | 0.016 | 0.002 | 0.018 | |
getMappedRT | 0.016 | 0.002 | 0.017 | |
getMultipeptide | 2.029 | 0.042 | 2.073 | |
getNodeIDs | 0.001 | 0.000 | 0.001 | |
getNodeRun | 0.650 | 0.008 | 0.659 | |
getOswAnalytes | 0.008 | 0.001 | 0.009 | |
getOswFiles | 0.010 | 0.002 | 0.011 | |
getPeptideScores | 0.040 | 0.002 | 0.042 | |
getPrecursorByID | 0.019 | 0.001 | 0.020 | |
getPrecursors | 0.024 | 0.002 | 0.026 | |
getRSE | 0.005 | 0.001 | 0.006 | |
getRTdf | 0.018 | 0.001 | 0.019 | |
getRefRun | 0.505 | 0.005 | 0.511 | |
getRunNames | 0.014 | 0.002 | 0.015 | |
getSeqSimMatCpp | 0.000 | 0.001 | 0.001 | |
getTransitions | 0.228 | 0.010 | 0.239 | |
getTree | 0.009 | 0.002 | 0.011 | |
getXICs | 0.136 | 0.005 | 0.141 | |
getXICs4AlignObj | 0.087 | 0.003 | 0.089 | |
get_ropenms | 0 | 0 | 0 | |
imputeChromatogram | 0.022 | 0.002 | 0.023 | |
mapIdxToTime | 0.000 | 0.000 | 0.001 | |
mappedRTfromAlignObj | 0.004 | 0.001 | 0.005 | |
mergeXIC | 0.003 | 0.001 | 0.004 | |
nrDesc | 0.001 | 0.001 | 0.001 | |
otherChildXICpp | 0.010 | 0.002 | 0.012 | |
paramsDIAlignR | 0 | 0 | 0 | |
perBatch | 0.001 | 0.000 | 0.001 | |
pickNearestFeature | 0.004 | 0.001 | 0.006 | |
plotAlignedAnalytes | 0.614 | 0.008 | 0.623 | |
plotAlignmentPath | 0.445 | 0.024 | 0.468 | |
plotAnalyteXICs | 0.516 | 0.021 | 0.544 | |
plotXICgroup | 0.460 | 0.012 | 0.475 | |
progAlignRuns | 0.001 | 0.000 | 0.001 | |
progAlignRuns2 | 0.000 | 0.001 | 0.000 | |
readMzMLHeader | 0.001 | 0.000 | 0.001 | |
readSqMassHeader | 0.001 | 0.000 | 0.001 | |
recalculateIntensity | 0.106 | 0.002 | 0.108 | |
script1 | 1.199 | 2.253 | 1.420 | |
script2 | 4.277 | 2.587 | 4.693 | |
setAlignmentRank | 0.015 | 0.001 | 0.016 | |
sgolayCpp | 0.003 | 0.000 | 0.003 | |
sgolayFill | 0.001 | 0.000 | 0.001 | |
smoothSingleXIC | 0.002 | 0.001 | 0.003 | |
smoothXICs | 0.013 | 0.001 | 0.014 | |
splineFill | 0.001 | 0.001 | 0.001 | |
splineFillCpp | 0.003 | 0.000 | 0.004 | |
traverseDown | 2.175 | 0.026 | 2.202 | |
traverseUp | 2.192 | 0.028 | 2.223 | |
trfrParentFeature | 0.038 | 0.003 | 0.041 | |
trimXICs | 0.002 | 0.000 | 0.003 | |
uncompressVec | 0.004 | 0.000 | 0.004 | |
updateFileInfo | 0.008 | 0.001 | 0.009 | |
writeTables | 0.003 | 0.001 | 0.004 | |