Back to Multiple platform build/check report for BioC 3.13 |
|
This page was generated on 2021-10-15 15:06:01 -0400 (Fri, 15 Oct 2021).
To the developers/maintainers of the CrossICC package: - Please allow up to 24 hours (and sometimes 48 hours) for your latest push to git@git.bioconductor.org:packages/CrossICC.git to reflect on this report. See How and When does the builder pull? When will my changes propagate? here for more information. - Make sure to use the following settings in order to reproduce any error or warning you see on this page. |
Package 413/2041 | Hostname | OS / Arch | INSTALL | BUILD | CHECK | BUILD BIN | ||||||||
Yu Sun
| nebbiolo1 | Linux (Ubuntu 20.04.2 LTS) / x86_64 | ERROR | ERROR | skipped | |||||||||
tokay2 | Windows Server 2012 R2 Standard / x64 | ERROR | ERROR | skipped | skipped | |||||||||
machv2 | macOS 10.14.6 Mojave / x86_64 | ERROR | ERROR | skipped | skipped | |||||||||
Package: CrossICC |
Version: 1.6.0 |
Command: chmod a+r CrossICC -R && C:\Users\biocbuild\bbs-3.13-bioc\R\bin\R.exe CMD build --keep-empty-dirs --no-resave-data CrossICC |
StartedAt: 2021-10-14 13:07:35 -0400 (Thu, 14 Oct 2021) |
EndedAt: 2021-10-14 13:07:37 -0400 (Thu, 14 Oct 2021) |
EllapsedTime: 2.0 seconds |
RetCode: 1 |
Status: ERROR |
PackageFile: CrossICC_1.6.0.tar.gz |
PackageFileSize: 2.061 MiB |
############################################################################## ############################################################################## ### ### Running command: ### ### chmod a+r CrossICC -R && C:\Users\biocbuild\bbs-3.13-bioc\R\bin\R.exe CMD build --keep-empty-dirs --no-resave-data CrossICC ### ############################################################################## ############################################################################## * checking for file 'CrossICC/DESCRIPTION' ... OK * preparing 'CrossICC': * checking DESCRIPTION meta-information ... OK * installing the package to build vignettes ----------------------------------- ERROR: dependency 'MergeMaid' is not available for package 'CrossICC' * removing 'C:/Users/biocbuild/bbs-3.13-bioc/tmpdir/RtmpCidsWb/Rinst19a8197346ff/CrossICC' ----------------------------------- ERROR: package installation failed