Back to Multiple platform build/check report for BioC 3.12 |
|
This page was generated on 2021-05-06 12:36:55 -0400 (Thu, 06 May 2021).
To the developers/maintainers of the spikeLI package: Please make sure to use the following settings in order to reproduce any error or warning you see on this page. |
Package 1770/1974 | Hostname | OS / Arch | INSTALL | BUILD | CHECK | BUILD BIN | ||||||||
spikeLI 2.50.0 (landing page) Enrico Carlon
| malbec1 | Linux (Ubuntu 18.04.5 LTS) / x86_64 | OK | OK | OK | |||||||||
tokay1 | Windows Server 2012 R2 Standard / x64 | OK | OK | OK | OK | |||||||||
merida1 | macOS 10.14.6 Mojave / x86_64 | OK | OK | OK | OK | |||||||||
Package: spikeLI |
Version: 2.50.0 |
Command: rm -rf spikeLI.buildbin-libdir && mkdir spikeLI.buildbin-libdir && /Users/biocbuild/BBS/utils/build-universal.sh spikeLI_2.50.0.tar.gz /Library/Frameworks/R.framework/Versions/Current/Resources/bin/R spikeLI.buildbin-libdir |
StartedAt: 2021-05-06 10:06:16 -0400 (Thu, 06 May 2021) |
EndedAt: 2021-05-06 10:07:20 -0400 (Thu, 06 May 2021) |
EllapsedTime: 64.1 seconds |
RetCode: 0 |
Status: OK |
PackageFile: spikeLI_2.50.0.tgz |
PackageFileSize: 325.9 KiB |
############################################################################## ############################################################################## ### ### Running command: ### ### rm -rf spikeLI.buildbin-libdir && mkdir spikeLI.buildbin-libdir && /Users/biocbuild/BBS/utils/build-universal.sh spikeLI_2.50.0.tar.gz /Library/Frameworks/R.framework/Versions/Current/Resources/bin/R spikeLI.buildbin-libdir ### ############################################################################## ############################################################################## >>>>>>> >>>>>>> INSTALLATION WITH 'R CMD INSTALL --preclean --no-multiarch --library=spikeLI.buildbin-libdir spikeLI_2.50.0.tar.gz' >>>>>>> * installing *source* package ‘spikeLI’ ... ** using staged installation ** R ** data ** demo ** inst ** byte-compile and prepare package for lazy loading ** help *** installing help indices ** building package indices ** installing vignettes ** testing if installed package can be loaded from temporary location ** testing if installed package can be loaded from final location ** testing if installed package keeps a record of temporary installation path * DONE (spikeLI)