Back to Multiple platform build/check report for BioC 3.12 |
|
This page was generated on 2021-05-06 12:31:38 -0400 (Thu, 06 May 2021).
To the developers/maintainers of the gQTLstats package: Please make sure to use the following settings in order to reproduce any error or warning you see on this page. |
Package 777/1974 | Hostname | OS / Arch | INSTALL | BUILD | CHECK | BUILD BIN | ||||||||
VJ Carey
| malbec1 | Linux (Ubuntu 18.04.5 LTS) / x86_64 | ERROR | ERROR | skipped | |||||||||
tokay1 | Windows Server 2012 R2 Standard / x64 | ERROR | ERROR | skipped | skipped | |||||||||
merida1 | macOS 10.14.6 Mojave / x86_64 | ERROR | ERROR | skipped | skipped | |||||||||
Package: gQTLstats |
Version: 1.22.0 |
Command: C:\cygwin\bin\curl.exe -O http://172.29.0.3/BBS/3.12/bioc/src/contrib/gQTLstats_1.22.0.tar.gz && rm -rf gQTLstats.buildbin-libdir && mkdir gQTLstats.buildbin-libdir && C:\Users\biocbuild\bbs-3.12-bioc\R\bin\R.exe CMD INSTALL --merge-multiarch --build --library=gQTLstats.buildbin-libdir gQTLstats_1.22.0.tar.gz && C:\Users\biocbuild\bbs-3.12-bioc\R\bin\R.exe CMD INSTALL gQTLstats_1.22.0.zip && rm gQTLstats_1.22.0.tar.gz gQTLstats_1.22.0.zip |
StartedAt: 2021-05-05 18:47:23 -0400 (Wed, 05 May 2021) |
EndedAt: 2021-05-05 18:47:34 -0400 (Wed, 05 May 2021) |
EllapsedTime: 10.8 seconds |
RetCode: 1 |
Status: ERROR |
############################################################################## ############################################################################## ### ### Running command: ### ### C:\cygwin\bin\curl.exe -O http://172.29.0.3/BBS/3.12/bioc/src/contrib/gQTLstats_1.22.0.tar.gz && rm -rf gQTLstats.buildbin-libdir && mkdir gQTLstats.buildbin-libdir && C:\Users\biocbuild\bbs-3.12-bioc\R\bin\R.exe CMD INSTALL --merge-multiarch --build --library=gQTLstats.buildbin-libdir gQTLstats_1.22.0.tar.gz && C:\Users\biocbuild\bbs-3.12-bioc\R\bin\R.exe CMD INSTALL gQTLstats_1.22.0.zip && rm gQTLstats_1.22.0.tar.gz gQTLstats_1.22.0.zip ### ############################################################################## ############################################################################## % Total % Received % Xferd Average Speed Time Time Time Current Dload Upload Total Spent Left Speed 0 0 0 0 0 0 0 0 --:--:-- --:--:-- --:--:-- 0 100 62.6M 100 62.6M 0 0 107M 0 --:--:-- --:--:-- --:--:-- 107M install for i386 ERROR: dependency 'gQTLBase' is not available for package 'gQTLstats' * removing 'C:/Users/biocbuild/bbs-3.12-bioc/meat/gQTLstats.buildbin-libdir/gQTLstats'