XDE 1.99.2 Robert Scharpf
Snapshot Date: 2011-07-06 19:21:50 -0700 (Wed, 06 Jul 2011) | URL: https://hedgehog.fhcrc.org/bioconductor/trunk/madman/Rpacks/XDE | Last Changed Rev: 55617 / Revision: 56603 | Last Changed Date: 2011-05-15 19:28:21 -0700 (Sun, 15 May 2011) |
| wilson2 | Linux (openSUSE 11.4) / x86_64 | [ ERROR ] | skipped | |
liverpool | Windows Server 2003 R2 (32-bit) / x64 | ERROR | skipped | skipped |
gewurz | Windows Server 2008 R2 Enterprise (64-bit) / x64 | ERROR | skipped | skipped |
moscato1 | Windows Server 2008 R2 Enterprise (64-bit) / x64 | ERROR | skipped | skipped |
pitt | Mac OS X Leopard (10.5.8) / i386 | ERROR | skipped | skipped |
* checking for file ‘XDE/DESCRIPTION’ ... OK
* preparing ‘XDE’:
* checking DESCRIPTION meta-information ... OK
* cleaning src
* installing the package to re-build vignettes
-----------------------------------
* installing *source* package ‘XDE’ ...
** libs
** arch -
touch Potential_v2.h
touch Update_v2.h
/usr/bin/g++ -I. -O3 -c mainTest_v2.cpp
/usr/bin/g++ -I. -O3 -c Random.cpp
/usr/bin/g++ -I. -O3 -c Cholesky.cpp
/usr/bin/g++ -I. -O3 -c Matrix.cpp
/usr/bin/g++ -I. -O3 -o ./xdeTest mainTest_v2.cpp \
Random.o Cholesky.o Matrix.o -lm
R CMD SHLIB -o Rinterface_v2.so Rinterface_v2.cpp
make: R: Command not found
make: *** [Rinterface_v2.o] Error 127
ERROR: compilation failed for package ‘XDE’
* removing ‘/tmp/Rtmpw0gXcD/Rinst12c19e19/XDE’
-----------------------------------
ERROR: package installation failed