flowViz 1.3.4 Florian Hahne
Snapshot Date: 2008-04-09 00:13:10 -0700 (Wed, 09 Apr 2008) | URL: https://hedgehog.fhcrc.org/bioconductor/trunk/madman/Rpacks/flowViz | Last Changed Rev: 30792 / Revision: 30951 | Last Changed Date: 2008-04-01 18:50:29 -0700 (Tue, 01 Apr 2008) |
| lamb1 | Linux (SUSE 10.1) / x86_64 | OK | WARNINGS | |
wilson2 | Linux (openSUSE 10.3) / x86_64 | OK | WARNINGS | |
wellington | Linux (openSUSE 10.3) / i686 | OK | WARNINGS | |
liverpool | Windows Server 2003 R2 (32-bit) / x64 | OK | WARNINGS | [ OK ] |
pelham | Mac OS X Leopard (10.5.1) / i386 | OK | WARNINGS | OK |
installing R.css in E:/biocbld/bbs-2.2-bioc/meat/flowViz.buildbin-libdir
Using auto-selected zip options ''
---------- Making package flowViz ------------
adding build stamp to DESCRIPTION
installing NAMESPACE file and metadata
installing R files
installing inst files
preparing package flowViz for lazy loading
Loading required package: flowCore
Loading required package: Biobase
Loading required package: tools
Welcome to Bioconductor
Vignettes contain introductory material. To view, type
'openVignette()'. To cite Bioconductor, see
'citation("Biobase")' and for packages 'citation(pkgname)'.
Loading required package: rrcov
Loading required package: robustbase
Attaching package: 'rrcov'
The following object(s) are masked from package:stats :
biplot,
predict,
screeplot
Loading required package: feature
Loading required package: KernSmooth
KernSmooth 2.22 installed
Copyright M. P. Wand 1997
Loading required package: misc3d
Loading required package: rgl
Attaching package: 'flowCore'
The following object(s) are masked from package:Biobase :
description
The following object(s) are masked from package:stats :
filter
Loading required package: geneplotter
Loading required package: annotate
Loading required package: AnnotationDbi
Loading required package: DBI
Loading required package: RSQLite
Loading required package: xtable
Loading required package: lattice
Loading required package: MASS
Loading required package: RColorBrewer
Creating a new generic function for "ecdfplot" in "flowViz"
Creating a new generic function for "densityplot" in "flowViz"
Creating a new generic function for "levelplot" in "flowViz"
Creating a new generic function for "qqmath" in "flowViz"
Creating a new generic function for "splom" in "flowViz"
Creating a new generic function for "parallel" in "flowViz"
Creating a new generic function for "xyplot" in "flowViz"
installing man source files
installing indices
installing help
>>> Building/Updating help pages for package 'flowViz'
Formats: text html latex example chm
ecdfplot text html latex example chm
flowPlot text html latex example chm
flowViz-package text html latex example chm
latticeMethods-flowSet text html latex example chm
timeLinePlot text html latex example chm
xyplot text html latex example chm
Microsoft HTML Help Compiler 4.74.8702
Compiling e:\biocbld\bbs-2.2-bioc\meat\R.INSTALL.2384\flowViz\chm\flowViz.chm
Compile time: 0 minutes, 3 seconds
7 Topics
34 Local links
0 Internet links
1 Graphic
Created e:\biocbld\bbs-2.2-bioc\meat\R.INSTALL.2384\flowViz\chm\flowViz.chm, 32,128 bytes
Compression decreased file by 16,867 bytes.
adding MD5 sums
packaged installation of package 'flowViz' as flowViz_1.3.4.zip
* DONE (flowViz)