Repitools 1.6.0 Mark Robinson
Snapshot Date: 2013-10-08 17:00:48 -0700 (Tue, 08 Oct 2013) | URL: https://hedgehog.fhcrc.org/bioconductor/branches/RELEASE_2_12/madman/Rpacks/Repitools | Last Changed Rev: 75263 / Revision: 81334 | Last Changed Date: 2013-04-03 14:32:27 -0700 (Wed, 03 Apr 2013) |
| george2 | Linux (Ubuntu 12.04.1 LTS) / x86_64 | OK | OK | |
moscato2 | Windows Server 2008 R2 Enterprise SP1 (64-bit) / x64 | OK | OK | [ OK ] |
petty | Mac OS X Snow Leopard (10.6.8) / x86_64 | OK | OK | OK |
install for i386
* installing *source* package 'Repitools' ...
** libs
gcc -m32 -I"E:/biocbld/BBS-2˜1.12-/R/include" -DNDEBUG -I"d:/RCompile/CRANpkg/extralibs64/local/include" -D R_NO_REMAP -I. -O3 -Wall -std=gnu99 -mtune=core2 -c const.c -o const.o
gcc -m32 -I"E:/biocbld/BBS-2˜1.12-/R/include" -DNDEBUG -I"d:/RCompile/CRANpkg/extralibs64/local/include" -D R_NO_REMAP -I. -O3 -Wall -std=gnu99 -mtune=core2 -c hyp2f1.c -o hyp2f1.o
gcc -m32 -I"E:/biocbld/BBS-2˜1.12-/R/include" -DNDEBUG -I"d:/RCompile/CRANpkg/extralibs64/local/include" -D R_NO_REMAP -I. -O3 -Wall -std=gnu99 -mtune=core2 -c mtherr.c -o mtherr.o
In file included from mtherr.c:58:0:
./mconf.h:100:0: warning: "DOMAIN" redefined [enabled by default]
c:\rtools31\gcc-4.6.3\bin\../lib/gcc/i686-w64-mingw32/4.6.3/../../../../i686-w64-mingw32/include/math.h:29:0: note: this is the location of the previous definition
./mconf.h:101:0: warning: "SING" redefined [enabled by default]
c:\rtools31\gcc-4.6.3\bin\../lib/gcc/i686-w64-mingw32/4.6.3/../../../../i686-w64-mingw32/include/math.h:30:0: note: this is the location of the previous definition
./mconf.h:102:0: warning: "OVERFLOW" redefined [enabled by default]
c:\rtools31\gcc-4.6.3\bin\../lib/gcc/i686-w64-mingw32/4.6.3/../../../../i686-w64-mingw32/include/math.h:31:0: note: this is the location of the previous definition
./mconf.h:103:0: warning: "UNDERFLOW" redefined [enabled by default]
c:\rtools31\gcc-4.6.3\bin\../lib/gcc/i686-w64-mingw32/4.6.3/../../../../i686-w64-mingw32/include/math.h:32:0: note: this is the location of the previous definition
./mconf.h:104:0: warning: "TLOSS" redefined [enabled by default]
c:\rtools31\gcc-4.6.3\bin\../lib/gcc/i686-w64-mingw32/4.6.3/../../../../i686-w64-mingw32/include/math.h:33:0: note: this is the location of the previous definition
./mconf.h:105:0: warning: "PLOSS" redefined [enabled by default]
c:\rtools31\gcc-4.6.3\bin\../lib/gcc/i686-w64-mingw32/4.6.3/../../../../i686-w64-mingw32/include/math.h:34:0: note: this is the location of the previous definition
gcc -m32 -shared -s -static-libgcc -o Repitools.dll tmp.def const.o hyp2f1.o mtherr.o -Ld:/RCompile/CRANpkg/extralibs64/local/lib/i386 -Ld:/RCompile/CRANpkg/extralibs64/local/lib -LE:/biocbld/BBS-2˜1.12-/R/bin/i386 -lR
installing to E:/biocbld/bbs-2.12-bioc/meat/Repitools.buildbin-libdir/Repitools/libs/i386
** R
** data
** inst
** preparing package for lazy loading
Creating a new generic function for 'windows' in package 'Repitools'
in method for '.featureScores' with signature '"AffymetrixCelSet","GRanges"': no definition for class "AffymetrixCelSet"
in method for 'regionStats' with signature '"AffymetrixCelSet"': no definition for class "AffymetrixCelSet"
in method for 'writeWig' with signature '"AffymetrixCelSet"': no definition for class "AffymetrixCelSet"
in method for 'cpgBoxplots' with signature '"AffymetrixCelSet"': no definition for class "AffymetrixCelSet"
in method for '.blocksStats' with signature '"AffymetrixCelSet","GRanges"': no definition for class "AffymetrixCelSet"
** help
*** installing help indices
** building package indices
** installing vignettes
** testing if installed package can be loaded
install for x64
* installing *source* package 'Repitools' ...
** libs
gcc -m64 -I"E:/biocbld/BBS-2˜1.12-/R/include" -DNDEBUG -I"d:/RCompile/CRANpkg/extralibs64/local/include" -D R_NO_REMAP -I. -O2 -Wall -std=gnu99 -mtune=core2 -c const.c -o const.o
gcc -m64 -I"E:/biocbld/BBS-2˜1.12-/R/include" -DNDEBUG -I"d:/RCompile/CRANpkg/extralibs64/local/include" -D R_NO_REMAP -I. -O2 -Wall -std=gnu99 -mtune=core2 -c hyp2f1.c -o hyp2f1.o
gcc -m64 -I"E:/biocbld/BBS-2˜1.12-/R/include" -DNDEBUG -I"d:/RCompile/CRANpkg/extralibs64/local/include" -D R_NO_REMAP -I. -O2 -Wall -std=gnu99 -mtune=core2 -c mtherr.c -o mtherr.o
In file included from mtherr.c:58:0:
./mconf.h:100:0: warning: "DOMAIN" redefined [enabled by default]
c:\rtools31\gcc-4.6.3\bin\../lib/gcc/i686-w64-mingw32/4.6.3/../../../../i686-w64-mingw32/include/math.h:29:0: note: this is the location of the previous definition
./mconf.h:101:0: warning: "SING" redefined [enabled by default]
c:\rtools31\gcc-4.6.3\bin\../lib/gcc/i686-w64-mingw32/4.6.3/../../../../i686-w64-mingw32/include/math.h:30:0: note: this is the location of the previous definition
./mconf.h:102:0: warning: "OVERFLOW" redefined [enabled by default]
c:\rtools31\gcc-4.6.3\bin\../lib/gcc/i686-w64-mingw32/4.6.3/../../../../i686-w64-mingw32/include/math.h:31:0: note: this is the location of the previous definition
./mconf.h:103:0: warning: "UNDERFLOW" redefined [enabled by default]
c:\rtools31\gcc-4.6.3\bin\../lib/gcc/i686-w64-mingw32/4.6.3/../../../../i686-w64-mingw32/include/math.h:32:0: note: this is the location of the previous definition
./mconf.h:104:0: warning: "TLOSS" redefined [enabled by default]
c:\rtools31\gcc-4.6.3\bin\../lib/gcc/i686-w64-mingw32/4.6.3/../../../../i686-w64-mingw32/include/math.h:33:0: note: this is the location of the previous definition
./mconf.h:105:0: warning: "PLOSS" redefined [enabled by default]
c:\rtools31\gcc-4.6.3\bin\../lib/gcc/i686-w64-mingw32/4.6.3/../../../../i686-w64-mingw32/include/math.h:34:0: note: this is the location of the previous definition
gcc -m64 -shared -s -static-libgcc -o Repitools.dll tmp.def const.o hyp2f1.o mtherr.o -Ld:/RCompile/CRANpkg/extralibs64/local/lib/x64 -Ld:/RCompile/CRANpkg/extralibs64/local/lib -LE:/biocbld/BBS-2˜1.12-/R/bin/x64 -lR
installing to E:/biocbld/bbs-2.12-bioc/meat/Repitools.buildbin-libdir/Repitools/libs/x64
** testing if installed package can be loaded
* MD5 sums
packaged installation of 'Repitools' as Repitools_1.6.0.zip
* DONE (Repitools)