LiebermanAidenHiC2009 0.1.13 Felix Klein
Snapshot Date: 2013-03-24 09:15:27 -0700 (Sun, 24 Mar 2013) | URL: https://hedgehog.fhcrc.org/bioc-data/trunk/experiment/pkgs/LiebermanAidenHiC2009 | Last Changed Rev: 2168 / Revision: 2286 | Last Changed Date: 2012-10-01 10:57:19 -0700 (Mon, 01 Oct 2012) |
| lamb1 | Linux (openSUSE 12.1) / x86_64 | OK | WARNINGS | |
moscato1 | Windows Server 2008 R2 Enterprise SP1 (64-bit) / x64 | OK | WARNINGS | OK |
perceval | Mac OS X Leopard (10.5.8) / i386 | OK | WARNINGS | [ OK ] |
>>>>>>>
>>>>>>> INSTALLATION WITH 'R CMD INSTALL --preclean --no-multiarch --library=LiebermanAidenHiC2009.buildbin-libdir LiebermanAidenHiC2009_0.1.13.tar.gz'
>>>>>>>
* installing *source* package 'LiebermanAidenHiC2009' ...
** data
** inst
** help
No man pages found in package 'LiebermanAidenHiC2009'
*** installing help indices
** building package indices
** installing vignettes
'LiebermanAidenHiC2009.Rnw'
** testing if installed package can be loaded
* DONE (LiebermanAidenHiC2009)