Index of /checkResults/release/workflows-LATEST/variants/raw-results/palomino3
Name
Last modified
Size
Description
Parent Directory
-
install-summary.dcf
29-Jun-2024 05:30
270
buildsrc-summary.dcf
29-Jun-2024 05:30
456
buildsrc-out.txt
29-Jun-2024 05:30
916
install-out.txt
29-Jun-2024 05:30
949