Index of /checkResults/release/workflows-LATEST/variants/raw-results/nebbiolo1
Name
Last modified
Size
Description
Parent Directory
-
buildsrc-out.txt
10-Jul-2024 05:30
884
buildsrc-summary.dcf
10-Jul-2024 05:30
419
install-out.txt
10-Jul-2024 05:30
944
install-summary.dcf
10-Jul-2024 05:30
261