Index of /checkResults/release/workflows-LATEST/variants/raw-results/lconway
Name
Last modified
Size
Description
Parent Directory
-
install-summary.dcf
12-Jun-2024 05:30
271
buildsrc-summary.dcf
12-Jun-2024 05:30
429
buildsrc-out.txt
12-Jun-2024 05:30
894
install-out.txt
12-Jun-2024 05:30
1.0K