Index of /checkResults/release/workflows-LATEST/spicyWorkflow/raw-results/palomino7
Name
Last modified
Size
Description
Parent Directory
-
buildsrc-out.txt
10-Jul-2024 05:30
1.2K
install-summary.dcf
10-Jul-2024 05:30
279
install-out.txt
10-Jul-2024 05:30
969
buildsrc-summary.dcf
10-Jul-2024 05:30
387