Index of /checkResults/release/workflows-LATEST/spicyWorkflow/raw-results/palomino3
Name
Last modified
Size
Description
Parent Directory
-
install-summary.dcf
29-Jun-2024 05:30
279
install-out.txt
29-Jun-2024 05:30
969
buildsrc-summary.dcf
29-Jun-2024 05:30
387
buildsrc-out.txt
29-Jun-2024 05:30
1.2K