Index of /checkResults/release/workflows-LATEST/spicyWorkflow/raw-results/lconway
Name
Last modified
Size
Description
Parent Directory
-
install-out.txt
12-Jun-2024 05:30
1.0K
buildsrc-summary.dcf
12-Jun-2024 05:30
354
buildsrc-out.txt
12-Jun-2024 05:30
1.1K
install-summary.dcf
12-Jun-2024 05:30
279