Index of /checkResults/release/workflows-LATEST/sequencing/raw-results/palomino7
Name
Last modified
Size
Description
Parent Directory
-
install-summary.dcf
10-Jul-2024 05:30
274
install-out.txt
10-Jul-2024 05:30
948
buildsrc-summary.dcf
10-Jul-2024 05:30
377
buildsrc-out.txt
10-Jul-2024 05:30
1.1K