Index of /checkResults/release/workflows-LATEST/sequencing/raw-results/palomino3
Name
Last modified
Size
Description
Parent Directory
-
buildsrc-summary.dcf
29-Jun-2024 05:30
465
buildsrc-out.txt
29-Jun-2024 05:30
926
install-summary.dcf
29-Jun-2024 05:30
274
install-out.txt
29-Jun-2024 05:30
948