Index of /checkResults/release/workflows-LATEST/sequencing/raw-results/nebbiolo1
Name
Last modified
Size
Description
Parent Directory
-
install-out.txt
10-Jul-2024 05:30
944
buildsrc-out.txt
10-Jul-2024 05:30
892
buildsrc-summary.dcf
10-Jul-2024 05:30
426
install-summary.dcf
10-Jul-2024 05:30
265