Index of /checkResults/release/workflows-LATEST/sequencing/raw-results/merida1
Name
Last modified
Size
Description
Parent Directory
-
install-out.txt
10-Jul-2024 05:30
1.0K
buildsrc-out.txt
10-Jul-2024 05:30
902
buildsrc-summary.dcf
10-Jul-2024 05:30
436
install-summary.dcf
10-Jul-2024 05:30
275