Index of /checkResults/release/workflows-LATEST/rnaseqDTU/raw-results/nebbiolo1
Name
Last modified
Size
Description
Parent Directory
-
install-out.txt
10-Jul-2024 05:30
1.0K
buildsrc-out.txt
10-Jul-2024 05:30
814
buildsrc-summary.dcf
10-Jul-2024 05:30
424
install-summary.dcf
10-Jul-2024 05:30
263