Index of /checkResults/release/workflows-LATEST/recountWorkflow/raw-results/palomino7
Name
Last modified
Size
Description
Parent Directory
-
install-summary.dcf
10-Jul-2024 05:30
284
buildsrc-summary.dcf
10-Jul-2024 05:30
485
buildsrc-out.txt
10-Jul-2024 05:30
879
install-out.txt
10-Jul-2024 05:30
1.0K